BEGIN:VCALENDAR
VERSION:2.0
PRODID:IEEE vTools.Events//EN
CALSCALE:GREGORIAN
BEGIN:VTIMEZONE
TZID:US/Mountain
BEGIN:DAYLIGHT
DTSTART:20150308T030000
TZOFFSETFROM:-0700
TZOFFSETTO:-0600
RRULE:FREQ=YEARLY;BYDAY=2SU;BYMONTH=3
TZNAME:MDT
END:DAYLIGHT
BEGIN:STANDARD
DTSTART:20151101T010000
TZOFFSETFROM:-0600
TZOFFSETTO:-0700
RRULE:FREQ=YEARLY;BYDAY=1SU;BYMONTH=11
TZNAME:MST
END:STANDARD
END:VTIMEZONE
BEGIN:VEVENT
DTSTAMP:20151023T151147Z
UID:F1D5E249-E5B6-11E7-833E-0050568D7F66
DTSTART;TZID=US/Mountain:20150428T180000
DTEND;TZID=US/Mountain:20150428T193000
DESCRIPTION:Introduction of who we are\, where we work and why we joined th
 e Power &amp; Energy Society\nWe discussed the areas of interest in energy:\n
 • Tours:\no Wind Energy - grid integration\, recovery time\no Steel Mill
  in Pueblo\no Solar Garden\nï‚§ We want to see a panel dissembled!\n
 • Technical programs and presentations by members and others in the comm
 unity\no What people are doing in their jobs\n• New technologies\no 3D P
 rinters – Library 21C\nWe discussed challenges in energy:\n• Getting y
 oung people interested in energy\no Keeping infrastructure going\no Shadow
 ing opportunities\no Mentoring\n• Engineers in public policy\no Where do
  we fit? When/How do we speak?\no What does a balanced energy portfolio lo
 ok like?\n• What do non-renewables really cost?\n• Design/Engineering 
 best practices\, how are we capturing this information?\n• New technolog
 ies\no How they’re being used and their feasibility\nWe discussed gainin
 g more interest in PES from others in energy:\n• Bringing in non-members
 \n• How we advertise and where\n• Panel discussions\no One idea have a
  challenges-in-integration\, Codes discussion between:\nï‚§ a solar in
 staller/designer\nï‚§ electrician\nï‚§ Utility Rep (Transmission O
 perator)\nï‚§ Electrical Inspector\n• Keeping the group viable with 
 at least two technical presentations this year\nLEADERS:\nChair Martíne-D
 enise Long\nVice Chair Marlene Hebner\nTreasurer David Atwood\nSecretary V
 ACANT\nProfessional Activities VACANT\nStudent Activities VACANT\n\nColora
 do Springs\, Colorado\, United States
LOCATION:Colorado Springs\, Colorado\, United States
ORGANIZER:
SEQUENCE:0
SUMMARY:[Legacy Report] 2015 Kick-off Meeting
URL;VALUE=URI:https://events.vtools.ieee.org/m/121802
X-ALT-DESC:Description: &lt;br /&gt;&lt;p&gt;Introduction of who we are\, where we work
  and why we joined the Power &amp;amp\; Energy Society&lt;br /&gt;We discussed the a
 reas of interest in energy:&lt;br /&gt;&amp;bull\; Tours:&lt;br /&gt;o Wind Energy - grid 
 integration\, recovery time&lt;br /&gt;o Steel Mill in Pueblo&lt;br /&gt;o Solar Garde
 n&lt;br /&gt;ï‚§ We want to see a panel dissembled!&lt;br /&gt;&amp;bull\; Technical p
 rograms and presentations by members and others in the community&lt;br /&gt;o Wh
 at people are doing in their jobs&lt;br /&gt;&amp;bull\; New technologies&lt;br /&gt;o 3D 
 Printers &amp;ndash\; Library 21C&lt;br /&gt;We discussed challenges in energy:&lt;br /
 &gt;&amp;bull\; Getting young people interested in energy&lt;br /&gt;o Keeping infrastr
 ucture going&lt;br /&gt;o Shadowing opportunities&lt;br /&gt;o Mentoring&lt;br /&gt;&amp;bull\; 
 Engineers in public policy&lt;br /&gt;o Where do we fit? When/How do we speak?&lt;b
 r /&gt;o What does a balanced energy portfolio look like?&lt;br /&gt;&amp;bull\; What d
 o non-renewables really cost?&lt;br /&gt;&amp;bull\; Design/Engineering best practic
 es\, how are we capturing this information?&lt;br /&gt;&amp;bull\; New technologies&lt;
 br /&gt;o How they&amp;rsquo\;re being used and their feasibility&lt;br /&gt;We discuss
 ed gaining more interest in PES from others in energy:&lt;br /&gt;&amp;bull\; Bringi
 ng in non-members&lt;br /&gt;&amp;bull\; How we advertise and where&lt;br /&gt;&amp;bull\; Pan
 el discussions&lt;br /&gt;o One idea have a challenges-in-integration\, Codes di
 scussion between:&lt;br /&gt;ï‚§ a solar installer/designer&lt;br /&gt;ï‚§ ele
 ctrician&lt;br /&gt;ï‚§ Utility Rep (Transmission Operator)&lt;br /&gt;ï‚§ Ele
 ctrical Inspector&lt;br /&gt;&amp;bull\; Keeping the group viable with at least two 
 technical presentations this year&lt;br /&gt;LEADERS:&lt;br /&gt;Chair Mart&amp;iacute\;ne
 -Denise Long&lt;br /&gt;Vice Chair Marlene Hebner&lt;br /&gt;Treasurer David Atwood&lt;br
  /&gt;Secretary VACANT&lt;br /&gt;Professional Activities VACANT&lt;br /&gt;Student Activ
 ities VACANT&lt;/p&gt;
END:VEVENT
END:VCALENDAR

