BEGIN:VCALENDAR
VERSION:2.0
PRODID:IEEE vTools.Events//EN
CALSCALE:GREGORIAN
BEGIN:VTIMEZONE
TZID:Europe/Zurich
BEGIN:DAYLIGHT
DTSTART:20150329T030000
TZOFFSETFROM:+0100
TZOFFSETTO:+0200
RRULE:FREQ=YEARLY;BYDAY=-1SU;BYMONTH=3
TZNAME:CEST
END:DAYLIGHT
BEGIN:STANDARD
DTSTART:20151025T020000
TZOFFSETFROM:+0200
TZOFFSETTO:+0100
RRULE:FREQ=YEARLY;BYDAY=-1SU;BYMONTH=10
TZNAME:CET
END:STANDARD
END:VTIMEZONE
BEGIN:VEVENT
DTSTAMP:20160128T205149Z
UID:F250AF46-E5B6-11E7-833E-0050568D7F66
DTSTART;TZID=Europe/Zurich:20150512T180000
DTEND;TZID=Europe/Zurich:20150512T210000
DESCRIPTION:35 participants of the LM European Tech Tour\, about 19 LMs wit
 h their spouses\, visited CERN in Geneva\n\nand CSEM in Neuchatel. At the 
 end of their stay in Switzerland the Swiss Section and LMAG offered\n\na d
 inner reception at the Restaurant des Halles (historical venue in the old 
 town) of Neuchatel.\n\nThe Chair delivered a welcome speech and remembered
  the two Milestones in Geneva and Neuchatel\,\n\npaying also a tribute to 
 Dr. Roger Wellinger\, SM \, former Reg.8 Director and the mover behind the
  development\n\nof electronic Quartz watch in Switzerland\, who passed awa
 y in October 2014.\n\nTwo IEEE Fellows from the Swiss Section attended the
  dinner.\n\nNeuchatel\, Switzerland\, Switzerland
LOCATION:Neuchatel\, Switzerland\, Switzerland
ORGANIZER:h.wyss@ieee.org
SEQUENCE:0
SUMMARY:[Legacy Report] Reception Dinner European TechTour in Switzerland
URL;VALUE=URI:https://events.vtools.ieee.org/m/128330
X-ALT-DESC:Description: &lt;br /&gt;&lt;p&gt;35 participants of the LM European Tech To
 ur\, about 19 LMs with their spouses\, visited CERN in Geneva&lt;/p&gt;\n&lt;p&gt;and 
 CSEM in Neuchatel. At the end of their stay in Switzerland the Swiss Secti
 on and LMAG offered&lt;/p&gt;\n&lt;p&gt;a dinner reception at the Restaurant des Halle
 s (historical venue in the old town) of Neuchatel.&lt;/p&gt;\n&lt;p&gt;The Chair deliv
 ered a welcome speech and remembered the two Milestones in Geneva and Neuc
 hatel\,&lt;/p&gt;\n&lt;p&gt;paying also a tribute to Dr. Roger Wellinger\, SM \, forme
 r Reg.8 Director and the mover behind the development&lt;/p&gt;\n&lt;p&gt;of electroni
 c Quartz watch in Switzerland\, who passed away in October 2014.&lt;/p&gt;\n&lt;p&gt;T
 wo IEEE Fellows from the Swiss Section attended the dinner.&lt;/p&gt;
END:VEVENT
END:VCALENDAR

