BEGIN:VCALENDAR
VERSION:2.0
PRODID:IEEE vTools.Events//EN
CALSCALE:GREGORIAN
BEGIN:VTIMEZONE
TZID:Europe/Zurich
BEGIN:DAYLIGHT
DTSTART:20160327T030000
TZOFFSETFROM:+0100
TZOFFSETTO:+0200
RRULE:FREQ=YEARLY;BYDAY=-1SU;BYMONTH=3
TZNAME:CEST
END:DAYLIGHT
BEGIN:STANDARD
DTSTART:20161030T020000
TZOFFSETFROM:+0200
TZOFFSETTO:+0100
RRULE:FREQ=YEARLY;BYDAY=-1SU;BYMONTH=10
TZNAME:CET
END:STANDARD
END:VTIMEZONE
BEGIN:VEVENT
DTSTAMP:20161219T185343Z
UID:F302A9DC-E5B6-11E7-833E-0050568D7F66
DTSTART;TZID=Europe/Zurich:20160510T100000
DTEND;TZID=Europe/Zurich:20160510T140000
DESCRIPTION:On the Campus of EPFL\, in the new building ME\, the Auditorium
  named after the first Director of the Engineering\n\nSchool of the univer
 sity Lausanne was inaugurated in a official ceremony attended by EPFL Pres
 ident Dr.Aebischer\,\n\nJean Lebel\, SM\, founder of the IEEE France and S
 witzerland Sections in 1962\, Prof. J.F.Loude\, SM\, ExCom Members\n\nand 
 the SB at EPFL\, with his Chair Mathieu Coustans and other members as well
  as many Fellows of IEEE\, members\n\nof the Engineering Faculty of EPFL.\
 n\nThe Auditorium will stay at the disposal of EPFL IEEE Student Branch fo
 r organizing meetings and conferences\, also\n\non the behalf of Switzerla
 nd Section.\n\nCo-sponsored by: EPFL\n\nLausanne\, Ile-de-France\, Switzer
 land
LOCATION:Lausanne\, Ile-de-France\, Switzerland
ORGANIZER:h.wyss@ieee.org
SEQUENCE:0
SUMMARY:[Legacy Report] Inauguration of Adrien Palaz Auditorium at EPFL
URL;VALUE=URI:https://events.vtools.ieee.org/m/140418
X-ALT-DESC:Description: &lt;br /&gt;&lt;p&gt;On the Campus of EPFL\, in the new buildin
 g ME\, the Auditorium named after the first Director of the Engineering&lt;/p
 &gt;\n&lt;p&gt;School of the university Lausanne was inaugurated in a official cere
 mony attended by EPFL President Dr.Aebischer\,&lt;/p&gt;\n&lt;p&gt;Jean Lebel\, SM\, f
 ounder of the IEEE France and Switzerland Sections in 1962\, Prof. J.F.Lou
 de\, SM\, ExCom Members&lt;/p&gt;\n&lt;p&gt;and the SB at EPFL\, with his Chair Mathie
 u Coustans and other members as well as many Fellows of IEEE\, members&lt;/p&gt;
 \n&lt;p&gt;of the Engineering Faculty of EPFL.&lt;/p&gt;\n&lt;p&gt;The Auditorium will stay 
 at the disposal of EPFL IEEE Student Branch for organizing meetings and co
 nferences\, also&lt;/p&gt;\n&lt;p&gt;on the behalf of Switzerland Section.&lt;/p&gt;
END:VEVENT
END:VCALENDAR

