BEGIN:VCALENDAR
VERSION:2.0
PRODID:IEEE vTools.Events//EN
CALSCALE:GREGORIAN
BEGIN:VTIMEZONE
TZID:Europe/Copenhagen
BEGIN:DAYLIGHT
DTSTART:20170326T030000
TZOFFSETFROM:+0100
TZOFFSETTO:+0200
RRULE:FREQ=YEARLY;BYDAY=-1SU;BYMONTH=3
TZNAME:CEST
END:DAYLIGHT
BEGIN:STANDARD
DTSTART:20161030T020000
TZOFFSETFROM:+0200
TZOFFSETTO:+0100
RRULE:FREQ=YEARLY;BYDAY=-1SU;BYMONTH=10
TZNAME:CET
END:STANDARD
END:VTIMEZONE
BEGIN:VEVENT
DTSTAMP:20170216T114049Z
UID:F38A7E5B-E5B6-11E7-833E-0050568D7F66
DTSTART;TZID=Europe/Copenhagen:20170120T093000
DTEND;TZID=Europe/Copenhagen:20170120T113000
DESCRIPTION:Insights into the mathematical tools and methods behind modern 
 smart grid modelling and optimization.\n\nLyngby\, Kobenhavns Amt\, Denmar
 k
LOCATION:Lyngby\, Kobenhavns Amt\, Denmark
ORGANIZER:matm@elektro.dtu.dk
SEQUENCE:0
SUMMARY:[Legacy Report] Advanced Mathematics applied on Polynomial Equation
 s and the Electric Power System
URL;VALUE=URI:https://events.vtools.ieee.org/m/145712
X-ALT-DESC:Description: &lt;br /&gt;&lt;p&gt;Insights into the mathematical tools and m
 ethods behind modern smart grid modelling and optimization.&lt;/p&gt;
END:VEVENT
END:VCALENDAR

