BEGIN:VCALENDAR
VERSION:2.0
PRODID:IEEE vTools.Events//EN
CALSCALE:GREGORIAN
BEGIN:VTIMEZONE
TZID:America/Montreal
BEGIN:DAYLIGHT
DTSTART:20170312T030000
TZOFFSETFROM:-0500
TZOFFSETTO:-0400
RRULE:FREQ=YEARLY;BYDAY=2SU;BYMONTH=3
TZNAME:EDT
END:DAYLIGHT
BEGIN:STANDARD
DTSTART:20171105T010000
TZOFFSETFROM:-0400
TZOFFSETTO:-0500
RRULE:FREQ=YEARLY;BYDAY=1SU;BYMONTH=11
TZNAME:EST
END:STANDARD
END:VTIMEZONE
BEGIN:VEVENT
DTSTAMP:20170721T071638Z
UID:F3C8388A-E5B6-11E7-833E-0050568D7F66
DTSTART;TZID=America/Montreal:20170713T180000
DTEND;TZID=America/Montreal:20170713T210000
DESCRIPTION:Meeting of the Exec Committee of the section\n\nQuebec City\, Q
 uebec\, Canada
LOCATION:Quebec City\, Quebec\, Canada
ORGANIZER:maldagx@gel.ulaval.ca
SEQUENCE:0
SUMMARY:[Legacy Report] Meeting of the Exec Committee of the section
URL;VALUE=URI:https://events.vtools.ieee.org/m/150046
X-ALT-DESC:Description: &lt;br /&gt;&lt;p&gt;Meeting of the Exec Committee of the secti
 on&lt;/p&gt;
END:VEVENT
END:VCALENDAR

