BEGIN:VCALENDAR
VERSION:2.0
PRODID:IEEE vTools.Events//EN
CALSCALE:GREGORIAN
BEGIN:VTIMEZONE
TZID:Asia/Kolkata
BEGIN:STANDARD
DTSTART:19451014T230000
TZOFFSETFROM:+0630
TZOFFSETTO:+0530
TZNAME:IST
END:STANDARD
END:VTIMEZONE
BEGIN:VEVENT
DTSTAMP:20170906T065634Z
UID:F3E0EF29-E5B6-11E7-833E-0050568D7F66
DTSTART;TZID=Asia/Kolkata:20170826T143000
DTEND;TZID=Asia/Kolkata:20170826T151500
DESCRIPTION:The Executive Committee Meeting was held at Kanpur Institute of
  Technology\, Kanpur\, India from 02:30 PM to 03:15 PM on August 26th\, 20
 17.\n\nMembers Present:\n\n- R. K. Misra\n- Sujeet Mishra (on call)\n- Nis
 hchal K. Verma\n- Brajesh Varshney\n- Sonal Dixit (on call)\n- Rahul K. Se
 vakula (on call)\n- Narendra K. Dhar (on call)\n- Vikas Singh (on call)\n-
  Teena Sharma (on call)\n- Tarun Maini (on call)\n- Dhan Jeet Singh (on ca
 ll)\n\nWelcome and Announcements:\n\nChairman and Secretary both welcomed 
 all the members present in the meeting.\n\nAgenda Item #1: Ratification of
  minutes of the previous meeting.\n\nDiscussion: The minutes of previous m
 eeting were read by the Secretary.\n\nAction Item: With the consent of all
  present members minutes were approved.\n\nAgenda Item #2: Financial Suppo
 rt to 2017 International Conference of Computational Intelligence: Theorie
 s\, Applications and Future Directions (ICCI-2017).\n\nDiscussion: Secreta
 ry informed that “2017 International Conference of Computational Intelli
 gence: Theories\, Applications and Future Directions (ICCI-2017)” is goi
 ng to held at Indian Institute of Technology Kanpur\, India from December 
 6th – 8th\, 2017. He proposed that the sum of INR 30\,000 can be given t
 o the ICCI-2017 as IEEE CIS UP Section Chapter has funds. He also informed
  that the mentioned funds were generated through earlier conference i.e. 
 “2017 IEEE Workshop on Computational Intelligence: Theories\, Applicatio
 ns and Future Directions (IEEE WCI 2015)” which held during December 14t
 h – 17th\, 2017. He added that IEEE CIS members are getting discount for
  registration in ICCI-2017 which may attract the CIS memberships.\n\nActio
 n Item: The proposal was approved with the consent of executive committee 
 members to support the ICCI-2017.\n\nAgenda Item #3: Membership Drive and 
 Lectures to encourage researchers in Computational Intelligence.\n\nDiscus
 sion: The scheduled lectures were held at Kanpur Institute of Technology\,
  Kanpur\, India on August 26th\, 2017 on Deep Learning and Computational I
 ntelligence. The researchers were encouraged to become the member of IEEE 
 Computational Intelligence Society (CIS). A membership drive was also arra
 nged at the venue to promote CIS membership and related activities.\n\nAct
 ion Item: All the present members were encouraged towards CIS promotional 
 activities.\n\nAgenda Item #4: Towards Logo support for ICCI-2017 from oth
 er Ministries.\n\nDiscussion: Vice Chairman asked to provide the write up 
 related to the conference explaining basic conference details such as obje
 ctive\, scope\, topics of interest etc. He also asked to include the detai
 ls of earlier conferences i.e. IEEE WCI 2015\, IEEE WCI 2013\, in the writ
 e up. Secretary asked Ms. Teena Sharma to provide the same. Vice Chairman 
 asked the researchers among present members for the problems/issues/cases/
 aspects in practical challenges to encourage young students or researchers
 .\n\nAction Item: Ms. Teena Sharma was asked to provide the write up relat
 ed to ICCI-2017 to Vice Chairman.\n\nNext Meeting: To be announced via ema
 il.\n\nMinutes Prepared by: Teena Sharma\n\nMeeting was adjourned with vot
 e of thanks at 03:15 PM.\n\nKanpur\, Uttar Pradesh\, India
LOCATION:Kanpur\, Uttar Pradesh\, India
ORGANIZER:tee.shar6@gmail.com
SEQUENCE:0
SUMMARY:[Legacy Report] Executive Committee Meeting
URL;VALUE=URI:https://events.vtools.ieee.org/m/150972
X-ALT-DESC:Description: &lt;br /&gt;&lt;p&gt;The Executive Committee Meeting was held a
 t Kanpur Institute of Technology\, Kanpur\, India from 02:30 PM to 03:15 P
 M on August 26&lt;sup&gt;th&lt;/sup&gt;\, 2017.&lt;/p&gt;\n&lt;p&gt;&lt;strong&gt;Members Present:&lt;/stro
 ng&gt;&lt;/p&gt;\n&lt;ol&gt;\n&lt;li&gt;R. K. Misra&lt;/li&gt;\n&lt;li&gt;Sujeet Mishra (on call)&lt;/li&gt;\n&lt;li
 &gt;Nishchal K. Verma&lt;/li&gt;\n&lt;li&gt;Brajesh Varshney&lt;/li&gt;\n&lt;li&gt;Sonal Dixit (on ca
 ll)&lt;/li&gt;\n&lt;li&gt;Rahul K. Sevakula (on call)&lt;/li&gt;\n&lt;li&gt;Narendra K. Dhar (on c
 all)&lt;/li&gt;\n&lt;li&gt;Vikas Singh (on call)&lt;/li&gt;\n&lt;li&gt;Teena Sharma (on call)&lt;/li&gt;
 \n&lt;li&gt;Tarun Maini (on call)&lt;/li&gt;\n&lt;li&gt;Dhan Jeet Singh (on call)&lt;/li&gt;\n&lt;/ol
 &gt;\n&lt;p&gt;&lt;strong&gt;Welcome and Announcements:&lt;/strong&gt;&lt;/p&gt;\n&lt;p&gt;Chairman and Sec
 retary both welcomed all the members present in the meeting.&lt;/p&gt;\n&lt;p&gt;&lt;stro
 ng&gt;Agenda Item #1&lt;/strong&gt;: Ratification of minutes of the previous meetin
 g.&lt;/p&gt;\n&lt;p&gt;&lt;strong&gt;Discussion:&lt;/strong&gt; The minutes of previous meeting we
 re read by the Secretary.&lt;/p&gt;\n&lt;p&gt;&lt;strong&gt;Action Item:&lt;/strong&gt; With the c
 onsent of all present members minutes were approved.&lt;/p&gt;\n&lt;p&gt;&lt;strong&gt;Agend
 a Item #2&lt;/strong&gt;: Financial Support to 2017 International Conference of 
 Computational Intelligence: Theories\, Applications and Future Directions 
 (ICCI-2017).&lt;/p&gt;\n&lt;p&gt;&lt;strong&gt;Discussion:&lt;/strong&gt; Secretary informed that 
 &amp;ldquo\;2017 International Conference of Computational Intelligence: Theor
 ies\, Applications and Future Directions (ICCI-2017)&amp;rdquo\; is going to h
 eld at Indian Institute of Technology Kanpur\, India from December 6&lt;sup&gt;t
 h&lt;/sup&gt; &amp;ndash\; 8&lt;sup&gt;th&lt;/sup&gt;\, 2017. He proposed that the sum of INR 30
 \,000 can be given to the ICCI-2017 as IEEE CIS UP Section Chapter has fun
 ds. He also informed that the mentioned funds were generated through earli
 er conference i.e. &amp;ldquo\;2017 IEEE Workshop on Computational Intelligenc
 e: Theories\, Applications and Future Directions (IEEE WCI 2015)&amp;rdquo\; w
 hich held during December 14&lt;sup&gt;th&lt;/sup&gt; &amp;ndash\; 17&lt;sup&gt;th&lt;/sup&gt;\, 2017.
  He added that IEEE CIS members are getting discount for registration in I
 CCI-2017 which may attract the CIS memberships.&lt;/p&gt;\n&lt;p&gt;&lt;strong&gt;Action Ite
 m: &lt;/strong&gt;The proposal was approved with the consent of executive commit
 tee members to support the ICCI-2017.&lt;/p&gt;\n&lt;p&gt;&lt;strong&gt;Agenda Item #3&lt;/stro
 ng&gt;: Membership Drive and Lectures to encourage researchers in Computation
 al Intelligence.&lt;/p&gt;\n&lt;p&gt;&lt;strong&gt;Discussion:&lt;/strong&gt; The scheduled lectur
 es were held at Kanpur Institute of Technology\, Kanpur\, India on August 
 26&lt;sup&gt;th&lt;/sup&gt;\, 2017 on Deep Learning and Computational Intelligence. Th
 e researchers were encouraged to become the member of IEEE Computational I
 ntelligence Society (CIS). A membership drive was also arranged at the ven
 ue to promote CIS membership and related activities.&lt;/p&gt;\n&lt;p&gt;&lt;strong&gt;Actio
 n Item: &lt;/strong&gt;All the present members were encouraged towards CIS promo
 tional activities.&lt;/p&gt;\n&lt;p&gt;&lt;strong&gt;Agenda Item #4&lt;/strong&gt;: Towards Logo s
 upport for ICCI-2017 from other Ministries.&lt;/p&gt;\n&lt;p&gt;&lt;strong&gt;Discussion: &lt;/
 strong&gt;Vice Chairman asked to provide the write up related to the conferen
 ce explaining basic conference details such as objective\, scope\, topics 
 of interest etc. He also asked to include the details of earlier conferenc
 es i.e. IEEE WCI 2015\, IEEE WCI 2013\, in the write up. Secretary asked M
 s. Teena Sharma to provide the same. Vice Chairman asked the researchers a
 mong present members for the problems/issues/cases/aspects in practical ch
 allenges to encourage young students or researchers.&lt;/p&gt;\n&lt;p&gt;&lt;strong&gt;Actio
 n Item: &lt;/strong&gt;Ms. Teena Sharma was asked to provide the write up relate
 d to ICCI-2017 to Vice Chairman.&lt;/p&gt;\n&lt;p&gt;&amp;nbsp\;&lt;/p&gt;\n&lt;p&gt;&lt;strong&gt;Next Meet
 ing&lt;/strong&gt;: To be announced via email.&lt;/p&gt;\n&lt;p&gt;&lt;strong&gt;Minutes Prepared 
 by:&lt;/strong&gt; Teena Sharma&lt;/p&gt;\n&lt;p&gt;&lt;strong&gt;Meeting was adjourned with vote 
 of thanks at 03:15 PM.&lt;/strong&gt;&lt;/p&gt;
END:VEVENT
END:VCALENDAR

