BEGIN:VCALENDAR
VERSION:2.0
PRODID:IEEE vTools.Events//EN
CALSCALE:GREGORIAN
BEGIN:VTIMEZONE
TZID:Europe/Warsaw
BEGIN:DAYLIGHT
DTSTART:20170326T030000
TZOFFSETFROM:+0100
TZOFFSETTO:+0200
RRULE:FREQ=YEARLY;BYDAY=-1SU;BYMONTH=3
TZNAME:CEST
END:DAYLIGHT
BEGIN:STANDARD
DTSTART:20161030T020000
TZOFFSETFROM:+0200
TZOFFSETTO:+0100
RRULE:FREQ=YEARLY;BYDAY=-1SU;BYMONTH=10
TZNAME:CET
END:STANDARD
END:VTIMEZONE
BEGIN:VEVENT
DTSTAMP:20171127T102654Z
UID:F413440F-E5B6-11E7-833E-0050568D7F66
DTSTART;TZID=Europe/Warsaw:20170309T080000
DTEND;TZID=Europe/Warsaw:20170309T180000
DESCRIPTION:Seminar Organized by IEEE EMC-S PL with co-operation with Wurth
  Electronic Poland for scientists and engineers from industry devoted to E
 MC problems in complex electronics structures\n\nCo-sponsored by: Wurth El
 ectronics\n\nRzeszów\, Podkarpackie\, Poland
LOCATION:Rzeszów\, Podkarpackie\, Poland
ORGANIZER:dklepa@prz.edu.pl
SEQUENCE:0
SUMMARY:[Legacy Report] DC/DC Converters
URL;VALUE=URI:https://events.vtools.ieee.org/m/154281
X-ALT-DESC:Description: &lt;br /&gt;&lt;p&gt;&lt;span style=&quot;color: black\;&quot;&gt;Seminar Organ
 ized by IEEE EMC-S PL with co-operation with Wurth Electronic Poland for s
 cientists and engineers from industry devoted to EMC problems in complex e
 lectronics structures&lt;/span&gt;&lt;/p&gt;
END:VEVENT
END:VCALENDAR

