BEGIN:VCALENDAR
VERSION:2.0
PRODID:IEEE vTools.Events//EN
CALSCALE:GREGORIAN
BEGIN:VTIMEZONE
TZID:Turkey
BEGIN:DAYLIGHT
DTSTART:20380119T061407
TZOFFSETFROM:+0300
TZOFFSETTO:+0300
RRULE:FREQ=YEARLY;BYDAY=3TU;BYMONTH=1
TZNAME:+03
END:DAYLIGHT
BEGIN:STANDARD
DTSTART:20160907T000000
TZOFFSETFROM:+0300
TZOFFSETTO:+0300
RRULE:FREQ=YEARLY;BYDAY=1WE;BYMONTH=9
TZNAME:+03
END:STANDARD
END:VTIMEZONE
BEGIN:VEVENT
DTSTAMP:20171127T102905Z
UID:F41346DB-E5B6-11E7-833E-0050568D7F66
DTSTART;TZID=Turkey:20171117T143000
DTEND;TZID=Turkey:20171117T163000
DESCRIPTION:Speaker: Assoc. Prof. Özgür Özdemir\, Istanbul Technical Uni
 versity\n\nTopic: &quot;Microwave Imaging in Layered Media&quot;\n\nLocation: Middle
  East Technical University\, Ankara\, Turkey\n\nAbstract: Microwave imagin
 g of buried targets in inhomogeneous/layered media have been a very import
 ant research area due to its wide range of applications: biomedical applic
 ations\, through wall surveillance\, nondestructive testing in material sc
 ience\, etc. Most of the developed imaging methods require the knowledge o
 f the background Green’s function which may be very costly. This is part
 icularly the case for non-smooth-interfaced and/or stratified media where 
 the Green’s function can only be calculated numerically. This would dram
 atically increase the computational cost of the methods and therefore cons
 titutes one of their main drawback for this background configuration.\n\nI
 n this talk\, we will present our recent work on efficient microwave imagi
 ng techniques for layered medium problems. We have developed a new formula
 tion of the scattering problem\,i.e\, Cauchy Data formulation which does n
 ot entail the Green’s function of the background and applied to conventi
 onal imaging algorithms to improve their numerical efficiency and accuracy
  as well.\n\nBio: Özgür Özdemir is currently associate professor of Ele
 ctronics and Communication Engineering at Istanbul Technical University (I
 TU). She received BS and MS degrees from Istanbul Technical University\, i
 n 1998 and 2000\, respectively and Ph.D. degree in electrical engineering 
 from New Jersey Institute of Technology (NJIT) in 2005. She then joined Ce
 ntre de Mathématiques Appliquées (CMAP)\, Ecole Polytechnique as a postd
 octoral fellow. In 2008\, she has returned back to ITU as a faculty member
  of Department of Electronics and Communication Engineering. She is curren
 tly conducting research on microwave and acoustics imaging techniques for 
 medical imaging\, through wall imaging radar\, antenna design and thermoac
 oustic imaging for breast cancer detection.\n\nAnkara\, Ankara\, Türkiye
LOCATION:Ankara\, Ankara\, Türkiye
ORGANIZER:ozergul@metu.edu.tr
SEQUENCE:0
SUMMARY:[Legacy Report] IEEE AP/MTT/EMC/ED TURKEY CHAPTER SEMINAR SERIES --
  SEMINAR 16
URL;VALUE=URI:https://events.vtools.ieee.org/m/154283
X-ALT-DESC:Description: &lt;br /&gt;&lt;p&gt;Speaker: Assoc. Prof. &amp;Ouml\;zg&amp;uuml\;r &amp;O
 uml\;zdemir\, Istanbul Technical University&lt;/p&gt;\n&lt;p&gt;Topic: &quot;Microwave Imag
 ing in Layered Media&quot;&lt;/p&gt;\n&lt;p&gt;Location:&amp;nbsp\;Middle East Technical Univer
 sity\, Ankara\, Turkey&lt;/p&gt;\n&lt;p&gt;&lt;em&gt;Abstract:&amp;nbsp\;Microwave imaging of bu
 ried targets in inhomogeneous/layered media have been a very important res
 earch area due to its wide range of applications: biomedical applications\
 , through wall surveillance\, nondestructive testing in material science\,
  etc. Most of the developed imaging methods require the knowledge of the b
 ackground Green&amp;rsquo\;s function which may be very costly. This is partic
 ularly the case for non-smooth-interfaced and/or stratified media where th
 e Green&amp;rsquo\;s function can only be calculated numerically. This would d
 ramatically increase the computational cost of the methods and therefore c
 onstitutes one of their main drawback for this background configuration.&lt;/
 em&gt;&lt;/p&gt;\n&lt;p&gt;&lt;em&gt;In this talk\, we will present our recent work on efficien
 t microwave imaging techniques&amp;nbsp\; for layered medium problems.&amp;nbsp\; 
 We have developed a new formulation of the scattering problem\,i.e\, Cauch
 y Data formulation which does not entail the Green&amp;rsquo\;s function of th
 e background and applied to conventional imaging algorithms to improve the
 ir numerical efficiency and accuracy as well.&lt;/em&gt;&lt;/p&gt;\n&lt;p&gt;&lt;em&gt;Bio: &amp;Ouml\
 ;zg&amp;uuml\;r &amp;Ouml\;zdemir is currently associate professor of Electronics 
 and Communication Engineering at Istanbul Technical University&amp;nbsp\; (ITU
 ).&amp;nbsp\; She&amp;nbsp\; received BS and MS degrees from Istanbul Technical Un
 iversity\,&amp;nbsp\;in 1998 and 2000\, respectively and Ph.D. degree in elect
 rical engineering from New Jersey Institute of Technology (NJIT) in 2005.&amp;
 nbsp\; She then joined &amp;nbsp\;Centre de Math&amp;eacute\;matiques Appliqu&amp;eacu
 te\;es (CMAP)\, Ecole Polytechnique as a postdoctoral fellow. In 2008\, sh
 e has returned back to&amp;nbsp\; ITU as a faculty member of Department of&amp;nbs
 p\; Electronics and Communication Engineering.&amp;nbsp\; She is currently con
 ducting research on microwave and acoustics imaging techniques for medical
  imaging\, through wall imaging radar\, antenna design and&amp;nbsp\; thermoac
 oustic imaging for breast cancer detection.&lt;/em&gt;&lt;/p&gt;
END:VEVENT
END:VCALENDAR

