BEGIN:VCALENDAR
VERSION:2.0
PRODID:IEEE vTools.Events//EN
CALSCALE:GREGORIAN
BEGIN:VTIMEZONE
TZID:Europe/Madrid
BEGIN:DAYLIGHT
DTSTART:20180325T030000
TZOFFSETFROM:+0100
TZOFFSETTO:+0200
RRULE:FREQ=YEARLY;BYDAY=-1SU;BYMONTH=3
TZNAME:CEST
END:DAYLIGHT
BEGIN:STANDARD
DTSTART:20171029T020000
TZOFFSETFROM:+0200
TZOFFSETTO:+0100
RRULE:FREQ=YEARLY;BYDAY=-1SU;BYMONTH=10
TZNAME:CET
END:STANDARD
END:VTIMEZONE
BEGIN:VEVENT
DTSTAMP:20180503T000000Z
UID:4FD95CC9-9047-42FD-9BC9-40B6214CE73F
DTSTART;TZID=Europe/Madrid:20180129T093000
DTEND;TZID=Europe/Madrid:20180131T200000
DESCRIPTION:This three day event at the Public University of Navarra is dev
 oted to promote electronics among students\, faculty\, researchers and the
  society as a whole. It includes technical talks\, courses\, hands-on demo
 nstrations and student competitions.\n\nCo-sponsored by: I2TEC\n\nAgenda: 
 \nMonday 29 January\n\nINVITED TALKS (Venue: ETSIIT Room – Los Tejos Bui
 lding\, Ground Floor)\n\n9:30h Presentation\n\n9:50h IED Electronics: “T
 he daily work of an Electronics Engineer”\n\n10:30h Azkoyen Group: “Yo
 ur plans for the future”\n\n11:10h Coffee Break\n\n11:40h MTorres: “Ap
 plication of electronics to the manufacturing of aeronautical components
 ”\n\n12:20h Ingeteam TBD\n\n13:00h End of talks\n\nDAILY COMPETITION (Ve
 nue: Basic Electronics Lab - Los Tejos Building\, First Floor)\n\n13:30h A
 rcade competition\n\n16:00h Lunch\n\n16:30h End of competition\n\nEVENING 
 COURSES\n\n17:00h Arduino 1.0 (Advanced Electronics Lab - Los Tejos Buildi
 ng\, Second Floor)\n\n17:00h PCB Design (Basic Electronics Lab - Los Tejos
  Building\, First Floor)\n\n20:00h End of courses\n\nTuesday 30 January\n\
 nMORNING COURSES\n\n9:00h Building an Hephestos 3D printer (ETSIIT Room 
 – Los Tejos Building\, Ground Floor)\n\n10:00h Arduino 1.0 (Advanced Ele
 ctronics Lab - Los Tejos Building\, Second Floor)\n\n10:00h SMD soldering 
 (Basic Electronics Lab - Los Tejos Building\, First Floor)\n\n13:00h End o
 f courses\n\nDAILY COMPETITION (Venue: area between Los Tejos and Los Pino
 s Buildings)\n\n13:30h Drone competition\n\n16:00h Lunch\n\n16:30h End of 
 competition\n\nEVENING COURSES\n\n16:00h Building an Hephestos 3D printer 
 (ETSIIT Room – Los Tejos Building\, Ground Floor)\n\n17:00h Arduino 2.0 
 (Advanced Electronics Lab - Los Tejos Building\, Second Floor)\n\n17:00h A
 ndroid programming (Basic Electronics Lab - Los Tejos Building\, First Flo
 or)\n\n20:00h End of courses\n\nWednesday 31 January\n\nMORNING COURSES\n\
 n10:00h Arduino 2.0 (Advanced Electronics Lab - Los Tejos Building\, Secon
 d Floor)\n\n10:00h SMD soldering (Basic Electronics Lab - Los Tejos Buildi
 ng\, First Floor)\n\n13:00h End of courses\n\nDAILY COMPETITION (Venue: Ad
 vanced Electronics Lab - Los Tejos Building\, Second Floor)\n\n13:30h Ardu
 ino competition\n\n16:00h Lunch\n\n16:30h End of competition\n\nINVITED TA
 LKS (Venue: ETSIIT Room – Los Tejos Building\, Ground Floor)\n\n17:00h U
 scal: “Prototyping of a portable cellular microscope”\n\n17:40h Falcon
  Electronics: “Will you dare to design the future?”\n\n18:20h Coffee B
 reak\n\n18:40h Embeblue: “Entrepreneurship in the electronics sector”\
 n\n19:20h Arduino: “What is Arduino?”\n\n20:00h Closure of event\n\nBl
 dg: Los Tejos\, Universidad Publica de Navarra\, Campus Arrosadia\, Pamplo
 na\, Navarra\, Spain\, 31006
LOCATION:Bldg: Los Tejos\, Universidad Publica de Navarra\, Campus Arrosadi
 a\, Pamplona\, Navarra\, Spain\, 31006
ORGANIZER:antonio.lopez@ieee.org
SEQUENCE:3
SUMMARY:Electronics Week
URL;VALUE=URI:https://events.vtools.ieee.org/m/158335
X-ALT-DESC:Description: &lt;br /&gt;&lt;p&gt;This three day event at the Public Univers
 ity of Navarra is devoted to promote electronics among students\, faculty\
 , researchers and the society as a whole. It includes technical talks\, co
 urses\, hands-on demonstrations and student competitions.&lt;/p&gt;&lt;br /&gt;&lt;br /&gt;A
 genda: &lt;br /&gt;&lt;p&gt;Monday 29 January&lt;/p&gt;\n&lt;p&gt;&amp;nbsp\;&lt;/p&gt;\n&lt;p&gt;INVITED TALKS (V
 enue: ETSIIT Room &amp;ndash\; Los Tejos Building\, Ground Floor)&lt;/p&gt;\n&lt;p&gt;9:30
 h&amp;nbsp\;&amp;nbsp\;&amp;nbsp\; Presentation&lt;/p&gt;\n&lt;p&gt;9:50h &amp;nbsp\;&amp;nbsp\;&amp;nbsp\;IED
  Electronics: &amp;ldquo\;The daily work of an Electronics Engineer&amp;rdquo\;&lt;/p
 &gt;\n&lt;p&gt;10:30h&amp;nbsp\;&amp;nbsp\; Azkoyen Group: &amp;ldquo\;Your plans for the futur
 e&amp;rdquo\;&lt;/p&gt;\n&lt;p&gt;11:10h&amp;nbsp\;&amp;nbsp\; Coffee Break&lt;/p&gt;\n&lt;p&gt;11:40h&amp;nbsp\;&amp;
 nbsp\; MTorres: &amp;ldquo\;Application of electronics to the manufacturing of
  aeronautical components&amp;rdquo\;&lt;/p&gt;\n&lt;p&gt;12:20h&amp;nbsp\;&amp;nbsp\; Ingeteam&amp;nbs
 p\; TBD&lt;/p&gt;\n&lt;p&gt;13:00h&amp;nbsp\; &amp;nbsp\;End of talks&lt;/p&gt;\n&lt;p&gt;&amp;nbsp\;&lt;/p&gt;\n&lt;p&gt;
 DAILY COMPETITION (Venue: Basic Electronics Lab - Los Tejos Building\, Fir
 st Floor)&lt;/p&gt;\n&lt;p&gt;13:30h&amp;nbsp\;&amp;nbsp\; Arcade competition&lt;/p&gt;\n&lt;p&gt;16:00h&amp;n
 bsp\;&amp;nbsp\; Lunch&lt;/p&gt;\n&lt;p&gt;16:30h&amp;nbsp\; &amp;nbsp\;End of competition&lt;/p&gt;\n&lt;p
 &gt;&amp;nbsp\;&lt;/p&gt;\n&lt;p&gt;EVENING COURSES&lt;/p&gt;\n&lt;p&gt;17:00h&amp;nbsp\;&amp;nbsp\; Arduino 1.0&amp;
 nbsp\; (Advanced Electronics Lab - Los Tejos Building\, Second Floor)&lt;/p&gt;\
 n&lt;p&gt;17:00h&amp;nbsp\;&amp;nbsp\; PCB Design&amp;nbsp\; (Basic Electronics Lab - Los Te
 jos Building\, First Floor)&lt;/p&gt;\n&lt;p&gt;20:00h&amp;nbsp\;&amp;nbsp\; End of courses&lt;/p
 &gt;\n&lt;p&gt;&amp;nbsp\;&lt;/p&gt;\n&lt;p&gt;Tuesday 30 January&lt;/p&gt;\n&lt;p&gt;&amp;nbsp\;&lt;/p&gt;\n&lt;p&gt;MORNING C
 OURSES&lt;/p&gt;\n&lt;p&gt;9:00h&amp;nbsp\;&amp;nbsp\; Building an Hephestos 3D printer (ETSII
 T Room &amp;ndash\; Los Tejos Building\, Ground Floor)&lt;/p&gt;\n&lt;p&gt;10:00h&amp;nbsp\;&amp;n
 bsp\; Arduino 1.0&amp;nbsp\; (Advanced Electronics Lab - Los Tejos Building\, 
 Second Floor)&lt;/p&gt;\n&lt;p&gt;10:00h&amp;nbsp\;&amp;nbsp\; SMD soldering&amp;nbsp\; (Basic Ele
 ctronics Lab - Los Tejos Building\, First Floor)&lt;/p&gt;\n&lt;p&gt;13:00h&amp;nbsp\;&amp;nbs
 p\; End of courses&lt;/p&gt;\n&lt;p&gt;&amp;nbsp\;&lt;/p&gt;\n&lt;p&gt;DAILY COMPETITION (Venue: area 
 between Los Tejos and Los Pinos Buildings)&lt;/p&gt;\n&lt;p&gt;13:30h&amp;nbsp\;&amp;nbsp\; Dr
 one competition&lt;/p&gt;\n&lt;p&gt;16:00h&amp;nbsp\;&amp;nbsp\; Lunch&lt;/p&gt;\n&lt;p&gt;16:30h&amp;nbsp\; &amp;
 nbsp\;End of competition&lt;/p&gt;\n&lt;p&gt;&amp;nbsp\;&lt;/p&gt;\n&lt;p&gt;EVENING COURSES&lt;/p&gt;\n&lt;p&gt;1
 6:00h&amp;nbsp\;&amp;nbsp\; Building an Hephestos 3D printer (ETSIIT Room &amp;ndash\;
  Los Tejos Building\, Ground Floor)&lt;/p&gt;\n&lt;p&gt;17:00h&amp;nbsp\;&amp;nbsp\; Arduino 2
 .0&amp;nbsp\; (Advanced Electronics Lab - Los Tejos Building\, Second Floor)&lt;/
 p&gt;\n&lt;p&gt;17:00h&amp;nbsp\;&amp;nbsp\; Android programming&amp;nbsp\; (Basic Electronics 
 Lab - Los Tejos Building\, First Floor)&lt;/p&gt;\n&lt;p&gt;20:00h&amp;nbsp\;&amp;nbsp\; End o
 f courses&lt;/p&gt;\n&lt;p&gt;&amp;nbsp\;&lt;/p&gt;\n&lt;p&gt;Wednesday 31 January&lt;/p&gt;\n&lt;p&gt;&amp;nbsp\;&lt;/p&gt;
 \n&lt;p&gt;MORNING COURSES&lt;/p&gt;\n&lt;p&gt;10:00h&amp;nbsp\;&amp;nbsp\; Arduino 2.0&amp;nbsp\; (Adva
 nced Electronics Lab - Los Tejos Building\, Second Floor)&lt;/p&gt;\n&lt;p&gt;10:00h&amp;n
 bsp\;&amp;nbsp\; SMD soldering&amp;nbsp\; (Basic Electronics Lab - Los Tejos Build
 ing\, First Floor)&lt;/p&gt;\n&lt;p&gt;13:00h&amp;nbsp\;&amp;nbsp\; End of courses&lt;/p&gt;\n&lt;p&gt;&amp;nb
 sp\;&lt;/p&gt;\n&lt;p&gt;DAILY COMPETITION (Venue: Advanced Electronics Lab - Los Tejo
 s Building\, Second Floor)&lt;/p&gt;\n&lt;p&gt;13:30h&amp;nbsp\;&amp;nbsp\; Arduino competitio
 n&lt;/p&gt;\n&lt;p&gt;16:00h&amp;nbsp\;&amp;nbsp\; Lunch&lt;/p&gt;\n&lt;p&gt;16:30h&amp;nbsp\; &amp;nbsp\;End of c
 ompetition&lt;/p&gt;\n&lt;p&gt;&amp;nbsp\;&lt;/p&gt;\n&lt;p&gt;INVITED TALKS (Venue: ETSIIT Room &amp;ndas
 h\; Los Tejos Building\, Ground Floor)&lt;/p&gt;\n&lt;p&gt;17:00h &amp;nbsp\;&amp;nbsp\;&amp;nbsp\
 ;Uscal: &amp;ldquo\;Prototyping of a portable cellular microscope&amp;rdquo\;&lt;/p&gt;\
 n&lt;p&gt;17:40h&amp;nbsp\;&amp;nbsp\; Falcon Electronics: &amp;ldquo\;Will you dare to desi
 gn the future?&amp;rdquo\;&lt;/p&gt;\n&lt;p&gt;18:20h&amp;nbsp\;&amp;nbsp\; Coffee Break&lt;/p&gt;\n&lt;p&gt;1
 8:40h&amp;nbsp\;&amp;nbsp\; Embeblue: &amp;ldquo\;Entrepreneurship in the electronics 
 sector&amp;rdquo\;&lt;/p&gt;\n&lt;p&gt;19:20h&amp;nbsp\;&amp;nbsp\; Arduino: &amp;ldquo\;What is Ardui
 no?&amp;rdquo\;&lt;/p&gt;\n&lt;p&gt;20:00h Closure of event&lt;/p&gt;
END:VEVENT
END:VCALENDAR

