BEGIN:VCALENDAR
VERSION:2.0
PRODID:IEEE vTools.Events//EN
CALSCALE:GREGORIAN
BEGIN:VTIMEZONE
TZID:Japan
BEGIN:STANDARD
DTSTART:19510909T000000
TZOFFSETFROM:+1000
TZOFFSETTO:+0900
TZNAME:JST
END:STANDARD
END:VTIMEZONE
BEGIN:VEVENT
DTSTAMP:20180122T045814Z
UID:CBE2DD0B-42BF-4870-AAC7-01A08B613B43
DTSTART;TZID=Japan:20171103T135600
DTEND;TZID=Japan:20171104T135600
DESCRIPTION:Conference on stochastic systems\n\nHiroshima\, Hiroshima\, Jap
 an
LOCATION:Hiroshima\, Hiroshima\, Japan
ORGANIZER:sss17@sci-sss.org
SEQUENCE:0
SUMMARY:The 49th ISCIE International Symposium on Stochastic Systems Theory
  and Its Applications
URL;VALUE=URI:https://events.vtools.ieee.org/m/158815
X-ALT-DESC:Description: &lt;br /&gt;&lt;p&gt;Conference on stochastic systems&lt;/p&gt;
END:VEVENT
END:VCALENDAR

