BEGIN:VCALENDAR
VERSION:2.0
PRODID:IEEE vTools.Events//EN
CALSCALE:GREGORIAN
BEGIN:VTIMEZONE
TZID:US/Pacific
BEGIN:DAYLIGHT
DTSTART:20180311T030000
TZOFFSETFROM:-0800
TZOFFSETTO:-0700
RRULE:FREQ=YEARLY;BYDAY=2SU;BYMONTH=3
TZNAME:PDT
END:DAYLIGHT
BEGIN:STANDARD
DTSTART:20171105T010000
TZOFFSETFROM:-0700
TZOFFSETTO:-0800
RRULE:FREQ=YEARLY;BYDAY=1SU;BYMONTH=11
TZNAME:PST
END:STANDARD
END:VTIMEZONE
BEGIN:VEVENT
DTSTAMP:20180524T210144Z
UID:F3BE8C30-EE20-4D98-9E85-5882B96DAC6B
DTSTART;TZID=US/Pacific:20180222T173000
DTEND;TZID=US/Pacific:20180222T203000
DESCRIPTION:Please join us for the Rising Stars Conference Student Presenta
 tions! We are excited to hear from 6 students who IEEE Spokane and Region 
 6 sent to the Rising Stars Conference in Las Vegas\, NV in early January.\
 n\nIEEE Spokane will be hosting this Italian cuisine dinner. IEEE members\
 , students\, and school faultily are welcome and encouraged to come! Do yo
 u know of someone interested in joining IEEE? Bring them too!\n\nAll atten
 dees must register for an accurate head count for the restaurant. For thos
 e 21 and over drinks will be available for purchase by the attendee. Regis
 tration ends on Wed\, Feb 21 at noon.\n\nRoom: Upstairs Conference Room\, 
 Luigi&#39;s Restaurant\, 245 W Main Ave\, Spokane\, Washington\, United States
LOCATION:Room: Upstairs Conference Room\, Luigi&#39;s Restaurant\, 245 W Main A
 ve\, Spokane\, Washington\, United States
ORGANIZER:asawyer@popud.org
SEQUENCE:1
SUMMARY:Rising Stars Student Presentations
URL;VALUE=URI:https://events.vtools.ieee.org/m/159207
X-ALT-DESC:Description: &lt;br /&gt;&lt;p&gt;Please join us for the Rising Stars Confer
 ence Student Presentations!&amp;nbsp\; We are excited to hear from 6 students 
 who IEEE Spokane and Region 6 sent to the Rising Stars Conference in Las V
 egas\, NV in early January.&amp;nbsp\;&lt;/p&gt;\n&lt;p&gt;IEEE Spokane will be hosting th
 is Italian cuisine dinner.&amp;nbsp\; IEEE members\, students\, and school fau
 ltily&amp;nbsp\;are welcome and encouraged to come!&amp;nbsp\; Do you know of some
 one interested in joining IEEE?&amp;nbsp\; Bring them too!&lt;/p&gt;\n&lt;p&gt;All attende
 es must register for an accurate head count for the restaurant. &amp;nbsp\;For
  those 21 and over drinks will be available for purchase by the attendee. 
 &amp;nbsp\;Registration ends on Wed\, Feb 21 at noon.&lt;/p&gt;
END:VEVENT
END:VCALENDAR

