BEGIN:VCALENDAR
VERSION:2.0
PRODID:IEEE vTools.Events//EN
CALSCALE:GREGORIAN
BEGIN:VTIMEZONE
TZID:Europe/Zurich
BEGIN:DAYLIGHT
DTSTART:20170326T030000
TZOFFSETFROM:+0100
TZOFFSETTO:+0200
RRULE:FREQ=YEARLY;BYDAY=-1SU;BYMONTH=3
TZNAME:CEST
END:DAYLIGHT
BEGIN:STANDARD
DTSTART:20171029T020000
TZOFFSETFROM:+0200
TZOFFSETTO:+0100
RRULE:FREQ=YEARLY;BYDAY=-1SU;BYMONTH=10
TZNAME:CET
END:STANDARD
END:VTIMEZONE
BEGIN:VEVENT
DTSTAMP:20180130T104748Z
UID:001CE6E2-619C-4CC8-8898-26F11F063A1E
DTSTART;TZID=Europe/Zurich:20170905T143000
DTEND;TZID=Europe/Zurich:20170905T203000
DESCRIPTION:2:30 PM\, Plenary Conference organized by CSEM\, panel with Dan
 iel Borel\, founder of Logitech SA\, more than 200 attendees.\n\n5 PM \, B
 irthday apéro party in Microcity Hall\, co-sponsored by Switzerland Secti
 on\, 250 attendees\n\n7 PM\, Celebration Dinner at Hotel Beaulac\, Neuchat
 el\, sponsored by Section\, 35 participants. Invited Speakers of Plenary C
 onference\, Chairs of Reg.8 LMAGs\, still living employees of Centre Elect
 ronique Horloger SA\, CEH\, IEEE members.The personality of Dr.Roger Welli
 nger\, first Director of CEH as well as Director 1969-1970 of Reg.8 was ho
 nored.\n\nCo-sponsored by: CSEM\n\nBldg: Microcity\, Neuchatel\, Switzerla
 nd\, Switzerland\, 2000
LOCATION:Bldg: Microcity\, Neuchatel\, Switzerland\, Switzerland\, 2000
ORGANIZER:h.wyss@ieee.org
SEQUENCE:0
SUMMARY:50 years of microelectronics on the wrist
URL;VALUE=URI:https://events.vtools.ieee.org/m/159840
X-ALT-DESC:Description: &lt;br /&gt;&lt;p&gt;2:30 PM\, Plenary Conference organized by 
 CSEM\, panel with Daniel Borel\, founder of Logitech SA\, more than 200 at
 tendees.&lt;/p&gt;\n&lt;p&gt;5 PM \, Birthday ap&amp;eacute\;ro party in Microcity Hall\, 
 co-sponsored by Switzerland Section\, 250 attendees&lt;/p&gt;\n&lt;p&gt;7 PM\, Celebra
 tion Dinner at Hotel Beaulac\, Neuchatel\, sponsored by Section\, 35 parti
 cipants. Invited Speakers of Plenary Conference\, Chairs of Reg.8 LMAGs\, 
 still living employees of Centre Electronique Horloger SA\, CEH\, IEEE mem
 bers.The personality of Dr.Roger Wellinger\, first Director of CEH as well
  as Director 1969-1970 of Reg.8 was honored.&lt;/p&gt;
END:VEVENT
END:VCALENDAR

