BEGIN:VCALENDAR
VERSION:2.0
PRODID:IEEE vTools.Events//EN
CALSCALE:GREGORIAN
BEGIN:VTIMEZONE
TZID:Africa/Johannesburg
BEGIN:STANDARD
DTSTART:19440319T010000
TZOFFSETFROM:+0300
TZOFFSETTO:+0200
TZNAME:SAST
END:STANDARD
END:VTIMEZONE
BEGIN:VEVENT
DTSTAMP:20180503T000000Z
UID:59B6D681-9036-4E12-995F-6A9BB9BD87B9
DTSTART;TZID=Africa/Johannesburg:20180208T103000
DTEND;TZID=Africa/Johannesburg:20180208T113000
DESCRIPTION:Maiden edition of IEEE Student Chapter talk in UKZN. This sessi
 on will talk about IEEE and what it offers\, and about a possibility to su
 stain an IEEE unit (Student Branch and Student Branch Chapter) at UKZN.\n\
 nAgenda: Towards promoting and sustaining IEEE activities in UKZN Chapter 
 Branch\n\nCo-sponsored by: Dauda Olayinka Ayanda\n\nSpeaker(s): Dr Albert 
 Lysko\, \n\nBldg: Room 3-11\, School of Electrical\, Electronic and Comput
 er Engineering Building\, Howard College Campus\, University of KwaZulu-Na
 tal\, Durban\, KwaZulu-Natal\, South Africa\, 4001
LOCATION:Bldg: Room 3-11\, School of Electrical\, Electronic and Computer E
 ngineering Building\, Howard College Campus\, University of KwaZulu-Natal\
 , Durban\, KwaZulu-Natal\, South Africa\, 4001
ORGANIZER:d.ayanda@ieee.org
SEQUENCE:12
SUMMARY:[Legacy Report] IEEE Open Day
URL;VALUE=URI:https://events.vtools.ieee.org/m/160260
X-ALT-DESC:Description: &lt;br /&gt;&lt;p&gt;Maiden edition of IEEE Student Chapter tal
 k in UKZN. This session will talk about IEEE and what it offers\, and abou
 t a possibility to sustain an IEEE unit (Student Branch and Student Branch
  Chapter) at UKZN.&amp;nbsp\;&lt;/p&gt;\n&lt;p&gt;&amp;nbsp\;&lt;/p&gt;\n&lt;p&gt;&lt;strong&gt;Agenda&lt;/strong&gt;:
 &amp;nbsp\;Towards promoting and sustaining IEEE activities in UKZN Chapter Br
 anch&lt;/p&gt;\n&lt;p&gt;&amp;nbsp\;&lt;/p&gt;\n&lt;p&gt;&amp;nbsp\;&lt;/p&gt;
END:VEVENT
END:VCALENDAR

