BEGIN:VCALENDAR
VERSION:2.0
PRODID:IEEE vTools.Events//EN
CALSCALE:GREGORIAN
BEGIN:VTIMEZONE
TZID:Japan
BEGIN:STANDARD
DTSTART:19510909T000000
TZOFFSETFROM:+1000
TZOFFSETTO:+0900
TZNAME:JST
END:STANDARD
END:VTIMEZONE
BEGIN:VEVENT
DTSTAMP:20180207T094557Z
UID:D3704292-A3AB-4218-ABC2-0A76D6FFA6EE
DTSTART;TZID=Japan:20170214T130000
DTEND;TZID=Japan:20170214T143000
DESCRIPTION:Lecture Meeting: Sensitive Ambient RF Energy harvesting Using R
 ectenna\n\nCo-sponsored by: IEICE Hokkaido Section\n\nSpeaker(s): Negin Sh
 ariati Moghadam\, Dr.\, Lecturer\, \n\nRoom: 11-17\, Bldg: Graduate School
  of Information Science and Technology\, Kita 14 Nishi 9\, Kita-ward\, Sap
 poro\, Hokkaido\, Japan\, 060-0814
LOCATION:Room: 11-17\, Bldg: Graduate School of Information Science and Tec
 hnology\, Kita 14 Nishi 9\, Kita-ward\, Sapporo\, Hokkaido\, Japan\, 060-0
 814
ORGANIZER:hiroshi.tsutsui@ist.hokudai.ac.jp
SEQUENCE:1
SUMMARY:Technical Meeting
URL;VALUE=URI:https://events.vtools.ieee.org/m/160605
X-ALT-DESC:Description: &lt;br /&gt;&lt;p&gt;Lecture Meeting: Sensitive Ambient RF Ener
 gy harvesting Using Rectenna&lt;/p&gt;
END:VEVENT
END:VCALENDAR

