BEGIN:VCALENDAR
VERSION:2.0
PRODID:IEEE vTools.Events//EN
CALSCALE:GREGORIAN
BEGIN:VTIMEZONE
TZID:Asia/Karachi
BEGIN:STANDARD
DTSTART:20091031T230000
TZOFFSETFROM:+0600
TZOFFSETTO:+0500
TZNAME:PKT
END:STANDARD
END:VTIMEZONE
BEGIN:VEVENT
DTSTAMP:20180213T042958Z
UID:E15ADE98-8B0B-4E8B-8D6A-A950ABDE59AF
DTSTART;TZID=Asia/Karachi:20161214T090000
DTEND;TZID=Asia/Karachi:20161215T160000
DESCRIPTION:Student Conference on Engineering Sciences and Technology (SCON
 EST 2016) is a major national level event organized by the IEEE Karachi Se
 ction and its Student Branches since 2002. The event mainly provides a pla
 tform for the students from all over the country to meet\, network\, discu
 ss and present their work to each other. It provides an opportunity for st
 udents\, academicians and the local industry to share the latest national 
 and international trends in relevant areas and collaborate for a better fu
 ture.\n\nCo-sponsored by: Hamdard University HIET &amp; IEEE Karachi Section\n
 \nSpeaker(s): Engr. Irfan Ahmed\, Dr. Bhawani Shankar Chowdhry Maheshwari\
 n\nAgenda: \n- To gain acknowledgment and appreciation for Hamdard Univers
 ity across the country.\n- To provide students from all over Pakistan an o
 pportunity to nourish their research skills in their relevant areas.\n- To
  promote research culture among students so that can envision new areas an
 d ideas for the betterment of humanity.\n- To foster technical advancement
  among students of engineering\, sciences &amp; technology.\n- To provide a pl
 atform for student all across the country to share their indigenous work a
 nd to get it evaluated by established researchers and industry leaders.\n-
  Meet and network with top researchers\, industrialists and collaborate fo
 r the advancement of technology.\n\nRoom: A\,B\,C\,E  and Bait-ul-Hikmah A
 uditorium\, Bldg: HIET &amp; Bait-ul-Hikmah\, Hamdard University\, Madinat al-
 Hikmah\, Muhammad Bin Qasim Avenue\, Karachi\, Sindh\, Pakistan
LOCATION:Room: A\,B\,C\,E  and Bait-ul-Hikmah Auditorium\, Bldg: HIET &amp; Bai
 t-ul-Hikmah\, Hamdard University\, Madinat al-Hikmah\, Muhammad Bin Qasim 
 Avenue\, Karachi\, Sindh\, Pakistan
ORGANIZER:hietieeesb@gmail.com
SEQUENCE:0
SUMMARY:Student Conference on Engineering Sciences and Technology (SCONEST 
 2016)
URL;VALUE=URI:https://events.vtools.ieee.org/m/161708
X-ALT-DESC:Description: &lt;br /&gt;&lt;p&gt;Student Conference on Engineering Sciences
  and Technology (&lt;strong&gt;SCONEST 2016&lt;/strong&gt;) is a major national level 
 event organized by the IEEE Karachi Section and its Student Branches since
  2002. The event mainly provides a platform for the students from all over
  the country to meet\, network\, discuss and present their work to each ot
 her. It provides an opportunity for students\, academicians and the local 
 industry to share the latest national and international trends in relevant
  areas and collaborate for a better future.&lt;/p&gt;&lt;br /&gt;&lt;br /&gt;Agenda: &lt;br /&gt;&lt;
 ul&gt;\n&lt;li&gt;To gain acknowledgment and appreciation for Hamdard University ac
 ross the country.&lt;/li&gt;\n&lt;li&gt;To provide students from all over Pakistan an 
 opportunity to nourish their research skills in their relevant areas.&lt;/li&gt;
 \n&lt;li&gt;To promote research culture among students so that can envision new 
 areas and ideas for the betterment of humanity.&lt;/li&gt;\n&lt;li&gt;To foster techni
 cal advancement among students of engineering\, sciences &amp;amp\; technology
 .&lt;/li&gt;\n&lt;li&gt;To provide a platform for student all across the country to sh
 are their indigenous work and to get it evaluated by established researche
 rs and industry leaders.&lt;/li&gt;\n&lt;li&gt;Meet and network with top researchers\,
  industrialists and collaborate for the advancement of technology.&lt;/li&gt;\n&lt;
 /ul&gt;
END:VEVENT
END:VCALENDAR

