BEGIN:VCALENDAR
VERSION:2.0
PRODID:IEEE vTools.Events//EN
CALSCALE:GREGORIAN
BEGIN:VTIMEZONE
TZID:Asia/Kolkata
BEGIN:STANDARD
DTSTART:19451014T230000
TZOFFSETFROM:+0630
TZOFFSETTO:+0530
TZNAME:IST
END:STANDARD
END:VTIMEZONE
BEGIN:VEVENT
DTSTAMP:20170320T061429Z
UID:A08403E7-166E-11E8-9184-0050568D7F66
DTSTART;TZID=Asia/Kolkata:20170203T181500
DTEND;TZID=Asia/Kolkata:20170203T193000
DESCRIPTION:The Executive Committee Meeting was held at 107\, ACES Building
 \, Dept. of Electrical Engineering\, IIT Kanpur from 06:15 PM to 07:30 PM.
 \n\nMembers Present:\n\n1) Dr. R. K. Misra (on call)\n\n2) Mr. Sujeet Mish
 ra (on Skype)\n\n3) Dr. Nishchal K. Verma\n\n4) Mr. Rahul K. Sevakula\n\n5
 ) Mr. Narendra K. Dhar\n\n6) Mr. Vikas Singh\n\n7) Ms. Teena Sharma\n\n8) 
 Ms. Sonal Dixit\n\n9) Dr. Brajesh Varshney (on call)\n\n10) Mr. Tarun Main
 i (on call)\n\nWelcome and Announcements:\n\nChairman and Secretary both w
 elcomed all the members present in the meeting.\n\nAgenda Item #1: Ratific
 ation of minutes of the previous meeting.\n\nThe minutes of previous meeti
 ng were read by the Secretary and were adopted unanimously.\n\nAgenda Item
  #2: Announcement of IEEE WCI 2017\n\nSecretary announced that preparation
  for the IEEE WCI 2017 has been started. Tentative date for workshop will 
 be in 1st week of December. He requested all members to come forward for t
 he event and suggest if they have any good plan.\n\nAgenda Item #3: Announ
 cement of upcoming IEEE CIS lecture\n\nSecretary informed that an IEEE CIS
  lecture will be held in Kanpur Institute of Technology\, Kanpur on 23rd F
 eb\, 2017. The lecture will be delivered by Prof. Dr. A. K. Deb\, Dept. of
  EE\, IIT Kharagpur on “Virtual Labs”. He also thanked Dr. Brajesh Var
 shney for providing their resources for conducting the event. Dr. Varshney
  informed that he will provide hospitality and travel facility to the expe
 rts during the event.\n\nAgenda Item #4: Discussion on publicity of IEEE U
 P Section CIS Chapter Awards\n\nSecretary asked suggestions for increasing
  the no. of nominations for the award. Mr. Rahul K. Sevakula suggested pub
 licizing the chapter awards at large scale. It would also help to increase
  the number of CIS memberships. Secretary also suggested to not limit the 
 award circulation only for IEEE CIS members.\n\nAgenda Item #5: Discussion
  on IEEE UP Section CIS Chapter Awards.\n\nDiscussion: It was reported tha
 t no other nomination was received except the following:\n\n1) Distinguish
 ed Researcher in the Area of CIS Award (From Academia):\n\nDr. Nishchal K.
  Verma\, Associate Professor\, Dept. of EE\, IIT Kanpur\n\nDr. Gyanendra K
 . Verma\, Assistant Professor\, Dept. of CSE\, NIT Kurukshetra\n\n2) Disti
 nguished Researcher in the Area of CIS Award (From Industry):\n\nSri Vidhu
  Agarwal\, President\, Synergy Systems and Solutions\n\n3) Young Researche
 r in the Area of CIS (From Student Community):\n\nAbhishek\, PhD Student\,
  Dept. of EE\, IIT BHU\n\nSince two nominations were received from academi
 a for the Distinguished Researcher Award category\, therefore\, to take th
 e decision discussion was held among the executive committee members. Dr. 
 Nishchal K. Verma voluntarily left the meeting for the discussion as he wa
 s also one of the nominees. On the basis of research contribution and deve
 lopment\, Dr. Nishchal K. Verma was decided the awardee for Distinguished 
 Researcher in the Area of CIS Award (From Academia). In rest two categorie
 s only single nominations were received\, therefore it was decided to give
  award to the nominees subject to their CIS membership status.\n\nAction I
 tem: Withthe consent of all executive committee members final award list i
 s as follows.\n\n1) Distinguished Researcher in the Area of CIS Award (Fro
 m Academia):\n\nDr. Nishchal K. Verma\, Associate Professor\, Dept. of EE\
 , IIT Kanpur\n\n2) Distinguished Researcher in the Area of CIS Award (From
  Industry):\n\nShri Vidhu Agarwal\, President\, Synergy Systems and Soluti
 ons\n\n3) Young Researcher in the Area of CIS Award (From Student Communit
 y):\n\nAbhishek\, PhD Student\, Dept. of EE\, IIT BHU\n\nIt was decided to
  first ensure the membership status of these nominees and they will be inf
 ormed about the decision of the awards. As per the process\, they will be 
 requested to send their CV and contribution in area of Computational Intel
 ligence. Awards will be distributed during next upcoming.\n\nNext Meeting:
  To be announced via email.\n\nKanpur\, Uttar Pradesh\, India
LOCATION:Kanpur\, Uttar Pradesh\, India
ORGANIZER:sonaldixit07@gmail.com
SEQUENCE:0
SUMMARY:[Legacy Report] Executive Committee Meeting 
URL;VALUE=URI:https://events.vtools.ieee.org/m/167750
X-ALT-DESC:Description: &lt;br /&gt;&lt;p&gt;The Executive Committee Meeting was held a
 t 107\, ACES Building\, Dept. of Electrical Engineering\, IIT Kanpur from 
 06:15 PM to 07:30 PM.&lt;/p&gt;\n&lt;p&gt;&lt;strong&gt;Members Present: &lt;/strong&gt;&lt;/p&gt;\n&lt;p&gt;1
 )&amp;nbsp\;&amp;nbsp\; Dr. R. K. Misra (on call)&lt;/p&gt;\n&lt;p&gt;2)&amp;nbsp\;&amp;nbsp\; Mr. Suj
 eet Mishra (on Skype)&lt;/p&gt;\n&lt;p&gt;3)&amp;nbsp\;&amp;nbsp\; Dr. Nishchal K. Verma&lt;/p&gt;\n
 &lt;p&gt;4)&amp;nbsp\;&amp;nbsp\; Mr. Rahul K. Sevakula&lt;/p&gt;\n&lt;p&gt;5)&amp;nbsp\;&amp;nbsp\; Mr. Nar
 endra K. Dhar&lt;/p&gt;\n&lt;p&gt;6)&amp;nbsp\;&amp;nbsp\; Mr. Vikas Singh&lt;/p&gt;\n&lt;p&gt;7)&amp;nbsp\;&amp;n
 bsp\; Ms. Teena Sharma&lt;/p&gt;\n&lt;p&gt;8)&amp;nbsp\;&amp;nbsp\; Ms. Sonal Dixit&lt;/p&gt;\n&lt;p&gt;9)
 &amp;nbsp\;&amp;nbsp\; Dr. Brajesh Varshney (on call)&lt;/p&gt;\n&lt;p&gt;&amp;nbsp\;&amp;nbsp\; 10) M
 r. Tarun Maini (on call)&lt;/p&gt;\n&lt;p&gt;&lt;strong&gt;Welcome and Announcements: &lt;/stro
 ng&gt;&lt;/p&gt;\n&lt;p&gt;Chairman and Secretary both welcomed all the members present i
 n the meeting.&lt;/p&gt;\n&lt;p&gt;&lt;strong&gt;Agenda Item #1&lt;/strong&gt;: Ratification of mi
 nutes of the previous meeting.&lt;/p&gt;\n&lt;p&gt;The minutes of previous meeting wer
 e read by the Secretary and were adopted unanimously.&lt;/p&gt;\n&lt;p&gt;&lt;strong&gt;Agen
 da Item #2&lt;/strong&gt;: Announcement of IEEE WCI 2017&lt;/p&gt;\n&lt;p&gt;Secretary annou
 nced that preparation for the IEEE WCI 2017 has been started. Tentative da
 te for workshop will be in 1&lt;sup&gt;st&lt;/sup&gt; week of December. He requested a
 ll members to come forward for the event and suggest if they have any good
  plan.&lt;/p&gt;\n&lt;p&gt;&lt;strong&gt;Agenda Item #3&lt;/strong&gt;: Announcement of upcoming I
 EEE CIS lecture&lt;/p&gt;\n&lt;p&gt;Secretary informed that an IEEE CIS lecture will b
 e held in Kanpur Institute of Technology\, Kanpur on 23&lt;sup&gt;rd&lt;/sup&gt; Feb\,
  2017. The lecture will be delivered by Prof. Dr. A. K. Deb\, Dept. of EE\
 , IIT Kharagpur on &amp;ldquo\;Virtual Labs&amp;rdquo\;. He also thanked Dr. Braje
 sh Varshney for providing their resources for conducting the event. Dr. Va
 rshney informed that he will provide hospitality and travel facility to th
 e experts during the event.&amp;nbsp\;&lt;/p&gt;\n&lt;p&gt;&lt;strong&gt;&amp;nbsp\;&lt;/strong&gt;&lt;/p&gt;\n&lt;
 p&gt;&lt;strong&gt;Agenda Item #4&lt;/strong&gt;: Discussion on publicity of IEEE UP Sect
 ion CIS Chapter Awards&lt;/p&gt;\n&lt;p&gt;Secretary asked suggestions for increasing 
 the no. of nominations for the award. Mr. Rahul K. Sevakula suggested publ
 icizing the chapter awards at large scale. It would also help to increase 
 the number of CIS memberships. Secretary also suggested to not limit the a
 ward circulation only for IEEE CIS members.&amp;nbsp\;&amp;nbsp\;&amp;nbsp\;&amp;nbsp\;&lt;/p
 &gt;\n&lt;p&gt;&lt;strong&gt;Agenda Item #5&lt;/strong&gt;: Discussion on IEEE UP Section CIS C
 hapter Awards.&lt;/p&gt;\n&lt;p&gt;&lt;strong&gt;Discussion: &lt;/strong&gt;It was reported that n
 o other nomination was received except the following:&lt;/p&gt;\n&lt;p&gt;1) Distingui
 shed Researcher in the Area of CIS Award (From Academia):&lt;/p&gt;\n&lt;p&gt;Dr. Nish
 chal K. Verma\, Associate Professor\, Dept. of EE\, IIT Kanpur&lt;/p&gt;\n&lt;p&gt;Dr.
  Gyanendra K. Verma\, Assistant Professor\, Dept. of CSE\, NIT Kurukshetra
 &lt;/p&gt;\n&lt;p&gt;2) Distinguished Researcher in the Area of CIS Award (From Indust
 ry):&lt;/p&gt;\n&lt;p&gt;Sri Vidhu Agarwal\, President\, Synergy Systems and Solutions
 &lt;/p&gt;\n&lt;p&gt;3) Young Researcher in the Area of CIS (From Student Community):&lt;
 /p&gt;\n&lt;p&gt;Abhishek\, PhD Student\, Dept. of EE\, IIT BHU&lt;/p&gt;\n&lt;p&gt;Since two n
 ominations were received from academia for the Distinguished Researcher Aw
 ard category\, therefore\, to take the decision discussion was held among 
 the executive committee members. Dr. Nishchal K. Verma voluntarily left th
 e meeting for the discussion as he was also one of the nominees. On the ba
 sis of research contribution and development\, Dr. Nishchal K. Verma was d
 ecided the awardee for Distinguished Researcher in the Area of CIS Award (
 From Academia). In rest two categories only single nominations were receiv
 ed\, therefore it was decided to give award to the nominees subject to the
 ir CIS membership status.&lt;/p&gt;\n&lt;p&gt;&lt;strong&gt;Action Item: &lt;/strong&gt;Withthe co
 nsent of all executive committee members final award list is as follows.&lt;/
 p&gt;\n&lt;p&gt;1) Distinguished Researcher in the Area of CIS Award (From Academia
 ):&lt;/p&gt;\n&lt;p&gt;Dr. Nishchal K. Verma\, Associate Professor\, Dept. of EE\, IIT
  Kanpur&lt;/p&gt;\n&lt;p&gt;2) Distinguished Researcher in the Area of CIS Award (From
  Industry):&lt;/p&gt;\n&lt;p&gt;Shri Vidhu Agarwal\, President\, Synergy Systems and S
 olutions&lt;/p&gt;\n&lt;p&gt;3) Young Researcher in the Area of CIS Award (From Studen
 t Community):&lt;/p&gt;\n&lt;p&gt;Abhishek\, PhD Student\, Dept. of EE\, IIT BHU&lt;/p&gt;\n
 &lt;p&gt;It was decided to first ensure the membership status of these nominees 
 and they will be informed about the decision of the awards. As per the pro
 cess\, they will be requested to send their CV and contribution in area of
  Computational Intelligence. Awards will be distributed during next upcomi
 ng. &amp;nbsp\;&lt;/p&gt;\n&lt;p&gt;&lt;strong&gt;Next Meeting&lt;/strong&gt;: To be announced via ema
 il.&lt;/p&gt;\n&lt;p&gt;&amp;nbsp\;&lt;/p&gt;
END:VEVENT
END:VCALENDAR

