BEGIN:VCALENDAR
VERSION:2.0
PRODID:IEEE vTools.Events//EN
CALSCALE:GREGORIAN
BEGIN:VTIMEZONE
TZID:US/Eastern
BEGIN:DAYLIGHT
DTSTART:20170312T030000
TZOFFSETFROM:-0500
TZOFFSETTO:-0400
RRULE:FREQ=YEARLY;BYDAY=2SU;BYMONTH=3
TZNAME:EDT
END:DAYLIGHT
BEGIN:STANDARD
DTSTART:20171105T010000
TZOFFSETFROM:-0400
TZOFFSETTO:-0500
RRULE:FREQ=YEARLY;BYDAY=1SU;BYMONTH=11
TZNAME:EST
END:STANDARD
END:VTIMEZONE
BEGIN:VEVENT
DTSTAMP:20170924T185411Z
UID:A09632BB-166E-11E8-9184-0050568D7F66
DTSTART;TZID=US/Eastern:20170422T080000
DTEND;TZID=US/Eastern:20170422T190000
DESCRIPTION:www.robotchallengenj.com Full description on the web site.\n\nC
 o-sponsored by: North Jersey Section\, Princeton/Central Jersey Section\n\
 nLincroft\, New Jersey\, United States
LOCATION:Lincroft\, New Jersey\, United States
ORGANIZER:avw@ieee.org
SEQUENCE:0
SUMMARY:[Legacy Report] Robot Challenge NJ
URL;VALUE=URI:https://events.vtools.ieee.org/m/168029
X-ALT-DESC:Description: &lt;br /&gt;&lt;p&gt;www.robotchallengenj.com&amp;nbsp\; Full descr
 iption on the web site.&amp;nbsp\;&lt;/p&gt;
END:VEVENT
END:VCALENDAR

