BEGIN:VCALENDAR
VERSION:2.0
PRODID:IEEE vTools.Events//EN
CALSCALE:GREGORIAN
BEGIN:VTIMEZONE
TZID:Canada/Eastern
BEGIN:DAYLIGHT
DTSTART:20180311T030000
TZOFFSETFROM:-0500
TZOFFSETTO:-0400
RRULE:FREQ=YEARLY;BYDAY=2SU;BYMONTH=3
TZNAME:EDT
END:DAYLIGHT
BEGIN:STANDARD
DTSTART:20171105T010000
TZOFFSETFROM:-0400
TZOFFSETTO:-0500
RRULE:FREQ=YEARLY;BYDAY=1SU;BYMONTH=11
TZNAME:EST
END:STANDARD
END:VTIMEZONE
BEGIN:VEVENT
DTSTAMP:20180503T000000Z
UID:39760362-FC22-4536-92FB-1E782E216064
DTSTART;TZID=Canada/Eastern:20180307T180000
DTEND;TZID=Canada/Eastern:20180307T203000
DESCRIPTION:DESCRIPTION:\n\nIntelligent infrastructure paves the way for sm
 arter\, more integrated systems that keep economies running and contribute
  to economic success\, efficiency savings\, and economics of scales. Build
 ings not only offer space for working and living\, they are also capital i
 nvestments. Their value can be maintained only if they are operated cost-e
 ffectively. A constant reliable energy supply is central for economic grow
 th and stability\, as well as social wellbeing. However today’s grids we
 re not designed to handle the growing power requirements or the increasing
  proportion of fluctuating power generated from renewable sources. Transpo
 rtation of people and goods is a top priority for metropolitan areas. Popu
 lation growth\, congestion and the growing demand for mobility all place i
 ncreasing burdens on transport systems with negative impacts for businesse
 s\, residents and overall quality of life. A Smart City applies state-of-t
 he-art solutions enabled and improved by holistic Integration for the sake
  of the people\, of the administration\, of the business as well as of the
  environment.\n\nThe City of Toronto is currently undertaking initiatives 
 to overcome infrastructural challenges in adopting new smart technologies.
  Join us to hear from expert speakers providing us with an introduction to
  smart cities and a great overview on the plans and current projects that 
 the city of Toronto is implementing in order to make our community more ef
 ficient and one of the top technological cities in North America.\n\nPROGR
 AM:\n\n6:00 pm-6:30 pm: Opening\n\n6:30 pm-7:00 pm: Introduction to Smart 
 Cities by Lucia Casacia\, Vice President\, Cities and Infrastructure Proje
 cts\, Siemens Canada &amp; Dr. Tom Murad\, Country Lead - Engineering\, Techno
 logy &amp; Academic Relations\, Siemens Canada\n\n7:00 pm-7:20 pm: Transportat
 ion Initiatives and Vision of the City of Toronto by Gregg Loanne\, Manage
 r of ITS\, City of Toronto\n\n7:20 pm-7:40 pm: Preparing for Automated Veh
 icles at the City of Toronto by Fahad Khan\, Project Lead\, City of Toront
 o\n\n7:40 pm-8:00 pm: Focusing on Smart to Move Toronto from Good to Great
  by Natasha Apollonova\, Associate Vice President\, Policy\, Toronto Board
  of Trade\n\n8:00 pm-8:10 pm: Open Panel Discussion on Job Opportunities i
 n Technology Infrastructure and Smart Cities\n\n8:10 pm-8:20 pm: Q&amp;A\n\n8:
 20 pm-8:30 pm: Closing\n\nTIME &amp; DATE:\n\nWednesday\, March 7th\, 6:00 pm-
 8:30 pm\n\nLOCATION:\n\nRoom 2106\, Sidney Smith Hall\, University of Toro
 nto\n\n100 St George St\, Toronto\, ON M5S 3G3\n\nLight refreshments will 
 be provided.\n\nThis seminar is organized by IEEE Toronto&#39;s Industry Relat
 ions Committee and the Power &amp; Energy Chapter\, in collaboration with Siem
 ens Canada IEEE Committee and Ontario Society of Professional Engineers (O
 SPE) [https://www.ospe.on.ca].\n\nBiographies:\n\nLucia Casacia\n\nAs the 
 Vice President\, Cities and Infrastructure Projects\, Lucia leads Siemens 
 Canada’s strategic focus on cities account management in order to levera
 ge federal\, provincial and municipal government infrastructure investment
  in cities across Canada. Lucia brings to Siemens extensive experience in 
 the areas of engineering\, construction management and commissioning of ca
 pital expansion projects. She is a valued member of Siemens Canada’s lea
 dership team\, most recently as the head of the Low Voltage &amp; Products bus
 iness unit in the Energy Management division.\n\nLucia is a graduate of Mc
 Master University and has a Masters Certi_cate in Strategic Leadership fro
 m the Schulich School of Business in Toronto. Other areas of certi_cation 
 include Operational Excellence and Lean Manufacturing (5S).\n\nDr. Tom Mur
 ad\n\nTom is a respected leader\, thinker\, and distinguished speaker on t
 he topics of Engineering\, Technology and Technical talents development an
 d education and a member of PEO Engineering Order of Honour. Tom joined Si
 emens Canada in 2010\, he is the founder of the Siemens Canada Engineering
  and Technology Academy &quot;SCETA&quot;\, that he established and directed since O
 ctober 2014. He is also serving as a member of various advisory Boards of 
 Directors in the Industry and Academia. Tom has about 40 years of Professi
 onal Engineering and Technical Operations Executive Management including A
 cademic and R&amp;D work in Electrical power\, Industrial Controls and Automat
 ion. Dr. Murad holds a Bachelor of Engineering (Electrical &amp; Electronics)\
 , and a Doctorate (Ph.D.) in Power Electronics and Industrial Controls fro
 m Loughborough University of Technology in the UK\, with a Leadership Prog
 ram Certificate from Schulich Business School\, York University in Ontario
 \, Canada. Dr. Murad is a Fellow of Engineers Canada\, a licensed (P.Eng.)
  member of The Professional Engineering Ontario (PEO)\; APEGA in Alberta\,
  and NAPEG in the North Western Territories. He is a Senior Member of IEEE
 \, and is member of Board of Directors – IEEE Canada\, past chair of Exe
 cutive Committee – IEEE Toronto Section\, member of Board of Directors 
 – Canadian-German Centre for Innovation and Research\, member of the PEO
  Licensing “Engineering Experience Review” – ERC Committee since 200
 2\, member of OSPE’s Hamilton – Halton Engineering week Committee\, an
 d he is serving on various Advisory Boards in the Industry and the Academi
 a.\n\nGregg Loane\n\nGregg is currently the Manager – ITS Capital Delive
 ry for the City of Toronto. He has over 25 years of ITS experience\, split
  evenly between the public and private sectors\, with a focus on connectin
 g client / user needs with appropriate transportation technology solutions
 \, as well as education in the field of ITS. His current responsibilities 
 include deploying ITS for a variety of municipal applications (e.g. signal
  control\, incident management\, traveller information\, etc.)\, and for p
 roviding technical representation on Toronto&#39;s Autonomous Vehicle Preparat
 ion and Unattended Aerial Vehicle Working Groups. In the private sector\, 
 he led large-scale ATIS deployments (e.g. the Los Angeles and Florida 511 
 systems). These experiences built his strengths in project management\, pr
 oject finance\, and personnel management\, and have provided insight into 
 a wide range of ITS-related user needs.\n\nRoom: 2106\, Bldg: Sidney Smith
  Hall\, 100 St George St.\, Toronto\, Ontario\, Canada\, M5S 3G3
LOCATION:Room: 2106\, Bldg: Sidney Smith Hall\, 100 St George St.\, Toronto
 \, Ontario\, Canada\, M5S 3G3
ORGANIZER:omid.alizadeh@ieee.org
SEQUENCE:14
SUMMARY:Symposium on Smart Cities and Transportation
URL;VALUE=URI:https://events.vtools.ieee.org/m/168324
X-ALT-DESC:Description: &lt;br /&gt;&lt;p&gt;&lt;strong&gt;&lt;u&gt;DESCRIPTION:&lt;/u&gt;&lt;/strong&gt;&lt;/p&gt;\n
 &lt;p&gt;Intelligent infrastructure paves the way for smarter\, more integrated 
 systems that keep economies running and contribute to economic success\, e
 fficiency savings\, and economics of scales. Buildings not only offer spac
 e for working and living\, they are also capital investments. Their value 
 can be maintained only if they are operated cost-effectively. A constant r
 eliable energy supply is central for economic growth and stability\, as we
 ll as social wellbeing. However today&amp;rsquo\;s grids were not designed to 
 handle the growing power requirements or the increasing proportion of fluc
 tuating power generated from renewable sources. Transportation of people a
 nd goods is a top priority for metropolitan areas. Population growth\, con
 gestion and the growing demand for mobility all place increasing burdens o
 n transport systems with negative impacts for businesses\, residents and o
 verall quality of life. A Smart City applies state-of-the-art solutions en
 abled and improved by holistic Integration for the sake of the people\, of
  the administration\, of the business as well as of the environment.&lt;/p&gt;\n
 &lt;p&gt;The City of Toronto is currently undertaking initiatives to overcome in
 frastructural challenges in adopting new smart technologies. Join us to he
 ar from expert speakers providing us with an introduction to smart cities 
 and a great overview on the plans and current projects that the city of To
 ronto is implementing in order to make our community more efficient and on
 e of the top technological cities in North America.&lt;/p&gt;\n&lt;p&gt;&amp;nbsp\;&lt;/p&gt;\n&lt;
 p&gt;&lt;strong&gt;&lt;u&gt;PROGRAM&lt;/u&gt;&lt;/strong&gt;:&lt;/p&gt;\n&lt;p&gt;6:00 pm-6:30 pm: &lt;strong&gt;Openin
 g&lt;/strong&gt;&lt;/p&gt;\n&lt;p&gt;6:30 pm-7:00 pm: &lt;strong&gt;Introduction to&lt;/strong&gt; &lt;stro
 ng&gt;Smart Cities &lt;/strong&gt;by Lucia Casacia\, Vice President\, Cities and In
 frastructure Projects\, Siemens Canada &amp;amp\; Dr. Tom Murad\, Country Lead
  - Engineering\, Technology &amp;amp\; Academic Relations\, Siemens Canada&lt;/p&gt;
 \n&lt;p&gt;7:00 pm-7:20 pm: &lt;strong&gt;Transportation Initiatives and Vision of the
  City of Toronto&lt;/strong&gt; by Gregg Loanne\, Manager of ITS\, City of Toron
 to&lt;/p&gt;\n&lt;p&gt;7:20 pm-7:40 pm: &lt;strong&gt;Preparing for Automated Vehicles at th
 e City of Toronto&lt;/strong&gt; by Fahad Khan\, Project Lead\, City of Toronto&lt;
 /p&gt;\n&lt;p&gt;7:40 pm-8:00 pm: &lt;strong&gt;Focusing on Smart to Move Toronto from Go
 od to Great&lt;/strong&gt; by Natasha Apollonova\, Associate Vice President\, Po
 licy\, Toronto Board of Trade&lt;/p&gt;\n&lt;p&gt;8:00 pm-8:10 pm: &lt;strong&gt;Open Panel 
 Discussion on Job Opportunities in Technology Infrastructure and Smart Cit
 ies&lt;/strong&gt;&lt;/p&gt;\n&lt;p&gt;8:10 pm-8:20 pm: &lt;strong&gt;Q&amp;amp\;A&lt;/strong&gt;&lt;/p&gt;\n&lt;p&gt;8:
 20 pm-8:30 pm: &lt;strong&gt;Closing&lt;/strong&gt;&lt;/p&gt;\n&lt;p&gt;&amp;nbsp\;&lt;/p&gt;\n&lt;p&gt;&lt;strong&gt;&lt;u
 &gt;TIME &amp;amp\; DATE&lt;/u&gt;&lt;/strong&gt;:&lt;/p&gt;\n&lt;p&gt;Wednesday\, March 7th\, 6:00 pm-8:
 30 pm&lt;/p&gt;\n&lt;p&gt;&amp;nbsp\;&lt;/p&gt;\n&lt;p&gt;&lt;strong&gt;&lt;u&gt;LOCATION&lt;/u&gt;&lt;/strong&gt;:&lt;/p&gt;\n&lt;p&gt;Ro
 om 2106\,&amp;nbsp\;Sidney Smith Hall\, University of Toronto&lt;/p&gt;\n&lt;p&gt;100 St G
 eorge St\, Toronto\, ON M5S 3G3&lt;/p&gt;\n&lt;p&gt;&amp;nbsp\;&lt;/p&gt;\n&lt;p&gt;Light refreshments
  will be provided.&lt;/p&gt;\n&lt;p&gt;This seminar is organized by&amp;nbsp\;IEEE Toronto
 &#39;s Industry Relations Committee and the Power &amp;amp\; Energy Chapter\, in c
 ollaboration with&amp;nbsp\;Siemens Canada IEEE Committee and Ontario Society 
 of Professional Engineers (OSPE) [https://www.ospe.on.ca].&lt;/p&gt;\n&lt;p&gt;&amp;nbsp\;
 &lt;/p&gt;\n&lt;p&gt;&lt;strong&gt;&lt;u&gt;Biographies:&lt;/u&gt;&lt;/strong&gt;&lt;/p&gt;\n&lt;p&gt;&amp;nbsp\;&lt;/p&gt;\n&lt;p&gt;&lt;str
 ong&gt;Lucia Casacia &lt;/strong&gt;&lt;/p&gt;\n&lt;p&gt;As the Vice President\, Cities and Inf
 rastructure Projects\, Lucia leads Siemens Canada&amp;rsquo\;s strategic focus
  on cities account management in order to leverage federal\, provincial an
 d municipal government infrastructure investment in cities across Canada. 
 Lucia brings to Siemens extensive experience in the areas of engineering\,
  construction management and commissioning of capital expansion projects. 
 She is a valued member of Siemens Canada&amp;rsquo\;s leadership team\, most r
 ecently as the head of the Low Voltage &amp;amp\; Products business unit in th
 e Energy Management division.&lt;/p&gt;\n&lt;p&gt;Lucia is a graduate of McMaster Univ
 ersity and has a Masters Certi_cate in Strategic Leadership from the Schul
 ich School of Business in Toronto. Other areas of certi_cation include Ope
 rational Excellence and Lean Manufacturing (5S).&lt;/p&gt;\n&lt;p&gt;&amp;nbsp\;&lt;/p&gt;\n&lt;p&gt;&lt;
 strong&gt;Dr. Tom Murad&lt;/strong&gt;&lt;/p&gt;\n&lt;p&gt;Tom is a respected leader\, thinker\
 , and distinguished speaker on the topics of Engineering\, Technology and 
 Technical talents development and education and a&amp;nbsp\;member of PEO Engi
 neering Order of Honour.&amp;nbsp\;Tom joined Siemens Canada in 2010\, he is t
 he founder of the Siemens Canada Engineering and Technology Academy &quot;SCETA
 &quot;\, that he established and directed since October 2014. He is also servin
 g as a member of various advisory Boards of Directors in the Industry and 
 Academia. Tom has about 40 years of Professional Engineering and Technical
  Operations Executive Management including Academic and R&amp;amp\;D work in E
 lectrical power\, Industrial Controls and Automation. Dr. Murad holds a Ba
 chelor of Engineering (Electrical &amp;amp\; Electronics)\, and a Doctorate (P
 h.D.) in Power Electronics and Industrial Controls from Loughborough Unive
 rsity of Technology in the UK\, with a Leadership Program Certificate from
  Schulich Business School\, York University in Ontario\, Canada. Dr. Murad
  is a Fellow of Engineers Canada\, a licensed (P.Eng.) member of The Profe
 ssional Engineering Ontario (PEO)\; APEGA in Alberta\, and NAPEG in the No
 rth Western Territories. He is a Senior Member of IEEE\, and is member of 
 Board of Directors &amp;ndash\; IEEE Canada\, past chair of Executive Committe
 e &amp;ndash\; IEEE Toronto Section\, member of Board of Directors &amp;ndash\; Ca
 nadian-German Centre for Innovation and Research\, member of the PEO Licen
 sing &amp;ldquo\;Engineering Experience Review&amp;rdquo\; &amp;ndash\; ERC Committee 
 since 2002\, member of OSPE&amp;rsquo\;s Hamilton &amp;ndash\; Halton Engineering 
 week Committee\, and he is serving on various Advisory Boards in the Indus
 try and the Academia.&lt;/p&gt;\n&lt;p&gt;&amp;nbsp\;&lt;/p&gt;\n&lt;p&gt;&lt;strong&gt;Gregg Loane&lt;/strong&gt;
 &lt;/p&gt;\n&lt;p&gt;Gregg is currently the Manager &amp;ndash\; ITS Capital Delivery for 
 the City of Toronto. He has over 25 years of ITS experience\, split evenly
  between the public and private sectors\, with a focus on connecting clien
 t / user needs with appropriate transportation technology solutions\, as w
 ell as education in the field of ITS. His current responsibilities include
  deploying ITS for a variety of municipal applications (e.g. signal contro
 l\, incident management\, traveller information\, etc.)\, and for providin
 g technical representation on Toronto&#39;s Autonomous Vehicle Preparation and
  Unattended Aerial Vehicle Working Groups. In the private sector\, he led 
 large-scale ATIS deployments (e.g. the Los Angeles and Florida 511 systems
 ). These experiences built his strengths in project management\, project f
 inance\, and personnel management\, and have provided insight into a wide 
 range of ITS-related user needs.&lt;/p&gt;
END:VEVENT
END:VCALENDAR

