BEGIN:VCALENDAR
VERSION:2.0
PRODID:IEEE vTools.Events//EN
CALSCALE:GREGORIAN
BEGIN:VTIMEZONE
TZID:Asia/Calcutta
BEGIN:STANDARD
DTSTART:19451014T230000
TZOFFSETFROM:+0630
TZOFFSETTO:+0530
TZNAME:IST
END:STANDARD
END:VTIMEZONE
BEGIN:VEVENT
DTSTAMP:20180503T000000Z
UID:3AA34141-41B0-4432-AF41-7D91E4858894
DTSTART;TZID=Asia/Calcutta:20180309T110000
DTEND;TZID=Asia/Calcutta:20180309T170000
DESCRIPTION:This contest will encourage the spirit of competitiveness and a
 ccelerate learning through extra-curricular activities\, within the studen
 t community and prepare themselves to become smart professionals. We are e
 xpecting approximate 80-100 participants in this event.\n\nCo-sponsored by
 : MEFGI\, Rajkot\n\nAgenda: \nIEEE Women in Engineering Affinity Group Eve
 nt\n\nRoom: MC301\, Bldg: Main Building\, Marwadi Education Foundations Gr
 oup of Institutions\, Rajkot Morbi Highway\, Gauridad\, Rajkot\, Gujarat\,
  India\, 360003
LOCATION:Room: MC301\, Bldg: Main Building\, Marwadi Education Foundations 
 Group of Institutions\, Rajkot Morbi Highway\, Gauridad\, Rajkot\, Gujarat
 \, India\, 360003
ORGANIZER:sahista.machchhar@marwadieducation.edu.in
SEQUENCE:4
SUMMARY:ProgrammersFrenzy- A Platform for Aspiring Programmers
URL;VALUE=URI:https://events.vtools.ieee.org/m/168778
X-ALT-DESC:Description: &lt;br /&gt;&lt;p&gt;This contest will&amp;nbsp\;encourage the spir
 it of competitiveness and accelerate learning through extra-curricular act
 ivities\,&amp;nbsp\;within the student community and prepare themselves to bec
 ome smart professionals. We are&amp;nbsp\;expecting approximate 80-100 partici
 pants in this event.&lt;/p&gt;&lt;br /&gt;&lt;br /&gt;Agenda: &lt;br /&gt;&lt;p&gt;IEEE Women in Enginee
 ring Affinity Group Event&lt;/p&gt;
END:VEVENT
END:VCALENDAR

