BEGIN:VCALENDAR
VERSION:2.0
PRODID:IEEE vTools.Events//EN
CALSCALE:GREGORIAN
BEGIN:VTIMEZONE
TZID:US/Eastern
BEGIN:DAYLIGHT
DTSTART:20180311T030000
TZOFFSETFROM:-0500
TZOFFSETTO:-0400
RRULE:FREQ=YEARLY;BYDAY=2SU;BYMONTH=3
TZNAME:EDT
END:DAYLIGHT
BEGIN:STANDARD
DTSTART:20171105T010000
TZOFFSETFROM:-0400
TZOFFSETTO:-0500
RRULE:FREQ=YEARLY;BYDAY=1SU;BYMONTH=11
TZNAME:EST
END:STANDARD
END:VTIMEZONE
BEGIN:VEVENT
DTSTAMP:20180503T000000Z
UID:32C9EBBD-E50D-4F2E-B560-118F176C5A03
DTSTART;TZID=US/Eastern:20180305T182000
DTEND;TZID=US/Eastern:20180305T203000
DESCRIPTION:Forge Initiative is a non-profit organization which has taken i
 mpressive measures towards its actual objectives – forging communities f
 or all ages to collaboratively explore\, learn and lead using technology a
 nd leadership. It is a local makerspace involving all STEM disciplines by 
 few volunteers (Rob Mackie\, Dr. Linda D. Whipker and others) with a visio
 n to improve the local technology gap in the community for future generati
 ons.\n\nPlease refer to the following site for more information about Forg
 e Initiative.\n\nhttp://theforgeinitiative.org/\n\nForge has been specific
 ally effective in creating makers out of high school students. It is an us
 ual scene at Forge to see high school students working later in the evenin
 gs on their hands on projects involving general mechatronics and robotics 
 hobby and/or competition projects – with greatest degree of focus and pa
 ssion.\n\nDuring our March IEEE R&amp;A event\, the members of team PyroTech\,
  FRC 3459\, high school student members of the Forge Initiative who have w
 orked with IEEE on the humanoid Robot project would present their work fro
 m current year&#39;s competition build season.\n\nIEEE section members at the 
 meeting can expect to learn about current year&#39;s competition and see a dem
 o of the team&#39;s backup robot (the primary robot is already sealed for comp
 etition). Next generation makers from Forge Initiative will design and imp
 lementation architecture of the robot followed by a open Q&amp;A session.\n\nF
 rom IEEE R&amp;A\, we are extending our warm invitation and wish our best for 
 these highly motivated team of high school students. We would like rest of
  the students\, hobbyists\, academia\, professionals and seniors to be ins
 pired by the positive skillset of the next generation makers.\n\nAgenda: \
 n6:20-7:00pm Networking with pizza and soda\n\nThe times below are approxi
 mate and are given just as a guideline:\n\n7:00-7:10pm News and announceme
 nts\n\n7:10-7:50pm Forge Initiative Next Generation Makers involving high 
 school students will describe the design and implementation of their curre
 nt year&#39;s competition build season robot project using the team&#39;s R&amp;A proj
 ects.\n\n7:50-8:00pm Brief Q/A from IEEE students\, hobbyists\, profession
 als and seniors\n\n8:00-8:30pm Show-n-Tell (if interested\, bring out your
  projects to show to other members)\n\nRoom: 1007\, Bldg: Engineering Buil
 ding 1 (EB1)\, 911 Partners Way\, Raleigh\, North Carolina\, United States
 \, 27606
LOCATION:Room: 1007\, Bldg: Engineering Building 1 (EB1)\, 911 Partners Way
 \, Raleigh\, North Carolina\, United States\, 27606
ORGANIZER:mbalasu@ncsu.edu
SEQUENCE:8
SUMMARY:Forge Initiative - Robotic Project Walkthrough from Next Generation
  Makers(Team PyroTech\, FRC 3459)
URL;VALUE=URI:https://events.vtools.ieee.org/m/168840
X-ALT-DESC:Description: &lt;br /&gt;&lt;p&gt;&lt;strong&gt;Forge Initiative is a non-profit o
 rganization which has taken impressive measures towards its actual objecti
 ves &amp;ndash\; forging communities for all ages to collaboratively explore\,
  learn and lead using technology and leadership.&amp;nbsp\; It is a local make
 rspace involving all STEM disciplines by few volunteers (Rob Mackie\, Dr. 
 Linda D. Whipker and others) with a vision to improve the local technology
  gap in the community for future generations.&amp;nbsp\;&lt;/strong&gt;&lt;/p&gt;\n&lt;p&gt;&lt;str
 ong&gt;Please refer to the following site for more information about Forge In
 itiative.&lt;/strong&gt;&lt;/p&gt;\n&lt;p&gt;&lt;strong&gt;&lt;a href=&quot;http://theforgeinitiative.org/
 &quot;&gt;http://theforgeinitiative.org/&lt;/a&gt;&lt;/strong&gt;&lt;/p&gt;\n&lt;p&gt;&lt;strong&gt;Forge has be
 en specifically effective in creating makers out of high school students.&amp;
 nbsp\; It is an usual scene at Forge to see high school students working l
 ater in the evenings on their hands on projects involving general mechatro
 nics and robotics hobby and/or competition projects &amp;ndash\; with greatest
  degree of focus and passion.&lt;/strong&gt;&lt;/p&gt;\n&lt;p&gt;&lt;strong&gt;During our March IE
 EE R&amp;amp\;A event\, the members of team PyroTech\, FRC 3459\, high school 
 student members of the Forge Initiative who have worked with IEEE on the h
 umanoid Robot project would present their work from current year&#39;s competi
 tion build season.&lt;/strong&gt;&lt;/p&gt;\n&lt;p&gt;&lt;strong&gt;IEEE section members at the me
 eting can expect to learn about current year&#39;s competition and see a demo 
 of the team&#39;s backup robot (the primary robot is already sealed for compet
 ition).&amp;nbsp\; Next generation makers from Forge Initiative will design an
 d implementation architecture of the robot&amp;nbsp\;followed by a open Q&amp;amp\
 ;A session.&lt;/strong&gt;&lt;/p&gt;\n&lt;p&gt;&lt;strong&gt;From IEEE R&amp;amp\;A\, we are extending
  our warm invitation and wish our best for these highly motivated team of 
 high school students.&amp;nbsp\; We would like rest of the students\, hobbyist
 s\, academia\, professionals and seniors to be inspired by the positive sk
 illset of the next generation makers. &amp;nbsp\;&lt;/strong&gt;&lt;/p&gt;\n&lt;p&gt;&amp;nbsp\;&lt;/p&gt;
 &lt;br /&gt;&lt;br /&gt;Agenda: &lt;br /&gt;&lt;p&gt;6:20-7:00pm Networking with pizza and soda&lt;/p
 &gt;\n&lt;p&gt;The times below are approximate and are given just as a guideline:&lt;/
 p&gt;\n&lt;p&gt;7:00-7:10pm News and announcements&lt;/p&gt;\n&lt;p&gt;7:10-7:50pm Forge Initia
 tive Next Generation Makers involving high school students will describe t
 he design and implementation of their current year&#39;s competition build sea
 son robot project using the team&#39;s R&amp;amp\;A projects.&lt;/p&gt;\n&lt;p&gt;7:50-8:00pm 
 Brief Q/A from IEEE students\, hobbyists\, professionals and seniors&lt;/p&gt;\n
 &lt;p&gt;8:00-8:30pm Show-n-Tell (if interested\, bring out your projects to sho
 w to other members)&lt;/p&gt;
END:VEVENT
END:VCALENDAR

