BEGIN:VCALENDAR
VERSION:2.0
PRODID:IEEE vTools.Events//EN
CALSCALE:GREGORIAN
BEGIN:VTIMEZONE
TZID:America/Port_of_Spain
BEGIN:STANDARD
DTSTART:19450930T010000
TZOFFSETFROM:-0300
TZOFFSETTO:-0400
TZNAME:AST
END:STANDARD
END:VTIMEZONE
BEGIN:VEVENT
DTSTAMP:20190315T211147Z
UID:4D0ED6F1-4090-4B4D-808F-0BD93DB64A17
DTSTART;TZID=America/Port_of_Spain:20180308T130000
DTEND;TZID=America/Port_of_Spain:20180308T160000
DESCRIPTION:TTLAB (http://lab.tt) is a research group whose objective is to
  pursue research beneficial to society but also of publication\nlevel qual
 ity. It consists mainly of Postgraduate Students and Researchers in Comput
 er Science\, Electrical Engineering and\nMathematics who are all dedicated
  to the pursuit of research in their respective field. In this\, our fifth
  semi-annual preview\,\nwe present research that was published over the la
 st six months. All publications are available at lab.tt/publications.\n\nD
 CIT Conference Room\, 2nd Floor\, NatSci Building\, UWI \, St. Augustine\,
  Trinidad &amp; Tobago\, Trinidad &amp; Tobago
LOCATION:DCIT Conference Room\, 2nd Floor\, NatSci Building\, UWI \, St. Au
 gustine\, Trinidad &amp; Tobago\, Trinidad &amp; Tobago
ORGANIZER:patrick@hosein.tt
SEQUENCE:1
SUMMARY:Fifth Preview of TTNIC Sponsored Research
URL;VALUE=URI:https://events.vtools.ieee.org/m/169096
X-ALT-DESC:Description: &lt;br /&gt;&lt;p&gt;TTLAB (http://lab.tt) is a research group 
 whose objective is to pursue research beneficial to society but also of pu
 blication&lt;br /&gt;level quality. It consists mainly of Postgraduate Students 
 and Researchers in Computer Science\, Electrical Engineering and&lt;br /&gt;Math
 ematics who are all dedicated to the pursuit of research in their respecti
 ve field. In this\, our fifth semi-annual preview\,&lt;br /&gt;we present resear
 ch that was published over the last six months. All publications are avail
 able at lab.tt/publications.&lt;/p&gt;
END:VEVENT
END:VCALENDAR

