BEGIN:VCALENDAR
VERSION:2.0
PRODID:IEEE vTools.Events//EN
CALSCALE:GREGORIAN
BEGIN:VTIMEZONE
TZID:America/Montreal
BEGIN:DAYLIGHT
DTSTART:20180311T030000
TZOFFSETFROM:-0500
TZOFFSETTO:-0400
RRULE:FREQ=YEARLY;BYDAY=2SU;BYMONTH=3
TZNAME:EDT
END:DAYLIGHT
BEGIN:STANDARD
DTSTART:20181104T010000
TZOFFSETFROM:-0400
TZOFFSETTO:-0500
RRULE:FREQ=YEARLY;BYDAY=1SU;BYMONTH=11
TZNAME:EST
END:STANDARD
END:VTIMEZONE
BEGIN:VEVENT
DTSTAMP:20180503T000000Z
UID:A565BCED-3C09-4B38-BC81-29D8A5BF5A8E
DTSTART;TZID=America/Montreal:20180410T180000
DTEND;TZID=America/Montreal:20180410T200000
DESCRIPTION:A networking soirée with presentations from local experts on t
 he Technologies behind Smart Assistants.\n\nThe IEEE Consumer Electronics 
 Chapter at Montreal Section is pleased to announce a series of short prese
 ntations by local technology organizations\, followed by networking. Compl
 imentary snacks and drinks provided. It will be held on Tuesday 10th April
  at WeWork\, [3 Place Ville Marie](https://maps.google.com/?q=3+Place+Vill
 e+Marie\,+4th%0D+Floor&amp;entry=gmail&amp;source=g)\, 4th Floor reception\, from 
 6pm - 8pm.\n\nLocal experts will showcase their technology and product vis
 ion\, and their role in the Smart Assistant ecosystem\, covering topics su
 ch as:\n\n- Speech recognition - Vikrant Tomar\, Fluent.ai\n- Chatbots / c
 onversational systems - Frederic Ratle\, Automat.ai\n- NLP &amp; Intent parser
 s - Tavian Barnes\, Microsoft\n- Internet-of-Things platforms - Soodeh Far
 okhi\, C2RO\n- Human-computer interaction &amp; interfaces - Bessam Abdulrazak
 \, University of Sherbrooke\n\nRegistration is free\, but places are limit
 ed - click below now to reserve yours!\n\nCo-sponsored by IEEE Montreal Se
 ction and WeWork.\n\n- WeWork is a community of creators that aims to help
  companies grow by providing them with not just beautiful space\, but also
  the benefits\, amenities\, and professional community they need to focus 
 on their business. Visit [our website](https://www.wework.com/l/montreal--
 QC) to set up a tour today!\n- WeWork offre à son réseau international d
 e créateurs l’espace de travail\, la communauté\, et les services dont
  ils ont besoin afin qu&#39;ils s&#39;épanouissent non seulement dans leur travai
 l\, mais aussi dans leur vie. [Cliquez ici](https://www.wework.com/l/montr
 eal--QC) pour visiter nos espaces dès maintenant!\n\nCo-sponsored by: WeW
 ork and IEEE Montreal Section\n\nAgenda: \n6:00 p.m. - 6:15 p.m. Registrat
 ion\, Networking &amp; Refreshments\n\n6:15 p.m. - 7:00 p.m. Presentations\n\n
 7:00 p.m. - 8:00 p.m. Networking\, snacks and drinks\n\n3 Place Ville Mari
 e \, WeWork\, 4th Floor\, Montreal\, Quebec\, Canada\, H3B 2E3 
LOCATION:3 Place Ville Marie \, WeWork\, 4th Floor\, Montreal\, Quebec\, Ca
 nada\, H3B 2E3 
ORGANIZER:ce.montreal@ieee.org
SEQUENCE:25
SUMMARY:Alexa\, Siri\, … what technology makes you work?
URL;VALUE=URI:https://events.vtools.ieee.org/m/169345
X-ALT-DESC:Description: &lt;br /&gt;&lt;p dir=&quot;ltr&quot;&gt;A networking soir&amp;eacute\;e with
  presentations from local experts on the Technologies behind Smart Assista
 nts.&lt;/p&gt;\n&lt;p dir=&quot;ltr&quot;&gt;The IEEE Consumer Electronics Chapter at Montreal S
 ection is pleased to announce a series of short presentations by local tec
 hnology organizations\, followed by networking. &lt;strong&gt;Complimentary snac
 ks and drinks provided.&lt;/strong&gt; It will be held on Tuesday&amp;nbsp\;&lt;strong&gt;
 10th&amp;nbsp\;April&amp;nbsp\;&lt;/strong&gt;at&amp;nbsp\;&lt;span style=&quot;text-decoration: und
 erline\;&quot;&gt;&lt;span class=&quot;il&quot;&gt;WeWork&lt;/span&gt;\,&amp;nbsp\;&lt;a href=&quot;https://maps.goo
 gle.com/?q=3+Place+Ville+Marie\,+4th%0D+Floor&amp;amp\;entry=gmail&amp;amp\;source
 =g&quot;&gt;3 Place Ville Marie&lt;/a&gt;&lt;/span&gt;\, 4th Floor reception\, from &lt;span styl
 e=&quot;text-decoration: underline\;&quot;&gt;6pm - 8pm&lt;/span&gt;.&lt;/p&gt;\n&lt;p&gt;Local experts w
 ill showcase their technology and product vision\, and their role in the S
 mart Assistant ecosystem\, covering topics such as:&lt;/p&gt;\n&lt;ul&gt;\n&lt;ul&gt;\n&lt;li&gt;S
 peech recognition - Vikrant Tomar\, Fluent.ai&lt;/li&gt;\n&lt;li&gt;Chatbots / convers
 ational systems - Frederic Ratle\, Automat.ai&lt;/li&gt;\n&lt;li&gt;NLP &amp;amp\; Intent 
 parsers - Tavian Barnes\, Microsoft&lt;/li&gt;\n&lt;li&gt;Internet-of-Things platforms
  - Soodeh Farokhi\, C2RO&lt;/li&gt;\n&lt;li&gt;Human-computer interaction &amp;amp\; inter
 faces - Bessam Abdulrazak\, University of Sherbrooke&lt;/li&gt;\n&lt;/ul&gt;\n&lt;/ul&gt;\n&lt;
 p dir=&quot;ltr&quot;&gt;&lt;strong&gt;Registration is free\, but places are limited - click 
 below now to reserve yours!&lt;/strong&gt;&lt;/p&gt;\n&lt;p dir=&quot;ltr&quot;&gt;Co-sponsored by IEE
 E Montreal Section and WeWork.&lt;/p&gt;\n&lt;ul&gt;\n&lt;li&gt;&lt;em&gt;&lt;span style=&quot;font-size: 
 10pt\;&quot;&gt;WeWork is a community of creators that aims to help companies grow
  by providing them with not just beautiful space\, but also the benefits\,
  amenities\, and professional community they need to focus on their busine
 ss. Visit &lt;a href=&quot;https://www.wework.com/l/montreal--QC&quot; target=&quot;_blank&quot; 
 rel=&quot;noopener&quot; data-saferedirecturl=&quot;https://www.google.com/url?hl=en&amp;amp\
 ;q=https://www.wework.com/l/montreal--QC&amp;amp\;source=gmail&amp;amp\;ust=150201
 6000032000&amp;amp\;usg=AFQjCNHVa4UboyLf6gqJiIoMFCse67BHCg&quot;&gt;our website&lt;/a&gt; to
  set up a tour today!&lt;/span&gt;&lt;/em&gt;&lt;/li&gt;\n&lt;li&gt;&lt;em&gt;&lt;span style=&quot;font-size: 10
 pt\;&quot;&gt;WeWork offre &amp;agrave\; son r&amp;eacute\;seau international de cr&amp;eacute
 \;ateurs l&amp;rsquo\;espace de travail\, la communaut&amp;eacute\;\, et les servi
 ces dont ils ont besoin afin qu&#39;ils s&#39;&amp;eacute\;panouissent non seulement d
 ans leur travail\, mais aussi dans leur vie. &lt;a href=&quot;https://www.wework.c
 om/l/montreal--QC&quot; target=&quot;_blank&quot; rel=&quot;noopener&quot; data-saferedirecturl=&quot;ht
 tps://www.google.com/url?hl=en&amp;amp\;q=https://www.wework.com/l/montreal--Q
 C&amp;amp\;source=gmail&amp;amp\;ust=1502016000032000&amp;amp\;usg=AFQjCNHVa4UboyLf6gq
 JiIoMFCse67BHCg&quot;&gt;Cliquez ici&lt;/a&gt; pour visiter nos espaces d&amp;egrave\;s main
 tenant!&lt;/span&gt;&lt;/em&gt;&lt;/li&gt;\n&lt;/ul&gt;&lt;br /&gt;&lt;br /&gt;Agenda: &lt;br /&gt;&lt;p dir=&quot;ltr&quot;&gt;&lt;str
 ong&gt;6:00 p.m. - 6:15 p.m.&lt;/strong&gt; Registration\, Networking &amp;amp\; Refres
 hments&lt;/p&gt;\n&lt;p dir=&quot;ltr&quot;&gt;&lt;strong&gt;6:15 p.m. - 7:00 p.m.&lt;/strong&gt; Presentati
 ons&lt;/p&gt;\n&lt;p dir=&quot;ltr&quot;&gt;&lt;strong&gt;7:00 p.m. - 8:00 p.m.&lt;/strong&gt; Networking\, 
 snacks and drinks&lt;/p&gt;
END:VEVENT
END:VCALENDAR

