BEGIN:VCALENDAR
VERSION:2.0
PRODID:IEEE vTools.Events//EN
CALSCALE:GREGORIAN
BEGIN:VTIMEZONE
TZID:US/Central
BEGIN:DAYLIGHT
DTSTART:20180311T030000
TZOFFSETFROM:-0600
TZOFFSETTO:-0500
RRULE:FREQ=YEARLY;BYDAY=2SU;BYMONTH=3
TZNAME:CDT
END:DAYLIGHT
BEGIN:STANDARD
DTSTART:20181104T010000
TZOFFSETFROM:-0500
TZOFFSETTO:-0600
RRULE:FREQ=YEARLY;BYDAY=1SU;BYMONTH=11
TZNAME:CST
END:STANDARD
END:VTIMEZONE
BEGIN:VEVENT
DTSTAMP:20180503T000000Z
UID:4F133FAF-4BBA-4459-8FC0-5AA186D4E78F
DTSTART;TZID=US/Central:20180322T174500
DTEND;TZID=US/Central:20180322T200000
DESCRIPTION:The mobile phone exponential growth in network data has demande
 d increased performance from the RF Front End to support this growth. This
  in turn has demanded more complex requirements for the LNA\, filters\, sw
 itches and power amplifiers (PA) in the RFFE (RF Front End). This talk wil
 l focus on the LNA requirements\, including those imposed from carrier agg
 regation and investigate how we can improve the LNA noise figure\, lineari
 ty\, size and cost. By reviewing LNA design fundamentals we can learn what
  technology is best suited to meet these high-performance demands.\n\nSpea
 ker(s): James Young\, \n\nBldg: Skyworks Soultions\, Inc\, 5110 North Rive
 r  Blvd.\, Cedar Rapids\, Iowa\, United States\, 52411
LOCATION:Bldg: Skyworks Soultions\, Inc\, 5110 North River  Blvd.\, Cedar R
 apids\, Iowa\, United States\, 52411
ORGANIZER:c.l.holecek@ieee.org
SEQUENCE:6
SUMMARY:Mobile Phone RF Front End LNA Design
URL;VALUE=URI:https://events.vtools.ieee.org/m/169638
X-ALT-DESC:Description: &lt;br /&gt;&lt;p&gt;The mobile phone exponential growth in net
 work data has demanded increased performance from the RF Front End to supp
 ort this growth.&amp;nbsp\; This in turn has demanded more complex requirement
 s for the LNA\, filters\, switches and power amplifiers (PA) in the RFFE (
 RF Front End).&amp;nbsp\; This talk will focus on the LNA requirements\, inclu
 ding those imposed from carrier aggregation and investigate how we can imp
 rove the LNA noise figure\, linearity\, size and cost. By reviewing LNA de
 sign fundamentals we can learn what technology is best suited to meet thes
 e high-performance demands.&lt;/p&gt;
END:VEVENT
END:VCALENDAR

