BEGIN:VCALENDAR
VERSION:2.0
PRODID:IEEE vTools.Events//EN
CALSCALE:GREGORIAN
BEGIN:VTIMEZONE
TZID:America/New_York
BEGIN:DAYLIGHT
DTSTART:20180311T030000
TZOFFSETFROM:-0500
TZOFFSETTO:-0400
RRULE:FREQ=YEARLY;BYDAY=2SU;BYMONTH=3
TZNAME:EDT
END:DAYLIGHT
BEGIN:STANDARD
DTSTART:20181104T010000
TZOFFSETFROM:-0400
TZOFFSETTO:-0500
RRULE:FREQ=YEARLY;BYDAY=1SU;BYMONTH=11
TZNAME:EST
END:STANDARD
END:VTIMEZONE
BEGIN:VEVENT
DTSTAMP:20180503T000000Z
UID:FE5769E9-6684-41C8-A9EA-9B8F24AF36DE
DTSTART;TZID=America/New_York:20180403T120000
DTEND;TZID=America/New_York:20180403T130000
DESCRIPTION:The meeting will be at Tandoor of India\n\nThe monthly Rocheste
 r IEEE Executive Committee meeting brings together all of the leaders of t
 he Section\, Chapters\, and Groups.\n\nWe review plans for upcoming Roches
 ter meetings within our Section\, Chapters\, and groups at this meeting. I
 f you are looking to become more engaged in IEEE in the Rochester Section\
 , please plan on attending an Excom meeting! These meetings are open to th
 e general public and serve as a great platform for networking with fellow 
 engineers over lunch.\n\nWe even pick up part of the tab for lunch!!!! A f
 ull buffet lunch for just $5!! If you are student\, it gets even better as
  lunch only costs you $3!!\n\nWe typically have about 30-35 people attend 
 this meeting! These meetings occur on the first Tuesday of every month (ex
 cept August).\n\nSpeaker(s): Section Chair: Sreemram Dhurjaty\, Vice Chair
 : Cristian Linte\n\nAgenda: \nA. Section Officer Reports\n\n- Section Chai
 r Report: [Ram Dhurjaty](mailto:sreeram.dhurjaty@gmail.com)\n- Section Vic
 e-Chair Report: [Cristian Linte](mailto:calbme@rit.edu)\n- Section Treasur
 er Report: [Bill Fowlkes](mailto:wmyfowlkes@ieee.org)\n- Section Secretary
  Report: [Eric Brown](mailto:eric.t.brown@gmail.com)\n\nB. Chapter Society
  and Group Reports\n\n- Aerospace and Electronic Systems Society and Commu
 nications Society (AES10/COMM19): [Cristiano Tapparello](mailto:cristiano.
 tapparello@rochester.edu)\n- Computer Society and Computational Intelligen
 ce Society (C16/CIS11): [Bo Yuan](mailto:Bo.yuan@rit.edu)Electron Devices 
 and Circuits and Systems: [Sean Rommel](mailto:slremc@rit.edu)\n- Engineer
 ing in Medicine and Biology Society (EMB18): [Cristian Linte](mailto:chris
 tian.linte@ieee.org)\n- Rochester/Binghamton/Buffalo/Ithaca/Syracuse Geosc
 ience and Remote Sensing Society (GRS29): [Emmett Ientilucci](mailto:emmet
 t@cis.rit.edu)\n- Life Members Group: [Mark Schrader](mailto:m.schrader@ie
 ee.org)\n- Microwave Theory and Techniques Society / Antennas and Propagat
 ion Society (MTT17/AP03): [Joseph Majkowski](mailto:jmajkowski10@gmail.com
 )\n- Photonics Society (PHO36): [Bruce Smith and](mailto:bwsemc@rit.edu)[P
 arsian K. Mohseni](mailto:pkmohseni@rit.edu)\n- Power Engineering Society 
 / Industry Applications Society (PE31/IA34): [Jean Kendrick](mailto:jeanke
 ndrick@ieee.org)\n- Signal Processing Society (SP01): [Ray Ptucha](mailto:
 rwpeec@rit.edu)\n- Technology Managment Council (TM14): [Paul Lee](mailto:
 ppklee@ieee.org)\n- Young Professionals:[Eric Brown](mailto:eric.t.brown@g
 mail.com)\n\nC. Student Chapter Reports\n\n- Rochester Institute Of Techno
 logy: [Gill Tsouri](mailto:grteee@rit.edu)\n- University of Rochester: [To
 m Howard](mailto:thoward@ece.rochester.edu)\n\nD. Committee Reports\n\n- M
 embership Report: [NEED VOLUNTEER!](mailto:greg.gdowski@gmail.com)\n- Awar
 ds Report: [Jean Kendrick](mailto:jeankendrick@ieee.org)\n- Electronic Com
 munications Coordinator: [Greg Gdowski](mailto:greg.gdowski@gmail.com)\n- 
 Newsletter Report: [Howard Bussey](mailto:howard@tixlers.com)\n- PACE Repo
 rt: [Alex Loui](mailto:a.loui@ieee.org) and [Bruce Rubin](mailto:bruceieee
 rubin@yahoo.com)\n\nE. Liaison Reports\n\n- R1 Western Area Chair: [Greg G
 dowski](mailto:greg.gdowski@gmail.com)\n- Rochester Engineering Society (R
 ES) Report: [Harold Paschal](mailto:paschal@frontiernet.net)\n- Rochester 
 Council of Scientific Societies (RCSS) Report: [William A. Brewer](mailto:
 wabrewer@ieee.org)\n\nF. Old Business\n\nG. New Business\n\nH. Open Discus
 sion\n\nI. Adjournment\n\nBldg: Tandoor of India\, 376 Jefferson Rd\, Henr
 ietta\, New York\, United States\, 14623
LOCATION:Bldg: Tandoor of India\, 376 Jefferson Rd\, Henrietta\, New York\,
  United States\, 14623
ORGANIZER:greg.gdowski@gmail.com
SEQUENCE:0
SUMMARY:Rochester Section EXCOM meeting
URL;VALUE=URI:https://events.vtools.ieee.org/m/169735
X-ALT-DESC:Description: &lt;br /&gt;&lt;p&gt;&lt;span style=&quot;color: #ff0000\; font-size: 1
 4pt\;&quot;&gt;&lt;strong&gt;&lt;span style=&quot;color: #339966\;&quot;&gt;&amp;nbsp\;The meeting will be a
 t Tandoor of India&lt;/span&gt;&lt;/strong&gt;&lt;/span&gt;&lt;/p&gt;\n&lt;p&gt;&lt;span style=&quot;font-size: 
 10pt\;&quot;&gt;&lt;em&gt;&lt;strong&gt;The monthly Rochester IEEE Executive Committee meeting
  brings together all of the leaders of the Section\, Chapters\, and Groups
 . &lt;/strong&gt;&lt;/em&gt;&lt;/span&gt;&amp;nbsp\;&lt;/p&gt;\n&lt;p&gt;We review plans for upcoming Roches
 ter meetings within our&amp;nbsp\;Section\, Chapters\, and groups at this meet
 ing. &amp;nbsp\;If you are looking to become more engaged in IEEE in the Roche
 ster Section\, please plan on attending an Excom meeting! &amp;nbsp\;These mee
 tings are open to the general public and serve as a great platform for net
 working with fellow engineers over lunch.&lt;/p&gt;\n&lt;p&gt;We even pick up part of 
 the tab for lunch!!!! &amp;nbsp\; A full buffet lunch for just $5!! &amp;nbsp\; If
  you are student\, it gets even better as lunch only costs you $3!!&amp;nbsp\;
 &lt;/p&gt;\n&lt;p&gt;We typically have about 30-35 people attend this meeting! &amp;nbsp\;
 These meetings occur on the first Tuesday of every month (except August).&lt;
 /p&gt;&lt;br /&gt;&lt;br /&gt;Agenda: &lt;br /&gt;&lt;p&gt;A. Section Officer Reports&lt;/p&gt;\n&lt;ul&gt;\n&lt;li&gt;
 Section Chair Report:&amp;nbsp\;&lt;a href=&quot;mailto:sreeram.dhurjaty@gmail.com&quot;&gt;Ra
 m Dhurjaty&lt;/a&gt;&lt;/li&gt;\n&lt;li&gt;Section Vice-Chair Report: &amp;nbsp\;&lt;a href=&quot;mailto
 :calbme@rit.edu&quot;&gt;Cristian Linte&lt;/a&gt;&lt;/li&gt;\n&lt;li&gt;Section Treasurer Report:&amp;nb
 sp\;&lt;a href=&quot;mailto:wmyfowlkes@ieee.org&quot;&gt;Bill Fowlkes&lt;/a&gt;&lt;/li&gt;\n&lt;li&gt;Sectio
 n Secretary Report:&amp;nbsp\;&lt;a href=&quot;mailto:eric.t.brown@gmail.com&quot;&gt;Eric Bro
 wn&lt;/a&gt;&lt;/li&gt;\n&lt;/ul&gt;\n&lt;p&gt;B. Chapter Society and Group Reports&lt;/p&gt;\n&lt;ul&gt;\n&lt;li
 &gt;Aerospace and Electronic Systems Society and Communications Society (AES1
 0/COMM19):&amp;nbsp\;&lt;a href=&quot;mailto:cristiano.tapparello@rochester.edu&quot;&gt;Crist
 iano Tapparello&lt;/a&gt;&lt;/li&gt;\n&lt;li&gt;Computer Society and Computational Intellige
 nce Society (C16/CIS11):&amp;nbsp\;&lt;a href=&quot;mailto:Bo.yuan@rit.edu&quot;&gt;Bo Yuan&lt;/a
 &gt;Electron Devices and Circuits and Systems:&amp;nbsp\;&lt;a href=&quot;mailto:slremc@r
 it.edu&quot;&gt;Sean Rommel&lt;/a&gt;&lt;/li&gt;\n&lt;li&gt;Engineering in Medicine and Biology Soci
 ety (EMB18):&amp;nbsp\;&lt;a href=&quot;mailto:christian.linte@ieee.org&quot;&gt;Cristian Lint
 e&lt;/a&gt;&lt;/li&gt;\n&lt;li&gt;Rochester/Binghamton/Buffalo/Ithaca/Syracuse Geoscience an
 d Remote Sensing Society (GRS29):&amp;nbsp\;&lt;a href=&quot;mailto:emmett@cis.rit.edu
 &quot;&gt;Emmett Ientilucci&lt;/a&gt;&amp;nbsp\;&amp;nbsp\;&amp;nbsp\;&amp;nbsp\;&amp;nbsp\;&amp;nbsp\;&amp;nbsp\;&amp;n
 bsp\;&amp;nbsp\;&amp;nbsp\;&amp;nbsp\;&amp;nbsp\;&amp;nbsp\;&amp;nbsp\;&amp;nbsp\;&amp;nbsp\;&amp;nbsp\;&lt;/li&gt;\
 n&lt;li&gt;Life Members Group:&amp;nbsp\;&lt;a href=&quot;mailto:m.schrader@ieee.org&quot;&gt;Mark S
 chrader&lt;/a&gt;&lt;/li&gt;\n&lt;li&gt;Microwave Theory and Techniques Society / Antennas a
 nd Propagation Society (MTT17/AP03):&amp;nbsp\;&lt;a href=&quot;mailto:jmajkowski10@gm
 ail.com&quot;&gt;Joseph Majkowski&lt;/a&gt;&lt;/li&gt;\n&lt;li&gt;Photonics Society (PHO36):&amp;nbsp\;&lt;
 a href=&quot;mailto:bwsemc@rit.edu&quot;&gt;Bruce Smith and&amp;nbsp\;&lt;/a&gt;&lt;a href=&quot;mailto:p
 kmohseni@rit.edu&quot; target=&quot;_blank&quot; rel=&quot;noopener&quot;&gt;Parsian K. Mohseni&lt;/a&gt;&lt;/l
 i&gt;\n&lt;li&gt;Power Engineering Society / Industry Applications Society (PE31/IA
 34):&amp;nbsp\;&lt;a href=&quot;mailto:jeankendrick@ieee.org&quot;&gt;Jean Kendrick&lt;/a&gt;&lt;/li&gt;\n
 &lt;li&gt;Signal Processing Society (SP01):&amp;nbsp\;&lt;a href=&quot;mailto:rwpeec@rit.edu
 &quot;&gt;Ray Ptucha&lt;/a&gt;&lt;/li&gt;\n&lt;li&gt;Technology Managment Council (TM14):&amp;nbsp\;&lt;a h
 ref=&quot;mailto:ppklee@ieee.org&quot;&gt;Paul Lee&lt;/a&gt;&lt;/li&gt;\n&lt;li&gt;Young Professionals:&lt;a
  href=&quot;mailto:eric.t.brown@gmail.com&quot;&gt;Eric Brown&lt;/a&gt;&lt;/li&gt;\n&lt;/ul&gt;\n&lt;p&gt;C. St
 udent Chapter Reports&lt;/p&gt;\n&lt;ul&gt;\n&lt;li&gt;Rochester Institute Of Technology:&amp;nb
 sp\;&lt;a href=&quot;mailto:grteee@rit.edu&quot;&gt;Gill Tsouri&lt;/a&gt;&lt;/li&gt;\n&lt;li&gt;University o
 f Rochester:&amp;nbsp\;&lt;a href=&quot;mailto:thoward@ece.rochester.edu&quot;&gt;Tom Howard&lt;/
 a&gt;&lt;/li&gt;\n&lt;/ul&gt;\n&lt;p&gt;D. Committee Reports&amp;nbsp\;&lt;/p&gt;\n&lt;ul&gt;\n&lt;li&gt;Membership R
 eport:&amp;nbsp\;&lt;a href=&quot;mailto:greg.gdowski@gmail.com&quot;&gt;&lt;strong&gt;NEED VOLUNTEE
 R!&lt;/strong&gt;&lt;/a&gt;&lt;/li&gt;\n&lt;li&gt;Awards Report:&amp;nbsp\;&lt;a href=&quot;mailto:jeankendric
 k@ieee.org&quot;&gt;Jean Kendrick&lt;/a&gt;&lt;/li&gt;\n&lt;li&gt;Electronic Communications Coordina
 tor:&amp;nbsp\;&lt;a href=&quot;mailto:greg.gdowski@gmail.com&quot;&gt;Greg Gdowski&lt;/a&gt;&lt;/li&gt;\n
 &lt;li&gt;Newsletter Report:&amp;nbsp\;&lt;a href=&quot;mailto:howard@tixlers.com&quot;&gt;Howard Bu
 ssey&lt;/a&gt;&lt;/li&gt;\n&lt;li&gt;PACE Report:&amp;nbsp\;&lt;a href=&quot;mailto:a.loui@ieee.org&quot;&gt;Ale
 x Loui&lt;/a&gt;&amp;nbsp\;and &lt;a href=&quot;mailto:bruceieeerubin@yahoo.com&quot; target=&quot;_bl
 ank&quot; rel=&quot;noopener&quot;&gt;Bruce Rubin&lt;/a&gt;&lt;/li&gt;\n&lt;/ul&gt;\n&lt;p&gt;E. Liaison Reports&lt;/p&gt;
 \n&lt;ul&gt;\n&lt;li&gt;R1 Western Area Chair: &lt;a href=&quot;mailto:greg.gdowski@gmail.com&quot;
 &gt;Greg Gdowski&lt;/a&gt;&lt;/li&gt;\n&lt;li&gt;Rochester Engineering Society (RES) Report:&amp;nb
 sp\;&lt;a href=&quot;mailto:paschal@frontiernet.net&quot;&gt;Harold Paschal&lt;/a&gt;&lt;/li&gt;\n&lt;li&gt;
 Rochester Council of Scientific Societies (RCSS) Report:&amp;nbsp\;&lt;a href=&quot;ma
 ilto:wabrewer@ieee.org&quot;&gt;William A. Brewer&lt;/a&gt;&lt;/li&gt;\n&lt;/ul&gt;\n&lt;p&gt;F. Old Busin
 ess&lt;/p&gt;\n&lt;p&gt;G. New Business&lt;/p&gt;\n&lt;p&gt;H. Open Discussion&lt;/p&gt;\n&lt;p&gt;I.&amp;nbsp\;Ad
 journment&lt;/p&gt;
END:VEVENT
END:VCALENDAR

