BEGIN:VCALENDAR
VERSION:2.0
PRODID:IEEE vTools.Events//EN
CALSCALE:GREGORIAN
BEGIN:VTIMEZONE
TZID:Africa/Johannesburg
BEGIN:STANDARD
DTSTART:19440319T010000
TZOFFSETFROM:+0300
TZOFFSETTO:+0200
TZNAME:SAST
END:STANDARD
END:VTIMEZONE
BEGIN:VEVENT
DTSTAMP:20180503T000000Z
UID:A1B352DC-417B-47C8-9989-53EC380EE042
DTSTART;TZID=Africa/Johannesburg:20180324T153000
DTEND;TZID=Africa/Johannesburg:20180324T163000
DESCRIPTION:You are cordially invited to a talk and discussion around IEEE 
 Distinguished Lecturer (DL) and Visitor Programmes (DVP) and IEEE Region 8
  Professional Speaker programs.\n\nThe IEEE Distinguished Lecturers are th
 e top level scientists and engineers from around the globe which can be br
 ought to your IEEE units in South Africa to give talks on the state of the
  art technical topics.\n\nThe IEEE R8 Distinguished Speaker programs targe
 t the less-technical and non-technical yet critical for career topics\, su
 ch as soft skills\, project management\, sales\, writing papers\, preparin
 g presentations etc.\n\nImportantly\, these top professionals are approved
  by IEEE and their trips are funded by IEEE\, and\, as an IEEE member\, yo
 u have opportunity to invite them to your location.\n\nCo-sponsored by: IE
 EE South Africa Section\, IEEE Region 8 Membership Development Sub-Committ
 ee\n\nSpeaker(s): Dr Albert Lysko\, \n\nRoom: room Picasso\, Hotel Verde\,
   15 Michigan St\, Airport Industria\, Cape Town\, Western Cape\, South Af
 rica\, 7490
LOCATION:Room: room Picasso\, Hotel Verde\,  15 Michigan St\, Airport Indus
 tria\, Cape Town\, Western Cape\, South Africa\, 7490
ORGANIZER:lysko@ieee.org
SEQUENCE:3
SUMMARY:About IEEE Distinguished Lecturer and IEEE R8 Professional Speaker 
 Programmes - a talk in Cape Town
URL;VALUE=URI:https://events.vtools.ieee.org/m/170324
X-ALT-DESC:Description: &lt;br /&gt;&lt;p&gt;You are cordially invited to a talk and di
 scussion around IEEE Distinguished Lecturer (DL) and Visitor Programmes (D
 VP) and IEEE Region 8 Professional Speaker programs.&lt;/p&gt;\n&lt;p&gt;The IEEE Dist
 inguished Lecturers are the top level scientists and engineers from around
  the globe which can be brought to your IEEE units in South Africa to give
  talks on the state of the art technical topics.&lt;/p&gt;\n&lt;p&gt;The IEEE R8 Disti
 nguished Speaker programs target the less-technical and non-technical yet 
 critical for career topics\, such as soft skills\, project management\, sa
 les\, writing papers\, preparing presentations etc.&lt;/p&gt;\n&lt;p&gt;Importantly\, 
 these top professionals are approved by IEEE and their trips are funded by
  IEEE\, and\, as an IEEE member\, you have opportunity to invite them to y
 our location.&lt;/p&gt;\n&lt;p&gt;&amp;nbsp\;&lt;/p&gt;
END:VEVENT
END:VCALENDAR

