BEGIN:VCALENDAR
VERSION:2.0
PRODID:IEEE vTools.Events//EN
CALSCALE:GREGORIAN
BEGIN:VTIMEZONE
TZID:Asia/Calcutta
BEGIN:STANDARD
DTSTART:19451014T230000
TZOFFSETFROM:+0630
TZOFFSETTO:+0530
TZNAME:IST
END:STANDARD
END:VTIMEZONE
BEGIN:VEVENT
DTSTAMP:20180503T000000Z
UID:DD2161C0-6A71-412F-ACC5-9679D9D1E14D
DTSTART;TZID=Asia/Calcutta:20180321T150000
DTEND;TZID=Asia/Calcutta:20180321T170000
DESCRIPTION:IEEE Communication Society Lecture Series by Prof Dhadesugoor R
 . Vaman\n\nCo-sponsored by: IEEE Communication Society\, \n\nSpeaker(s): D
 hadesugoor R. Vaman\, \n\nAgenda: \n1. Welcome of the Audience\n\n2. Intro
 duction to Prof Dhadesugoor R. Vaman\n\n3. Talk bby Prof Dhadesugoor R. Va
 man on &quot;\n\nEvolution towards High-Speed Multimedia Transmission&quot;\n\nRoom:
  Seminar Room\, Bldg: Usha Mittal institute of Technology\, Seminar Hall \
 , Santacruz(w)\, Mumbai\, Maharashtra\, India\, 400039
LOCATION:Room: Seminar Room\, Bldg: Usha Mittal institute of Technology\, S
 eminar Hall \, Santacruz(w)\, Mumbai\, Maharashtra\, India\, 400039
ORGANIZER:drsanjayspawar@gmail.com
SEQUENCE:0
SUMMARY:IEEE ComSoc Lecture 
URL;VALUE=URI:https://events.vtools.ieee.org/m/170361
X-ALT-DESC:Description: &lt;br /&gt;&lt;p&gt;IEEE Communication Society Lecture Series 
 by Prof&amp;nbsp\;&lt;strong&gt;Dhadesugoor R. Vaman&lt;/strong&gt;&lt;/p&gt;&lt;br /&gt;&lt;br /&gt;Agenda:
  &lt;br /&gt;&lt;p&gt;1. Welcome of the Audience&lt;/p&gt;\n&lt;p&gt;2. Introduction to Prof&amp;nbsp\
 ;&lt;strong&gt;Dhadesugoor R. Vaman&lt;/strong&gt;&lt;/p&gt;\n&lt;p&gt;3. Talk bby Prof&amp;nbsp\;&lt;str
 ong&gt;Dhadesugoor R. Vaman on &quot;&lt;/strong&gt;&lt;/p&gt;\n&lt;p&gt;&lt;strong&gt;Evolution towards H
 igh-Speed Multimedia Transmission&quot;&lt;/strong&gt;&lt;/p&gt;
END:VEVENT
END:VCALENDAR

