BEGIN:VCALENDAR
VERSION:2.0
PRODID:IEEE vTools.Events//EN
CALSCALE:GREGORIAN
BEGIN:VTIMEZONE
TZID:US/Pacific
BEGIN:DAYLIGHT
DTSTART:20180311T030000
TZOFFSETFROM:-0800
TZOFFSETTO:-0700
RRULE:FREQ=YEARLY;BYDAY=2SU;BYMONTH=3
TZNAME:PDT
END:DAYLIGHT
BEGIN:STANDARD
DTSTART:20181104T010000
TZOFFSETFROM:-0700
TZOFFSETTO:-0800
RRULE:FREQ=YEARLY;BYDAY=1SU;BYMONTH=11
TZNAME:PST
END:STANDARD
END:VTIMEZONE
BEGIN:VEVENT
DTSTAMP:20180503T000000Z
UID:850721D2-A7F1-412D-A151-7D9BD3CA35E0
DTSTART;TZID=US/Pacific:20180418T114500
DTEND;TZID=US/Pacific:20180418T130000
DESCRIPTION:Title: Streaming Real-Time Analytics of Dynamic Data in Smart G
 rids\n\nPresenter: Dr. Le Xie - Associate Professor and Eugene Webb Facult
 y Fellow\, Department of Electrical and Computer Engineering\, Texas A&amp;M U
 niversity\n\nABSTRACT :\n\nHow to conduct real-time analytics of streaming
  data in the smart grid? This talk offers a dynamic systems approach to ut
 ilizing emerging data for improved monitoring of the grid. The first examp
 le of the talk presents how to leverage the underlying spatio-temporal cor
 relations of synchrophasors for early anomaly (e.g.\, subsynchronous oscil
 lations) detection and data quality outlier detection. The second example 
 presents a coupon incentive-based approach to engaging end users demand fl
 exibility. The underlying theme of the work suggests the importance of int
 egrating data with dynamic context-aware models in smart grid.\n\nLunch wi
 ll be provided (includes vegetarian). There will be a $5 fee to IEEE Membe
 rs and a $10 fee to Non Members. Payments to be made in person (cash or ch
 eck) at the event.\n\nThe SF PES Chapter AdCom is mindful of our environme
 nt and food waste. As a courtesy\, please email our Secretary\, Rahul Anil
 kumar (ranilkumar@quanta-technology.com) no later than the day before the 
 event if you absolutely need to cancel your reservation. Thank you!\n\nSpe
 aker(s): Dr. Le Xie - Professor Texas A&amp;M University\, \n\nRoom: Benicia R
 oom\, Bldg: Hiram W. Johnson State Office Building (Cross streets: Polk an
 d Larkin)\, 455 Golden Gate Avenue\, Milton Marks Conference Center - Lowe
 r Level\, San Francisco\, California\, United States\, 94102
LOCATION:Room: Benicia Room\, Bldg: Hiram W. Johnson State Office Building 
 (Cross streets: Polk and Larkin)\, 455 Golden Gate Avenue\, Milton Marks C
 onference Center - Lower Level\, San Francisco\, California\, United State
 s\, 94102
ORGANIZER:ranilkumar@quanta-technology.com
SEQUENCE:7
SUMMARY:SF Power and Energy Society Technical Presentation April 18\, 2018
URL;VALUE=URI:https://events.vtools.ieee.org/m/170875
X-ALT-DESC:Description: &lt;br /&gt;&lt;p&gt;&lt;span style=&quot;font-size: 12pt\;&quot;&gt;&lt;strong&gt;&lt;e
 m&gt;&lt;span style=&quot;font-size: 14pt\;&quot;&gt;&amp;nbsp\; &amp;nbsp\; &amp;nbsp\; &amp;nbsp\; &amp;nbsp\; 
 &amp;nbsp\; &amp;nbsp\; &amp;nbsp\; &amp;nbsp\; &amp;nbsp\; &amp;nbsp\; &amp;nbsp\; Title: &amp;nbsp\;&lt;/sp
 an&gt;&lt;/em&gt;&lt;/strong&gt;&lt;/span&gt;&lt;span style=&quot;font-size: 14pt\;&quot;&gt;&lt;strong&gt;&lt;em&gt;Stream
 ing Real-Time Analytics of Dynamic Data in Smart Grids&lt;/em&gt;&lt;/strong&gt;&lt;/span
 &gt;&lt;/p&gt;\n&lt;p&gt;&lt;span style=&quot;font-size: 12pt\;&quot;&gt;&lt;strong&gt;Presenter: &amp;nbsp\;&lt;/stro
 ng&gt;&lt;/span&gt;&lt;strong&gt;Dr. Le Xie - Associate Professor and Eugene Webb Faculty
  Fellow\, Department of Electrical and Computer Engineering\, &amp;nbsp\; &amp;nbs
 p\; &amp;nbsp\; Texas A&amp;amp\;M University&lt;/strong&gt;&lt;/p&gt;\n&lt;p class=&quot;yiv095696932
 5MsoNormal&quot;&gt;&lt;span style=&quot;color: #ff6600\; font-size: 12pt\;&quot;&gt;&lt;span style=&quot;
 color: #000000\;&quot;&gt;ABSTRACT :&lt;/span&gt;&lt;/span&gt;&lt;/p&gt;\n&lt;p&gt;How to conduct real-tim
 e analytics of streaming data in the smart grid? This talk offers a dynami
 c systems approach to utilizing emerging data for improved monitoring of t
 he grid. The first example of the talk presents how to leverage the underl
 ying spatio-temporal correlations of synchrophasors for early anomaly (e.g
 .\, subsynchronous oscillations) detection and data quality outlier detect
 ion. The second example presents a coupon incentive-based approach to enga
 ging end users demand flexibility. The underlying theme of the work sugges
 ts the importance of integrating data with dynamic context-aware models in
  smart grid.&lt;/p&gt;\n&lt;p class=&quot;yiv0956969325MsoNormal&quot;&gt;&lt;span style=&quot;color: #f
 f6600\; font-size: 12pt\;&quot;&gt;Lunch will be provided (includes vegetarian). T
 here will be a $5 fee to IEEE Members and a $10 fee to Non Members. Paymen
 ts to be made in person (cash or check) at the event.&lt;/span&gt;&lt;/p&gt;\n&lt;p class
 =&quot;yiv0956969325MsoNormal&quot;&gt;&lt;span style=&quot;color: #ff6600\;&quot;&gt;&lt;span style=&quot;colo
 r: #008000\;&quot;&gt;The SF PES Chapter AdCom is mindful of our environment and f
 ood waste. &amp;nbsp\;As a courtesy\, please email our Secretary\, Rahul Anilk
 umar (ranilkumar@quanta-technology.com) no later than the day before the e
 vent if you absolutely need to cancel your reservation. &amp;nbsp\;Thank you!&amp;
 nbsp\;&lt;/span&gt;&amp;nbsp\;&lt;/span&gt;&lt;/p&gt;
END:VEVENT
END:VCALENDAR

