BEGIN:VCALENDAR
VERSION:2.0
PRODID:IEEE vTools.Events//EN
CALSCALE:GREGORIAN
BEGIN:VTIMEZONE
TZID:Canada/Eastern
BEGIN:DAYLIGHT
DTSTART:20180311T030000
TZOFFSETFROM:-0500
TZOFFSETTO:-0400
RRULE:FREQ=YEARLY;BYDAY=2SU;BYMONTH=3
TZNAME:EDT
END:DAYLIGHT
BEGIN:STANDARD
DTSTART:20181104T010000
TZOFFSETFROM:-0400
TZOFFSETTO:-0500
RRULE:FREQ=YEARLY;BYDAY=1SU;BYMONTH=11
TZNAME:EST
END:STANDARD
END:VTIMEZONE
BEGIN:VEVENT
DTSTAMP:20180503T000000Z
UID:BEFEBCFA-0290-4BCB-9482-83CB7EFE0B48
DTSTART;TZID=Canada/Eastern:20180412T124500
DTEND;TZID=Canada/Eastern:20180412T134500
DESCRIPTION:Part 1\n\nAdditive Manufacturing Techniques (3D Printing) for M
 icrowave Devices and Systems\n\n- Introducing three methodologies to 3D-pr
 int RF and microwave components:\n\n- Fused Deposition Modeling (FDM)\n- B
 inder Jetting technique\n- Photo-polymerization\n\n- Designing broadband i
 nterconnects such as SIW and SISW waveguides.\n- Integrating 3D-printing t
 echniques with microwave technologies (SIW and NRD) to create innovative c
 omponents and systems suitable for the Internet of Things (IoT) and the 5G
  applications.\n\nPart 2\n\nIEEE Student Branch\, University of Pavia\, It
 aly\n\n- IEEE: Institute of Electrical and Electronics Engineers\n- IEEE S
 tudent Branch: Goals\, Activities\, Organization\n- IEEE Student Branch\, 
 University of Pavia:\n\nMembers\, Committees\, Activities\, Awards\n\nPart
  3\n\nIEEE Student Branch\, Polytechnique Montréal\n\n- Mission &amp; Vision\
 n- Activities\n- Volunteers\n\nCo-sponsored by: IEEE Montreal\n\nSpeaker(s
 ): Enrico Massoni\, Mihaela Talpos\n\nRoom: M-2101\, Bldg: Pavillon Lasson
 de\, Polytechnique Montréal\, Montreal\, Quebec\, Canada
LOCATION:Room: M-2101\, Bldg: Pavillon Lassonde\, Polytechnique Montréal\,
  Montreal\, Quebec\, Canada
ORGANIZER:reza.prmz@ieee.org
SEQUENCE:14
SUMMARY:Printing the Microwave / IEEE Student Branch of Polytechnique Montr
 éal
URL;VALUE=URI:https://events.vtools.ieee.org/m/171089
X-ALT-DESC:Description: &lt;br /&gt;&lt;p&gt;&amp;nbsp\;&lt;/p&gt;\n&lt;p&gt;&lt;strong&gt;Part 1&lt;/strong&gt;&lt;/p
 &gt;\n&lt;p&gt;&lt;strong&gt;Additive Manufacturing Techniques (3D Printing) for Microwav
 e Devices and Systems&lt;/strong&gt;&lt;/p&gt;\n&lt;ul&gt;\n&lt;li&gt;Introducing three methodolog
 ies to 3D-print RF and microwave components:&lt;/li&gt;\n&lt;/ul&gt;\n&lt;ul&gt;\n&lt;ul&gt;\n&lt;li&gt;
 Fused Deposition Modeling (FDM)&lt;/li&gt;\n&lt;li&gt;Binder Jetting technique&lt;/li&gt;\n&lt;
 li&gt;Photo-polymerization&lt;/li&gt;\n&lt;/ul&gt;\n&lt;/ul&gt;\n&lt;ul&gt;\n&lt;li&gt;Designing broadband 
 interconnects such as SIW and SISW waveguides.&lt;/li&gt;\n&lt;li&gt;Integrating 3D-pr
 inting techniques with microwave technologies (SIW and NRD) to create inno
 vative components and systems suitable for the Internet of Things (IoT) an
 d the 5G applications.&lt;/li&gt;\n&lt;/ul&gt;\n&lt;p&gt;&lt;strong&gt;Part 2&lt;/strong&gt;&lt;/p&gt;\n&lt;p&gt;&lt;st
 rong&gt;IEEE Student Branch\, University of Pavia\, Italy&lt;/strong&gt;&lt;/p&gt;\n&lt;ul&gt;\
 n&lt;li&gt;IEEE: Institute of Electrical and Electronics Engineers&lt;/li&gt;\n&lt;li&gt;IEE
 E Student Branch: Goals\, Activities\, Organization&lt;/li&gt;\n&lt;li&gt;IEEE Student
  Branch\, University of Pavia:&lt;/li&gt;\n&lt;/ul&gt;\n&lt;p&gt;&amp;nbsp\;&amp;nbsp\;&amp;nbsp\;&amp;nbsp\
 ;&amp;nbsp\;&amp;nbsp\; Members\, Committees\, Activities\, Awards&lt;/p&gt;\n&lt;p&gt;&lt;strong
 &gt;Part 3&lt;/strong&gt;&lt;/p&gt;\n&lt;p&gt;&lt;strong&gt;IEEE Student Branch\, Polytechnique Montr
 &lt;/strong&gt;&lt;strong&gt;&amp;eacute\;al&lt;/strong&gt;&lt;/p&gt;\n&lt;ul&gt;\n&lt;li&gt;Mission &amp;amp\; Vision
 &lt;/li&gt;\n&lt;li&gt;Activities&lt;/li&gt;\n&lt;li&gt;Volunteers&lt;/li&gt;\n&lt;/ul&gt;
END:VEVENT
END:VCALENDAR

