BEGIN:VCALENDAR
VERSION:2.0
PRODID:IEEE vTools.Events//EN
CALSCALE:GREGORIAN
BEGIN:VTIMEZONE
TZID:Asia/Kolkata
BEGIN:STANDARD
DTSTART:19451014T230000
TZOFFSETFROM:+0630
TZOFFSETTO:+0530
TZNAME:IST
END:STANDARD
END:VTIMEZONE
BEGIN:VEVENT
DTSTAMP:20180503T000000Z
UID:39EB015E-6244-4090-B9A3-4E5CC33BF1ED
DTSTART;TZID=Asia/Kolkata:20180407T091500
DTEND;TZID=Asia/Kolkata:20180407T130000
DESCRIPTION:IEEE Computer Society elections took place for the newly formed
  chapter and also what are the benefits of CS chapter and volunteering opo
 ortunities were explained to the members. Also Roles of the student branch
  were discussed\,roles in computer society student chapter were discussed.
  ieee.org Website demonstration was also given to members who were new to 
 the student branch.\n\nThe newly formed computer society execom was as fol
 lows:\n\nAdvisor:Prof. Sudhir Vegad\n\nChairperson: Aashish Arora\n\nVice-
 Chairperson: Karan Patel\n\nSecretary: Prerak Shah\n\nRoom: 205\, A.D.Pate
 l Institute Of Technology\, New V.V. Nagar\, Anand\, Gujarat\, India\, 388
 121
LOCATION:Room: 205\, A.D.Patel Institute Of Technology\, New V.V. Nagar\, A
 nand\, Gujarat\, India\, 388121
ORGANIZER:aditsbieee@gmail.com
SEQUENCE:0
SUMMARY:IEEE Computer Society Chapter Elections &amp; Session on CS Chapter Ben
 efits
URL;VALUE=URI:https://events.vtools.ieee.org/m/171269
X-ALT-DESC:Description: &lt;br /&gt;&lt;p&gt;IEEE Computer Society elections took place
  for the newly formed chapter and also what are the benefits of CS chapter
  and volunteering opoortunities were explained to the members. Also Roles 
 of the student branch were discussed\,roles in computer society student ch
 apter were discussed. ieee.org Website demonstration was also given to mem
 bers who were new to the student branch.&lt;/p&gt;\n&lt;p&gt;The newly formed computer
  society execom was as follows:&lt;/p&gt;\n&lt;p&gt;Advisor:Prof.&amp;nbsp\; Sudhir Vegad&lt;
 /p&gt;\n&lt;p&gt;Chairperson: Aashish Arora&lt;/p&gt;\n&lt;p&gt;Vice-Chairperson: Karan Patel&lt;/
 p&gt;\n&lt;p&gt;Secretary: Prerak Shah&lt;/p&gt;
END:VEVENT
END:VCALENDAR

