BEGIN:VCALENDAR
VERSION:2.0
PRODID:IEEE vTools.Events//EN
CALSCALE:GREGORIAN
BEGIN:VTIMEZONE
TZID:Asia/Karachi
BEGIN:STANDARD
DTSTART:20091031T230000
TZOFFSETFROM:+0600
TZOFFSETTO:+0500
TZNAME:PKT
END:STANDARD
END:VTIMEZONE
BEGIN:VEVENT
DTSTAMP:20190128T173844Z
UID:A46CC7F1-8C40-4ACE-822A-16414D03FD30
DTSTART;TZID=Asia/Karachi:20180421T110000
DTEND;TZID=Asia/Karachi:20180421T150000
DESCRIPTION:Learning Outcomes:\nEssentially this workshop will teach basic 
 hands-on Internet of Things Product Development with following learning ou
 tcomes.\n● In-depth understanding of Internet of Things\n● Basics of H
 ardware Product Development\n● Introduction to Cloud Computing for IoT\n
 ● Software Resources Hands-on for IoT\n● Hardware Programming Hands-on
  for IoT\n● Understanding the project requirement for IoT\n● Using IoT
  for developing startups\n● Using IoT to do freelancing on Internet\n\nT
 he University of Lahore\, 1 - KM Raiwind Road\, Lahore\, Lahore\, Punjab\,
  Pakistan
LOCATION:The University of Lahore\, 1 - KM Raiwind Road\, Lahore\, Lahore\,
  Punjab\, Pakistan
ORGANIZER:ieee@uol.edu.pk
SEQUENCE:1
SUMMARY:IOT Workshop
URL;VALUE=URI:https://events.vtools.ieee.org/m/171511
X-ALT-DESC:Description: &lt;br /&gt;&lt;p&gt;Learning Outcomes:&amp;nbsp\;&lt;br /&gt;Essentially
  this workshop will teach basic hands-on Internet of Things Product Develo
 pment with following learning outcomes.&amp;nbsp\;&lt;br /&gt;● In-depth understan
 ding of Internet of Things&amp;nbsp\;&lt;br /&gt;● Basics of Hardware Product Deve
 lopment&amp;nbsp\;&lt;br /&gt;● Introduction to Cloud Computing for IoT&amp;nbsp\;&lt;br 
 /&gt;● Software Resources Hands-on for IoT&amp;nbsp\;&lt;br /&gt;● Hardware Program
 ming Hands-on for IoT&amp;nbsp\;&lt;br /&gt;● Understanding the project requiremen
 t for IoT&amp;nbsp\;&lt;br /&gt;● Using IoT for developing startups&amp;nbsp\;&lt;br /&gt;
 ● Using IoT to do freelancing on Internet&amp;nbsp\;&lt;/p&gt;
END:VEVENT
END:VCALENDAR

