BEGIN:VCALENDAR
VERSION:2.0
PRODID:IEEE vTools.Events//EN
CALSCALE:GREGORIAN
BEGIN:VTIMEZONE
TZID:Australia/Brisbane
BEGIN:STANDARD
DTSTART:19920301T020000
TZOFFSETFROM:+1100
TZOFFSETTO:+1000
TZNAME:AEST
END:STANDARD
END:VTIMEZONE
BEGIN:VEVENT
DTSTAMP:20180522T071003Z
UID:405083AB-6A16-4A28-84DE-EB9EE974CDFE
DTSTART;TZID=Australia/Brisbane:20180501T180200
DTEND;TZID=Australia/Brisbane:20180501T200200
DESCRIPTION:Welcome to our May event for 2018\, feel\n\nWE WILL BE GOING TO
  The German Club 416 Vulture St East Brisbane\n\nFor our May 1TJPC Prof Va
 ughan Clarkson will be the reader leader. The paper he has selected for us
  this month is\n\nT. L. Song and D. Mušicki\, “Target existence based 
 resource allocation\,” IEEE Trans. Signal Process.\, vol. 58\, pp. 4496
 –4506\, Sept. 2010\n\nand may be found here\n\nhttps://ieeexplore.ieee.o
 rg/abstract/document/5471210/\n\nPlease note the venue\, we will be going 
 to The Brisbane German Club as per the map/address below\n\nAbout the 1st 
 Tuesday Journal-Paper Club: We meet usually on the 1st Tuesday of the mont
 h as the name suggests (inspired by the ABC TV series &quot;1st Tuesday Book Cl
 ub&quot;). Each month\, from amongst ourselves we identify a Reader Leader. He 
 or she picks a highly cited\, &#39;top ten&#39; or major-prize-winning article\, p
 referably in an SPS or ComSoc journal. Through the month\, each of us read
 s the article. At the next meeting\, the Reader Leader leads a discussion 
 of that article\, starting with his/her own appraisal. In so doing\, we al
 l broaden our understanding of the field and further develop a sense of co
 mmunity.\n\n1st Rule of 1st Tuesday Journal-Paper Club: tell everyone abou
 t 1st Tuesday Journal-Paper Club.\n\nCo-sponsored by: Greg Hislop\n\nThe B
 risbane German Club\, 416 Vulture St\, East Brisbane\, Queensland\, Austra
 lia\, 4169
LOCATION:The Brisbane German Club\, 416 Vulture St\, East Brisbane\, Queens
 land\, Australia\, 4169
ORGANIZER:gregory.hislop@gmail.com
SEQUENCE:2
SUMMARY:1st Tuesday Journal-Paper Club
URL;VALUE=URI:https://events.vtools.ieee.org/m/171950
X-ALT-DESC:Description: &lt;br /&gt;&lt;p&gt;Welcome to our May event for 2018\, feel&lt;/
 p&gt;\n&lt;p&gt;WE WILL BE GOING TO The German Club 416 Vulture St East Brisbane&lt;/p
 &gt;\n&lt;p&gt;For our May 1TJPC&amp;nbsp\; Prof Vaughan Clarkson will be the reader le
 ader. &amp;nbsp\;The paper he has selected for us this month is&lt;/p&gt;\n&lt;p&gt;T. L. 
 Song and D. Mušicki\, &amp;ldquo\;Target existence based resource allocation
 \,&amp;rdquo\;&amp;nbsp\;&lt;em&gt;IEEE Trans.&amp;nbsp\;Signal&amp;nbsp\;Process.&lt;/em&gt;\, vol. 5
 8\, pp. 4496&amp;ndash\;4506\, Sept. 2010&lt;/p&gt;\n&lt;p&gt;and may be found here&lt;/p&gt;\n&lt;
 p&gt;https://ieeexplore.ieee.org/abstract/document/5471210/&lt;/p&gt;\n&lt;p&gt;&amp;nbsp\;&lt;/
 p&gt;\n&lt;p&gt;Please note the venue\, we will be going to The Brisbane German Clu
 b as per the map/address below&amp;nbsp\;&lt;/p&gt;\n&lt;p&gt;&lt;strong&gt;About the 1st Tuesda
 y Journal-Paper Club:&lt;/strong&gt;&amp;nbsp\;We meet usually on the 1st Tuesday of
  the month as the name suggests (inspired by the ABC TV series &quot;1st Tuesda
 y Book Club&quot;). Each month\, from amongst ourselves we identify a Reader Le
 ader. &amp;nbsp\;He or she&amp;nbsp\;picks a highly cited\, &#39;top ten&#39; or major-pri
 ze-winning article\, preferably in an SPS or ComSoc journal.&amp;nbsp\;Through
  the month\, each of us&amp;nbsp\;reads the article. At the next meeting\, the
  Reader&amp;nbsp\;Leader leads a discussion of that article\, starting with hi
 s/her own appraisal. In so doing\, we all broaden our understanding of the
  field and further develop a sense of community.&lt;/p&gt;\n&lt;p&gt;&lt;strong&gt;1st Rule 
 of 1st Tuesday Journal-Paper Club:&lt;/strong&gt;&amp;nbsp\;tell everyone about 1st 
 Tuesday Journal-Paper Club.&lt;/p&gt;\n&lt;p&gt;&amp;nbsp\;&lt;/p&gt;\n&lt;p&gt;&amp;nbsp\;&lt;/p&gt;\n&lt;p&gt;&amp;nbsp\
 ;&lt;/p&gt;
END:VEVENT
END:VCALENDAR

