BEGIN:VCALENDAR
VERSION:2.0
PRODID:IEEE vTools.Events//EN
CALSCALE:GREGORIAN
BEGIN:VTIMEZONE
TZID:America/Los_Angeles
BEGIN:DAYLIGHT
DTSTART:20180311T030000
TZOFFSETFROM:-0800
TZOFFSETTO:-0700
RRULE:FREQ=YEARLY;BYDAY=2SU;BYMONTH=3
TZNAME:PDT
END:DAYLIGHT
BEGIN:STANDARD
DTSTART:20181104T010000
TZOFFSETFROM:-0700
TZOFFSETTO:-0800
RRULE:FREQ=YEARLY;BYDAY=1SU;BYMONTH=11
TZNAME:PST
END:STANDARD
END:VTIMEZONE
BEGIN:VEVENT
DTSTAMP:20181005T185505Z
UID:BF091865-2FCF-4B7D-A3F3-C7E130B507B1
DTSTART;TZID=America/Los_Angeles:20180611T180000
DTEND;TZID=America/Los_Angeles:20180611T203000
DESCRIPTION:Monday June 11\, 2018\n\nIEEE Consultants’ Network of San Die
 go\n\nTopic: DevOps: CloudFormation vs Terraform. Which one is right for y
 ou?\nSpeaker: Patrick Twohig\n\nManaging cloud infrastructure is both a vi
 tal and challenging part of running any modern application. Furthermore\, 
 effective automated management is an essential part of managing cloud infr
 astructure. To this end\, several solutions have emerged providing compani
 es with the tools and resources necessary to streamline development\, oper
 ations\, and deployment.\n\nFor companies wishing to migrate traditional i
 nfrastructure to AWS or those looking to improve on existing processes\, t
 his presentation covers the basics of both CloudFormation and Hashicorp Te
 rraform. In addition to covering the basic principles of Infrastructure as
  Code we compare\, contrast\, and explore the Amazon “House Brand” (Cl
 oud Formation)\, and the “aftermarket” supplied solution (Terraform).\
 n\nSpeaker Bio:\n\nPatrick Twohig is a Senior Cloud Consultant and Managin
 g Member of Namazu Studios. Over its ten years of existence\, Namazu has d
 eveloped several mobile games\, applications\, and cloud solutions for cus
 tomers in a variety of industries. Patrick has developed cloud solutions f
 or mobile games\, casino real-money gambling\, and IoT telemetry systems. 
 His company&#39;s clients include American Gaming Systems\, Scientific Games\,
  Quickplay Media\, Konami Digital Entertainment\, and Bush League Games.\n
 \nPatrick Twohig is a graduate of Ohio Northern University in Computer Eng
 ineering. He has been a lifetime IEEE member and is an active open source 
 contributor.\n\nCo-sponsored by: Alfono Limon\n\nSpeaker(s): Patrick Twohi
 g\, \n\nAgenda: \nSan Diego IEEE Consultants&#39; Network Meeting Date and Tim
 e:\nJune 11\, 2018 (Monday)\n6:00 - 7:00 pm – Dinner and informal networ
 king\n7:00 - 8:30 pm – Presentation\n\nBldg: Emilano&#39;s Mexican Restauran
 t\, 6690 Mission Gorge Road\, San Diego\, California\, United States\, 921
 20
LOCATION:Bldg: Emilano&#39;s Mexican Restaurant\, 6690 Mission Gorge Road\, San
  Diego\, California\, United States\, 92120
ORGANIZER:alfonso.limon@oneirix.com
SEQUENCE:7
SUMMARY:IEEE/CN - DevOps in AWS using CloudFormation and Terraform
URL;VALUE=URI:https://events.vtools.ieee.org/m/172906
X-ALT-DESC:Description: &lt;br /&gt;&lt;p&gt;&lt;strong&gt;Monday June 11\, 2018&lt;br /&gt; &lt;br /&gt;
  &lt;/strong&gt;&lt;/p&gt;\n&lt;p&gt;&lt;strong&gt;IEEE Consultants&amp;rsquo\; Network of San Diego&lt;b
 r /&gt; &lt;br /&gt; &lt;/strong&gt;&lt;/p&gt;\n&lt;p&gt;&lt;strong&gt;Topic:&lt;/strong&gt;&amp;nbsp\; DevOps: Cloud
 Formation vs Terraform.&amp;nbsp\; Which one is right for you?&lt;br /&gt; &lt;strong&gt;S
 peaker:&lt;/strong&gt; Patrick Twohig&lt;/p&gt;\n&lt;p&gt;Managing cloud infrastructure is b
 oth a vital and challenging part of running any modern application.&amp;nbsp\;
  Furthermore\, effective automated management is an essential part of mana
 ging cloud infrastructure.&amp;nbsp\; To this end\, several solutions have eme
 rged providing companies with the tools and resources necessary to streaml
 ine development\, operations\, and deployment.&lt;/p&gt;\n&lt;p&gt;&amp;nbsp\;&lt;/p&gt;\n&lt;p&gt;For
  companies wishing to migrate traditional infrastructure to AWS or those l
 ooking to improve on existing processes\, this presentation covers the bas
 ics of both CloudFormation and Hashicorp Terraform.&amp;nbsp\; In addition to 
 covering the basic principles of Infrastructure as Code we compare\, contr
 ast\, and explore the Amazon &amp;ldquo\;House Brand&amp;rdquo\; (Cloud Formation)
 \, and the &amp;ldquo\;aftermarket&amp;rdquo\; supplied solution (Terraform).&lt;/p&gt;\
 n&lt;p&gt;&amp;nbsp\;&lt;/p&gt;\n&lt;p&gt;&lt;strong&gt;Speaker Bio:&lt;/strong&gt;&lt;/p&gt;\n&lt;p&gt;&amp;nbsp\;&lt;/p&gt;\n&lt;p&gt;
 Patrick Twohig is a Senior Cloud Consultant and Managing Member of Namazu 
 Studios. Over its ten years of existence\, Namazu has developed several mo
 bile games\, applications\, and cloud solutions for customers in a variety
  of industries. Patrick has developed cloud solutions for mobile games\, c
 asino real-money gambling\, and IoT telemetry systems. His company&#39;s clien
 ts include American Gaming Systems\, Scientific Games\, Quickplay Media\, 
 Konami Digital Entertainment\, and Bush League Games.&lt;/p&gt;\n&lt;p&gt;Patrick Twoh
 ig is a graduate of Ohio Northern University in Computer Engineering.&amp;nbsp
 \; He has been a lifetime IEEE member and is an active open source contrib
 utor.&lt;/p&gt;\n&lt;p&gt;&amp;nbsp\;&lt;/p&gt;\n&lt;p&gt;&amp;nbsp\;&lt;/p&gt;\n&lt;p&gt;&amp;nbsp\;&lt;/p&gt;&lt;br /&gt;&lt;br /&gt;Agend
 a: &lt;br /&gt;&lt;p&gt;&lt;strong&gt;San Diego IEEE Consultants&#39; Network Meeting Date and T
 ime: &lt;/strong&gt;&lt;br /&gt;June 11\, 2018 (Monday)&lt;br /&gt;6:00 - 7:00 pm &amp;ndash\; D
 inner and informal networking&lt;br /&gt;7:00 - 8:30 pm &amp;ndash\; Presentation&lt;br
  /&gt;&lt;br /&gt;&lt;/p&gt;
END:VEVENT
END:VCALENDAR

