BEGIN:VCALENDAR
VERSION:2.0
PRODID:IEEE vTools.Events//EN
CALSCALE:GREGORIAN
BEGIN:VTIMEZONE
TZID:Turkey
BEGIN:DAYLIGHT
DTSTART:20380119T061407
TZOFFSETFROM:+0300
TZOFFSETTO:+0300
RRULE:FREQ=YEARLY;BYDAY=3TU;BYMONTH=1
TZNAME:+03
END:DAYLIGHT
BEGIN:STANDARD
DTSTART:20160907T000000
TZOFFSETFROM:+0300
TZOFFSETTO:+0300
RRULE:FREQ=YEARLY;BYDAY=1WE;BYMONTH=9
TZNAME:+03
END:STANDARD
END:VTIMEZONE
BEGIN:VEVENT
DTSTAMP:20180519T150546Z
UID:BADC31EA-D4AD-4037-8F21-C9F2CEA0553B
DTSTART;TZID=Turkey:20180516T144000
DTEND;TZID=Turkey:20180516T154000
DESCRIPTION:Speaker: Prof. Levent Sevgi\, Okan University\n\nTopic: &quot;Electr
 omagnetic Diffraction Modeling and Simulation&quot;\n\nLocation: Middle East Te
 chnical University\, Ankara\, Turkey\n\nSpeaker(s): Prof. Levent Sevgi\, \
 n\nAnkara\, Ankara\, Türkiye
LOCATION:Ankara\, Ankara\, Türkiye
ORGANIZER:ozergul@metu.edu.tr
SEQUENCE:0
SUMMARY:IEEE AP/MTT/EMC/ED TURKEY CHAPTER SEMINAR SERIES -- SEMINAR 33
URL;VALUE=URI:https://events.vtools.ieee.org/m/173195
X-ALT-DESC:Description: &lt;br /&gt;&lt;p&gt;Speaker: Prof. Levent Sevgi\, Okan Univers
 ity&lt;/p&gt;\n&lt;p&gt;Topic: &quot;Electromagnetic Diffraction Modeling and Simulation&quot;&lt;/
 p&gt;\n&lt;p&gt;Location: &amp;nbsp\;Middle East Technical University\, Ankara\, Turkey
 &lt;/p&gt;
END:VEVENT
END:VCALENDAR

