BEGIN:VCALENDAR
VERSION:2.0
PRODID:IEEE vTools.Events//EN
CALSCALE:GREGORIAN
BEGIN:VTIMEZONE
TZID:Asia/Beirut
BEGIN:DAYLIGHT
DTSTART:20180325T010000
TZOFFSETFROM:+0200
TZOFFSETTO:+0300
RRULE:FREQ=YEARLY;BYDAY=-1SU;BYMONTH=3
TZNAME:EEST
END:DAYLIGHT
BEGIN:STANDARD
DTSTART:20181027T230000
TZOFFSETFROM:+0300
TZOFFSETTO:+0200
RRULE:FREQ=YEARLY;BYDAY=-1SA;BYMONTH=10
TZNAME:EET
END:STANDARD
END:VTIMEZONE
BEGIN:VEVENT
DTSTAMP:20180521T074647Z
UID:0BAA4D61-74FE-4D0B-88F7-FB35A3F18ABE
DTSTART;TZID=Asia/Beirut:20180426T080000
DTEND;TZID=Asia/Beirut:20180426T180000
DESCRIPTION:&quot;Alfa and Ericsson IoT Award&quot; is the first step of the MoUs imp
 lementation that were signed between IEEE Lebanon Section and the first te
 lecom operator in Lebanon Alfa from one part\, and the worldwide leading t
 elecommunications company Ericsson from the other side. The competition ma
 in theme is IoT\, and it is the first of its kind in Lebanon. Students fro
 m 17 different universities were invited to create an innovative IoT idea 
 and compete against each other for a chance to win monetary and non-moneta
 ry (internship opportunities\, participation certificates\, trophies and m
 edia exposure) prizes. 24 teams (each team consists of two to three studen
 ts) competed in the first round which is the &quot;Presentation Day&quot;. A jury ma
 de of IEEE\, Alfa and Ericsson delegates assessed their projects from diff
 erent points of view following specific grading criteria (technicality\, b
 usiness plan and mass production\, concept and innovation) and the Top 5 t
 eams were announced. Winners will be revealed in phase 2 of the competitio
 n that will be reported separately.\n\nCo-sponsored by: Alfa and Ericsson\
 n\nAlfa Premises\, Beirut\, Lebanon\, Lebanon
LOCATION:Alfa Premises\, Beirut\, Lebanon\, Lebanon
ORGANIZER:asmaa.abdallah@ieee.org
SEQUENCE:1
SUMMARY:[Legacy Report] Alfa and Ericsson IoT award 2nd Edition- Phase 1
URL;VALUE=URI:https://events.vtools.ieee.org/m/173244
X-ALT-DESC:Description: &lt;br /&gt;&lt;p&gt;&quot;&lt;strong&gt;Alfa and Ericsson IoT Award&lt;/stro
 ng&gt;&quot; is the first step&amp;nbsp\;of the MoUs&amp;nbsp\;implementation that were si
 gned between IEEE Lebanon Section and&amp;nbsp\;the first&amp;nbsp\;telecom operat
 or in Lebanon&amp;nbsp\;Alfa from one part\, and the worldwide leading telecom
 munications company Ericsson from the other side. The competition main the
 me is IoT\, and it is the &lt;strong&gt;first of its kind in Lebanon&lt;/strong&gt;. S
 tudents&amp;nbsp\;from &lt;strong&gt;17 different universities&lt;/strong&gt; were invited
  to create an innovative IoT idea and compete against each other for a cha
 nce to win monetary and non-monetary (internship opportunities\, participa
 tion certificates\, trophies and&amp;nbsp\;media exposure) prizes. &lt;strong&gt;24 
 teams&lt;/strong&gt;&amp;nbsp\;(each team consists of two to three students)&amp;nbsp\;c
 ompeted in the first round which is the &quot;Presentation Day&quot;. A jury made of
  IEEE\, Alfa and Ericsson delegates assessed their projects from different
  points of view following specific grading criteria (technicality\, busine
 ss plan and mass production\, concept and innovation) and the Top 5 teams 
 were announced. Winners will be&amp;nbsp\;revealed in phase 2 of the competiti
 on that will be reported separately.&lt;/p&gt;
END:VEVENT
END:VCALENDAR

