BEGIN:VCALENDAR
VERSION:2.0
PRODID:IEEE vTools.Events//EN
CALSCALE:GREGORIAN
BEGIN:VTIMEZONE
TZID:America/Panama
BEGIN:STANDARD
DTSTART:19080422T001936
TZOFFSETFROM:-0640
TZOFFSETTO:-0500
TZNAME:EST
END:STANDARD
END:VTIMEZONE
BEGIN:VEVENT
DTSTAMP:20180611T171015Z
UID:6B79A92A-3B9A-40F5-9501-05A32EEAB923
DTSTART;TZID=America/Panama:20180609T090000
DTEND;TZID=America/Panama:20180609T160000
DESCRIPTION:- Conocerás las últimas tendencias en eficiencia energética.
 \n\n- Como presentar un proyecto de eficiencia energética.\n\n- Como logr
 ar ahorros considerables en la factura eléctrica.\n\n- Cumplimiento de la
  Guía de construcciones sostenibles (Que entró en vigor desde noviembre 
 2017).\n\nCo-sponsored by: guadalupe.gonzalez@ieee.org\n\nHOTEL GRAN AZUER
 O\, PANAMA CITY\, Herrera\, Panama\, .PA
LOCATION:HOTEL GRAN AZUERO\, PANAMA CITY\, Herrera\, Panama\, .PA
ORGANIZER:fstringos@ieee.org
SEQUENCE:1
SUMMARY:SEMINARIO DE EFICIENCIA ENERGÉTICA E INTRODUCCIÓN A LA GUÍA DE C
 ONSTRUCCIÓN SOSTENIBLE
URL;VALUE=URI:https://events.vtools.ieee.org/m/173269
X-ALT-DESC:Description: &lt;br /&gt;&lt;ul&gt;\n&lt;li&gt;&lt;strong&gt;Conocer&amp;aacute\;s las &amp;uacu
 te\;ltimas tendencias en eficiencia energ&amp;eacute\;tica.&lt;/strong&gt;&lt;/li&gt;\n&lt;/u
 l&gt;\n&lt;p&gt;&lt;strong&gt;&amp;nbsp\;&lt;/strong&gt;&lt;/p&gt;\n&lt;ul&gt;\n&lt;li&gt;&lt;strong&gt;Como presentar un p
 royecto de eficiencia energ&amp;eacute\;tica.&lt;/strong&gt;&lt;/li&gt;\n&lt;/ul&gt;\n&lt;p&gt;&lt;strong
 &gt;&amp;nbsp\;&lt;/strong&gt;&lt;/p&gt;\n&lt;ul&gt;\n&lt;li&gt;&lt;strong&gt;Como lograr ahorros considerables
  en la factura el&amp;eacute\;ctrica.&lt;/strong&gt;&lt;/li&gt;\n&lt;/ul&gt;\n&lt;p&gt;&lt;strong&gt;&amp;nbsp\;
 &lt;/strong&gt;&lt;/p&gt;\n&lt;ul&gt;\n&lt;li&gt;&lt;strong&gt;Cumplimiento de la Gu&amp;iacute\;a de constr
 ucciones sostenibles (Que entr&amp;oacute\; en vigor desde noviembre 2017). &lt;/
 strong&gt;&lt;/li&gt;\n&lt;/ul&gt;
END:VEVENT
END:VCALENDAR

