BEGIN:VCALENDAR
VERSION:2.0
PRODID:IEEE vTools.Events//EN
CALSCALE:GREGORIAN
BEGIN:VTIMEZONE
TZID:Australia/Brisbane
BEGIN:STANDARD
DTSTART:19920301T020000
TZOFFSETFROM:+1100
TZOFFSETTO:+1000
TZNAME:AEST
END:STANDARD
END:VTIMEZONE
BEGIN:VEVENT
DTSTAMP:20180628T015850Z
UID:5E0F76E9-2F1F-409F-A48E-1E53AA60D85C
DTSTART;TZID=Australia/Brisbane:20180619T160000
DTEND;TZID=Australia/Brisbane:20180619T170000
DESCRIPTION:Whole of Australian National Electricity Market assessment of e
 conomic levels of transmission interconnection\, intermittent generation a
 nd energy storage capacity\n\nSpeaker(s): Ian Rose\, \n\nRoom: 502\, Bldg:
  Advanced Engineering Building No 49\, Staff House Road\, The University o
 f Queensland\, St Lucia\, Queensland\, Australia\, 4072
LOCATION:Room: 502\, Bldg: Advanced Engineering Building No 49\, Staff Hous
 e Road\, The University of Queensland\, St Lucia\, Queensland\, Australia\
 , 4072
ORGANIZER:n.modi@ieee.org
SEQUENCE:4
SUMMARY:Whole of Australian National Electricity Market assessment of econo
 mic levels of transmission interconnection\, intermittent generation and e
 nergy storage capacity
URL;VALUE=URI:https://events.vtools.ieee.org/m/173306
X-ALT-DESC:Description: &lt;br /&gt;&lt;p&gt;&lt;strong&gt;Whole of Australian National Elect
 ricity Market assessment of economic levels of transmission interconnectio
 n\, intermittent generation and energy storage capacity&lt;/strong&gt;&lt;/p&gt;
END:VEVENT
END:VCALENDAR

