BEGIN:VCALENDAR
VERSION:2.0
PRODID:IEEE vTools.Events//EN
CALSCALE:GREGORIAN
BEGIN:VTIMEZONE
TZID:Canada/Eastern
BEGIN:DAYLIGHT
DTSTART:20180311T030000
TZOFFSETFROM:-0500
TZOFFSETTO:-0400
RRULE:FREQ=YEARLY;BYDAY=2SU;BYMONTH=3
TZNAME:EDT
END:DAYLIGHT
BEGIN:STANDARD
DTSTART:20181104T010000
TZOFFSETFROM:-0400
TZOFFSETTO:-0500
RRULE:FREQ=YEARLY;BYDAY=1SU;BYMONTH=11
TZNAME:EST
END:STANDARD
END:VTIMEZONE
BEGIN:VEVENT
DTSTAMP:20180926T192512Z
UID:F9A13E0D-CA98-43E6-99FF-21C254FFA66A
DTSTART;TZID=Canada/Eastern:20180915T090000
DTEND;TZID=Canada/Eastern:20180916T170000
DESCRIPTION:The IEEE WIE has launched the IEEE WIE International Leadership
  Summits (ILS) program in 2016\, as one of the global initiatives to empow
 er and support women. This program supports organization of ten leadership
  summits in different countries annually to provide networking and profess
 ional development opportunities to female engineers locally. We are proud 
 to host the first IEEE WIE ILS in Canada! Themed STEMpowered Leadership\, 
 the IEEE WIE ILS Toronto 2018 promotes diversity\, equity\, and collaborat
 ion in STEM professions. The summit will feature a wide spectrum of intere
 sting track divisions\, including Leadership\, Entrepreneurship\, Empowerm
 ent\, Future Technologies\, Innovation and Professional development worksh
 op. The event will take place at Hilton Mississauga/Meadowvale\, Ontario\,
  on September 15th-16th\, 2018. The expected audience will comprise of und
 ergraduate and graduate students and mid- to senior-level professionals wo
 rking in STEM fields (women and men) from everywhere across Canada. We are
  expecting about 100 attendees.\n\nFor the program\, speakers\, sponsors a
 nd more visit our website: http://sites.ieee.org/wieils-toronto-2018/\n\nH
 ilton Mississauga/Meadowvale\, 6750 Mississauga Road\, Mississagua\, Ontar
 io\, Canada\, L5N 2L3
LOCATION:Hilton Mississauga/Meadowvale\, 6750 Mississauga Road\, Mississagu
 a\, Ontario\, Canada\, L5N 2L3
ORGANIZER:c.lowell@ieee.org
SEQUENCE:45
SUMMARY:IEEE Women in Engineering International Leadership Summit Toronto 2
 018
URL;VALUE=URI:https://events.vtools.ieee.org/m/173920
X-ALT-DESC:Description: &lt;br /&gt;&lt;p&gt;&lt;span style=&quot;text-decoration-style: initia
 l\; text-decoration-color: initial\; float: none\; display: inline\;&quot;&gt;&lt;spa
 n style=&quot;font-size: small\; background-color: #ffffff\; text-decoration-st
 yle: initial\; text-decoration-color: initial\; float: none\; display: inl
 ine\;&quot;&gt;The IEEE WIE has launched the IEEE WIE International Leadership Sum
 mits (ILS) program in 2016\, a&lt;span style=&quot;background-color: #ffffff\; tex
 t-decoration-style: initial\; text-decoration-color: initial\; float: none
 \; display: inline\;&quot;&gt;s one of the global initiatives to empower and suppo
 rt women&lt;/span&gt;. This program supports organization of ten leadership summ
 its in different countries annually to provide networking and professional
  development opportunities to female engineers locally.&amp;nbsp\;&lt;/span&gt;&lt;span
  style=&quot;font-size: 12.8px\; background-color: #ffffff\;&quot;&gt;We are&amp;nbsp\;&lt;/sp
 an&gt;proud to host the first IEEE WIE ILS in Canada! Themed STEMpowered Lead
 ership\, the IEEE WIE ILS Toronto 2018 promotes diversity\, equity\, and c
 ollaboration in STEM professions. The summit will feature a wide spectrum 
 of interesting track divisions\, including Leadership\, Entrepreneurship\,
  Empowerment\, Future Technologies\, Innovation and Professional developme
 nt workshop.&amp;nbsp\;&lt;/span&gt;The event will take place at Hilton Mississauga/
 Meadowvale\, Ontario\, on September 15th-16th\, 2018. The expected audienc
 e will comprise of undergraduate and graduate students and mid- to senior-
 level professionals working in STEM fields (women and men) from everywhere
  across Canada. We are expecting about 100 attendees.&lt;/p&gt;\n&lt;p&gt;For the prog
 ram\, speakers\, sponsors and more visit our website:&amp;nbsp\;&lt;span style=&quot;c
 olor: #333399\;&quot;&gt;http://sites.ieee.org/wieils-toronto-2018/&lt;/span&gt;&lt;/p&gt;\n&lt;p
 &gt;&amp;nbsp\;&lt;/p&gt;
END:VEVENT
END:VCALENDAR

