BEGIN:VCALENDAR
VERSION:2.0
PRODID:IEEE vTools.Events//EN
CALSCALE:GREGORIAN
BEGIN:VTIMEZONE
TZID:US/Eastern
BEGIN:DAYLIGHT
DTSTART:20180311T030000
TZOFFSETFROM:-0500
TZOFFSETTO:-0400
RRULE:FREQ=YEARLY;BYDAY=2SU;BYMONTH=3
TZNAME:EDT
END:DAYLIGHT
BEGIN:STANDARD
DTSTART:20181104T010000
TZOFFSETFROM:-0400
TZOFFSETTO:-0500
RRULE:FREQ=YEARLY;BYDAY=1SU;BYMONTH=11
TZNAME:EST
END:STANDARD
END:VTIMEZONE
BEGIN:VEVENT
DTSTAMP:20181021T215107Z
UID:E7ED249B-EC43-45EF-A187-4D482B28778D
DTSTART;TZID=US/Eastern:20181020T083000
DTEND;TZID=US/Eastern:20181020T163000
DESCRIPTION:http://ewh.ieee.org/r4/se_michigan/cs/meetings_embedded2016.htm
 l\n\nThe 16th Annual Workshop on Embedded Systems will be held at Lawrence
  Tech University\, Room A200 Auditorium\, Architecture Building. Registrat
 ion is required. Open to engineers and students. You are encouraged to joi
 n the IEEE\, but it is not mandatory. Membership is encouraged to realize 
 the maximum potential. The workshop itself is complimentary/free\, thanks 
 to the various sponsors.\n\nEmail for follow up: esw2018@ieee-sem.org\n\nI
 EEE Embedded System Workshop Sponsors: Altair\, Beningo Embedded Group\, D
 ataSpeed Inc\, SimuQuest\, Vector North America\, iSystem\, Intrepid CS\, 
 DataSwing LLC\, NVIDIA\, [IEEE SEM Computer Society Chapter](http://ewh.ie
 ee.org/r4/se_michigan/cs)\, [Lawrence Technological University](http://www
 .ltu.edu) and [Oakland University School of Engineering](http://wwwp.oakla
 nd.edu/secs/).\n\nThe aim is to disseminate knowledge\, directly benefitin
 g the IEEE members\, at the same time improve the technology skills pool\,
  indirectly boosting the Michigan economy. Speakers and experts from the e
 mbedded systems industry will be making presentations\, and will also be a
 vailable for discussions and networking throughout the day. In addition to
  the technical presentations\, there will be industry information display 
 and professional recruitment tables. Use this opportunity for networking w
 ith other engineers\, industry experts and embedded enthusiasts.\n\nSee th
 e Agenda for the Schedule of Events (updated frequently)\n\nCo-sponsored b
 y: Sharan Kalwani\n\nAgenda: \n08:00 AM - Registration Desk Opens\; Light 
 breakfast available\n\n08:30 AM - Workshop Begins\; Welcome by Dr. Subra G
 anesan\, Chair ESW 2018\n\n08:35 AM - Opening KeyNote Speech by our Chief 
 Guest: Dr Virinder Moudgil\, President\, Lawrence Technological University
 \n\n09:00 AM - Atilla Bulmus\, Infineon: &quot;The needle in the haystack or Pr
 oblem Solving Strategies for a micro-controller&quot;\n\n09:35 AM - Jeremy Mang
 as\, SimuQuest: &quot;There Must be a Better Way: Automating the Boring Stuff i
 n Embedded Controls Development&quot;\n\n10:10 AM - Micho Radovnikovich\, DataS
 peed: &quot;Design and Implementation of Autonomous Research Vehicle Platforms&quot;
 \n\n10:45 AM - Coffee &amp; Tea Break\; Raffle/Door Prizes Drawing\n\n11:05 AM
  - CJ Chung\, LTU: &quot;ACTor: A Platform to Build a Talent Pipeline For Auton
 omous Vehicle R&amp;D&quot;\n\n11:40 AM - Salvador Alamanza\, Vector North America:
  &quot;Service Oriented Architecture (SOA) in Automotive Systems&quot;\n\n12:15 PM -
  Lunch Break\;\n\n12:55 PM - Workshop Resumes\, Chapter business update\; 
 Raffle/Door Prizes Drawing\n\n01:00 PM - Dave Robins\, Intrepid CS: &quot;Cars 
 with Lasers: the who\, what\, how and why of LiDAR&quot;\n\n01:35 PM - Jeff Bro
 ckmole\, Harman International: &quot;Going to Eleven: Increasing Car Audio Syst
 em Efficiency via DSP&quot;\n\n02:10 PM - Felix Martin\, iSystem: &quot;AUTOSAR Prof
 iling for Multi-Core and Multi-ECU Automotive Applications&quot;\n\n02:40 PM - 
 Coffee &amp; Tea Break\; Raffle/Door Prizes Drawing\n\n03:00 PM - Richard Kolk
 \, Altair: &quot;Simulation-Driven Innovation through better Embedded Systems D
 evelopment&quot;\n\n03:35 PM - Bill VeenHuis\, NVIDIA: &quot;Art of the possible in 
 Deep Learning&quot;\n\n04:05 PM - Jacob Beningo\, Beningo Embedded Group: &quot;Jump
  Starting Code Development to Minimize Software Defects&quot;\n\n04:30 PM - FIN
 AL Raffle/Door Prizes Drawing\n\n04:40 PM - Vote of thanks &amp; Conclusion\; 
 Certificate of Attendance Distributed\n\n04:45 PM - Workshop Ends\n\nA Cer
 tificate of Attendance is available for those who participate in the full 
 day session. Please indicate this at the time of registration *and* email 
 the sponsors in advance.\n\nRoom: Room A200 Auditorium\, Bldg:  Architectu
 re Building\, 21000 West 10 mile Rd\, Southfield\, Michigan\, United State
 s\, 48075
LOCATION:Room: Room A200 Auditorium\, Bldg:  Architecture Building\, 21000 
 West 10 mile Rd\, Southfield\, Michigan\, United States\, 48075
ORGANIZER:esw2018@ieee-sem.org
SEQUENCE:71
SUMMARY:Embedded Systems Workshop 2018 - Lawrence Technological University
URL;VALUE=URI:https://events.vtools.ieee.org/m/175036
X-ALT-DESC:Description: &lt;br /&gt;&lt;p&gt;&amp;nbsp\; &amp;nbsp\;&amp;nbsp\; &amp;nbsp\;&amp;nbsp\;&amp;nbsp
 \;&lt;a href=&quot;http://ewh.ieee.org/r4/se_michigan/cs/meetings_embedded2016.htm
 l&quot; target=&quot;_BLANK&quot;&gt; &lt;img src=&quot;http://ewh.ieee.org/r4/se_michigan/cs/images
 /cs_sem_71x95.jpg&quot; alt=&quot;&quot; /&gt;&amp;nbsp\;&lt;/a&gt;&lt;/p&gt;\n&lt;p&gt;&lt;span style=&quot;font-family: 
 &#39;trebuchet ms&#39;\, geneva\; font-size: 12pt\;&quot;&gt;The 16th Annual Workshop on E
 mbedded Systems will be held at Lawrence Tech University\, Room A200 Audit
 orium\, Architecture Building. Registration is required. &amp;nbsp\;Open to en
 gineers and students. You are encouraged to join the IEEE\, but it is not 
 mandatory. &amp;nbsp\;Membership is encouraged to realize the maximum potentia
 l. &amp;nbsp\;The workshop itself is complimentary/free\, thanks to the variou
 s sponsors.&amp;nbsp\;&lt;/span&gt;&lt;/p&gt;\n&lt;p&gt;&lt;span style=&quot;font-family: &#39;trebuchet ms&#39;
 \, geneva\; font-size: 12pt\;&quot;&gt;Email for follow up: &lt;a title=&quot;Contact Orga
 nizers&quot; href=&quot;mailto:esw2018@ieee-sem.org&quot; target=&quot;_blank&quot; rel=&quot;noopener&quot;&gt;
 esw2018@ieee-sem.org&lt;/a&gt;&lt;/span&gt;&lt;/p&gt;\n&lt;p&gt;&lt;span style=&quot;font-family: &#39;trebuch
 et ms&#39;\, geneva\; font-size: 12pt\;&quot;&gt;IEEE Embedded System Workshop Sponsor
 s: Altair\, Beningo Embedded Group\, DataSpeed Inc\, SimuQuest\, Vector No
 rth America\, iSystem\, Intrepid CS\, DataSwing LLC\, NVIDIA\,&amp;nbsp\; &lt;a h
 ref=&quot;http://ewh.ieee.org/r4/se_michigan/cs&quot; target=&quot;_BLANK&quot;&gt;IEEE SEM Compu
 ter Society Chapter&lt;/a&gt;\, &lt;a title=&quot;LTU&quot; href=&quot;http://www.ltu.edu&quot; target=
 &quot;_blank&quot; rel=&quot;noopener&quot;&gt;Lawrence Technological University&lt;/a&gt; and &lt;a title
 =&quot;OU&quot; href=&quot;http://wwwp.oakland.edu/secs/&quot; target=&quot;_blank&quot; rel=&quot;noopener&quot;&gt;
 Oakland University School of Engineering&lt;/a&gt;.&lt;/span&gt;&lt;/p&gt;\n&lt;p&gt;&lt;span style=&quot;
 font-family: &#39;trebuchet ms&#39;\, geneva\; font-size: 12pt\;&quot;&gt;The aim is to di
 sseminate knowledge\, directly benefiting the IEEE members\, at the same t
 ime improve the technology skills pool\, indirectly boosting the Michigan 
 economy. Speakers and experts from the embedded systems industry will be m
 aking presentations\, and will also be available for discussions and netwo
 rking throughout the day. In addition to the technical presentations\, the
 re will be industry information display and professional recruitment table
 s. Use this opportunity for networking with other engineers\, industry exp
 erts and embedded enthusiasts.&lt;/span&gt;&lt;/p&gt;\n&lt;p&gt;&lt;span style=&quot;font-family: &#39;t
 rebuchet ms&#39;\, geneva\; font-size: 12pt\;&quot;&gt;See the Agenda for the&amp;nbsp\;Sc
 hedule of Events (updated frequently)&lt;/span&gt;&lt;/p&gt;\n&lt;p&gt;&amp;nbsp\;&lt;/p&gt;&lt;br /&gt;&lt;br 
 /&gt;Agenda: &lt;br /&gt;&lt;p&gt;&lt;span style=&quot;font-size: 10pt\;&quot;&gt;&lt;strong&gt;&lt;span style=&quot;fo
 nt-family: &#39;courier new&#39;\, courier\;&quot;&gt;08:00 AM - Registration Desk Opens\;
  Light breakfast available&lt;br /&gt;&lt;/span&gt;&lt;/strong&gt;&lt;/span&gt;&lt;/p&gt;\n&lt;p&gt;&lt;span styl
 e=&quot;font-family: &#39;courier new&#39;\, courier\; font-size: 10pt\;&quot;&gt;08:30 AM - Wo
 rkshop Begins\; Welcome by Dr. Subra Ganesan\, Chair ESW 2018&lt;/span&gt;&lt;/p&gt;\n
 &lt;p&gt;&lt;span style=&quot;font-family: &#39;courier new&#39;\, courier\; font-size: 10pt\;&quot;&gt;
 08:35 AM - Opening KeyNote Speech by our Chief Guest: Dr Virinder Moudgil\
 , President\, Lawrence Technological University&lt;br /&gt;&lt;/span&gt;&lt;/p&gt;\n&lt;p&gt;&lt;span
  style=&quot;font-family: &#39;courier new&#39;\, courier\; font-size: 10pt\;&quot;&gt;09:00 AM
  - &lt;span style=&quot;font-size: 10pt\;&quot;&gt;&lt;span style=&quot;font-family: &#39;courier new&#39;
 \, courier\;&quot;&gt;Atilla Bulmus\, Infineon: &lt;em&gt;&quot;The needle in the haystack or
  Problem Solving Strategies for a micro-controller&quot; &lt;/em&gt;&lt;/span&gt;&lt;/span&gt;&lt;br
  /&gt;&lt;/span&gt;&lt;/p&gt;\n&lt;p&gt;&lt;span style=&quot;font-family: &#39;courier new&#39;\, courier\; fon
 t-size: 10pt\;&quot;&gt;09:35 AM - Jeremy Mangas\, SimuQuest: &lt;em&gt;&quot;There Must be a
  Better Way: Automating the Boring Stuff in Embedded Controls Development&quot;
 &lt;/em&gt;&lt;br /&gt;&lt;/span&gt;&lt;/p&gt;\n&lt;p&gt;&lt;span style=&quot;font-family: &#39;courier new&#39;\, couri
 er\; font-size: 10pt\;&quot;&gt;10:10 AM - Micho Radovnikovich\, DataSpeed: &lt;em&gt;&quot;D
 esign and Implementation of Autonomous Research Vehicle Platforms&quot;&lt;/em&gt;&lt;br
  /&gt;&lt;/span&gt;&lt;/p&gt;\n&lt;p&gt;&lt;span style=&quot;font-family: &#39;courier new&#39;\, courier\; fon
 t-size: 10pt\;&quot;&gt;10:45 AM - &lt;span style=&quot;text-decoration: underline\;&quot;&gt;Coff
 ee &amp;amp\; Tea Break\;&amp;nbsp\;Raffle/Door Prizes Drawing&lt;/span&gt;&lt;/span&gt;&lt;/p&gt;\n
 &lt;p&gt;&lt;span style=&quot;font-family: &#39;courier new&#39;\, courier\; font-size: 10pt\;&quot;&gt;
 11:05 AM - CJ Chung\, LTU: &lt;em&gt;&quot;ACTor: A Platform to Build a Talent Pipeli
 ne For Autonomous Vehicle R&amp;amp\;D&quot;&lt;/em&gt;&lt;br /&gt;&lt;/span&gt;&lt;/p&gt;\n&lt;p&gt;&lt;span style=
 &quot;font-family: &#39;courier new&#39;\, courier\; font-size: 10pt\;&quot;&gt;11:40 AM - Salv
 ador Alamanza\, Vector North America: &lt;em&gt;&quot;Service Oriented Architecture (
 SOA) in Automotive Systems&quot;&lt;/em&gt;&lt;br /&gt;&lt;/span&gt;&lt;/p&gt;\n&lt;p&gt;&lt;span style=&quot;font-fa
 mily: &#39;courier new&#39;\, courier\; font-size: 10pt\;&quot;&gt;12:15 PM - &lt;span style=
 &quot;text-decoration: underline\;&quot;&gt;Lunch Break\;&lt;/span&gt;&lt;em&gt;&amp;nbsp\;&lt;/em&gt;&lt;/span&gt;
 &lt;/p&gt;\n&lt;p&gt;&lt;span style=&quot;font-family: &#39;courier new&#39;\, courier\; font-size: 10
 pt\;&quot;&gt;12:55 PM - &lt;span style=&quot;text-decoration: underline\;&quot;&gt;Workshop Resum
 es\, Chapter business update\;&amp;nbsp\;Raffle/Door Prizes Drawing&lt;/span&gt;&lt;/sp
 an&gt;&lt;/p&gt;\n&lt;p&gt;&lt;span style=&quot;font-family: &#39;courier new&#39;\, courier\; font-size:
  10pt\;&quot;&gt;01:00 PM - Dave Robins\, Intrepid CS: &lt;em&gt;&quot;Cars with Lasers: the 
 who\, what\, how and why of LiDAR&quot;&lt;/em&gt;&lt;br /&gt;&lt;/span&gt;&lt;/p&gt;\n&lt;p&gt;&lt;span style=&quot;
 font-size: 10pt\;&quot;&gt;&lt;span style=&quot;font-family: &#39;courier new&#39;\, courier\;&quot;&gt;01
 :35 PM - Jeff Brockmole\, Harman International: &lt;em&gt;&quot;Going to Eleven: Incr
 easing Car Audio System Efficiency via DSP&quot;&lt;/em&gt;&lt;br /&gt;&lt;/span&gt;&lt;/span&gt;&lt;/p&gt;\n
 &lt;p&gt;&lt;span style=&quot;font-size: 10pt\;&quot;&gt;&lt;span style=&quot;font-family: &#39;courier new&#39;
 \, courier\;&quot;&gt;02:10 PM - Felix Martin\, iSystem: &lt;em&gt;&quot;AUTOSAR Profiling fo
 r Multi-Core and Multi-ECU Automotive Applications&quot;&lt;/em&gt;&lt;br /&gt;&lt;/span&gt;&lt;/spa
 n&gt;&lt;/p&gt;\n&lt;p&gt;&lt;span style=&quot;font-size: 10pt\;&quot;&gt;&lt;span style=&quot;font-family: &#39;cour
 ier new&#39;\, courier\;&quot;&gt;02:40 PM - &lt;span style=&quot;text-decoration: underline\;
 &quot;&gt;Coffee &amp;amp\; Tea Break\;&amp;nbsp\;Raffle/Door Prizes Drawing&lt;/span&gt;&lt;/span&gt;
 &lt;/span&gt;&lt;/p&gt;\n&lt;p&gt;&lt;span style=&quot;font-size: 10pt\;&quot;&gt;&lt;span style=&quot;font-family: 
 &#39;courier new&#39;\, courier\;&quot;&gt;03:00 PM - Richard Kolk\, Altair: &lt;em&gt;&quot;Simulati
 on-Driven Innovation through better Embedded Systems Development&quot;&lt;/em&gt;&lt;br 
 /&gt;&lt;/span&gt;&lt;/span&gt;&lt;/p&gt;\n&lt;p&gt;&lt;span style=&quot;font-size: 10pt\;&quot;&gt;&lt;span style=&quot;font
 -family: &#39;courier new&#39;\, courier\;&quot;&gt;03:35 PM - Bill VeenHuis\, NVIDIA: &lt;em
 &gt;&quot;Art of the possible in Deep Learning&quot;&lt;/em&gt;&lt;br /&gt;&lt;/span&gt;&lt;/span&gt;&lt;/p&gt;\n&lt;p&gt;&lt;
 span style=&quot;font-size: 10pt\;&quot;&gt;&lt;span style=&quot;font-family: &#39;courier new&#39;\, c
 ourier\;&quot;&gt;04:05 PM - &lt;span style=&quot;font-family: &#39;courier new&#39;\, courier\; f
 ont-size: 10pt\;&quot;&gt;Jacob Beningo\, Beningo Embedded Group: &lt;em&gt;&quot;Jump Starti
 ng Code Development to Minimize Software Defects&quot;&lt;/em&gt;&lt;/span&gt;&lt;/span&gt;&lt;/span
 &gt;&lt;/p&gt;\n&lt;p&gt;&lt;span style=&quot;font-family: &#39;courier new&#39;\, courier\; font-size: 1
 0pt\;&quot;&gt;04:30 PM - &lt;span style=&quot;text-decoration: underline\;&quot;&gt;FINAL Raffle/
 Door Prizes Drawing&lt;/span&gt;&lt;/span&gt;&lt;/p&gt;\n&lt;p&gt;&lt;span style=&quot;font-family: &#39;couri
 er new&#39;\, courier\; font-size: 10pt\;&quot;&gt;04:40 PM - &lt;span style=&quot;text-decora
 tion: underline\;&quot;&gt;Vote of thanks &amp;amp\;&amp;nbsp\;Conclusion\; Certificate of
  Attendance Distributed&lt;/span&gt;&lt;/span&gt;&lt;/p&gt;\n&lt;p&gt;&lt;span style=&quot;font-size: 10pt
 \;&quot;&gt;&lt;strong&gt;&lt;span style=&quot;font-family: &#39;courier new&#39;\, courier\;&quot;&gt;04:45 PM 
 - Workshop Ends&lt;/span&gt;&lt;/strong&gt;&lt;/span&gt;&lt;/p&gt;\n&lt;p&gt;&lt;span style=&quot;font-size: 10p
 t\; font-family: courier new\, courier\, monospace\;&quot;&gt;A Certificate of Att
 endance is&amp;nbsp\;available for those who participate in the full day sessi
 on. Please &lt;strong&gt;indicate&lt;/strong&gt; this at the &lt;strong&gt;time of registrat
 ion&lt;/strong&gt;&amp;nbsp\;&lt;em&gt;*and*&lt;/em&gt;&amp;nbsp\;&lt;strong&gt;email the sponsors in adva
 nce&lt;/strong&gt;.&lt;/span&gt;&lt;/p&gt;\n&lt;!-- 00000001 --&gt;
END:VEVENT
END:VCALENDAR

