BEGIN:VCALENDAR
VERSION:2.0
PRODID:IEEE vTools.Events//EN
CALSCALE:GREGORIAN
BEGIN:VTIMEZONE
TZID:US/Michigan
BEGIN:DAYLIGHT
DTSTART:20180311T030000
TZOFFSETFROM:-0500
TZOFFSETTO:-0400
RRULE:FREQ=YEARLY;BYDAY=2SU;BYMONTH=3
TZNAME:EDT
END:DAYLIGHT
BEGIN:STANDARD
DTSTART:20181104T010000
TZOFFSETFROM:-0400
TZOFFSETTO:-0500
RRULE:FREQ=YEARLY;BYDAY=1SU;BYMONTH=11
TZNAME:EST
END:STANDARD
END:VTIMEZONE
BEGIN:VEVENT
DTSTAMP:20181009T114345Z
UID:EFDAA99A-D37E-4E06-94D6-00D70ABD17E2
DTSTART;TZID=US/Michigan:20180816T173000
DTEND;TZID=US/Michigan:20180816T193000
DESCRIPTION:Southeastern Michigan IEEE EMC Chapter technical meeting.\n\nPi
 zza &amp; Beverage Sponsor: [Elite Electronic Engineering](https://www.elitete
 st.com/)\n\n[Image result for Elite Electronic Engineering logo]\n\n[][]\n
 \nSpeaker(s): Steve Laya\, \n\nRoom: Regency\, Bldg: Embassy Suites\, 1952
 5 Victor Parkway\, Livonia\, Michigan\, United States\, 48152
LOCATION:Room: Regency\, Bldg: Embassy Suites\, 19525 Victor Parkway\, Livo
 nia\, Michigan\, United States\, 48152
ORGANIZER:scott@emcsociety.org
SEQUENCE:13
SUMMARY:Wireless Connectivity and Transmitter Regulatory Compliance
URL;VALUE=URI:https://events.vtools.ieee.org/m/175203
X-ALT-DESC:Description: &lt;br /&gt;&lt;p&gt;Southeastern Michigan IEEE EMC Chapter tec
 hnical meeting.&lt;/p&gt;\n&lt;p&gt;&lt;span style=&quot;font-size: 24pt\; color: #0000ff\;&quot;&gt;P
 izza &amp;amp\; Beverage Sponsor:&amp;nbsp\; &lt;a href=&quot;https://www.elitetest.com/&quot;&gt;
 Elite Electronic Engineering&lt;/a&gt;&lt;/span&gt;&lt;/p&gt;\n&lt;p&gt;&lt;span style=&quot;font-size: 24
 pt\; color: #0000ff\;&quot;&gt;&lt;img src=&quot;http://business.chamber630.com/external/w
 cpages/wcwebcontent/webcontentpage.aspx?contentid=888&quot; alt=&quot;Image result f
 or Elite Electronic Engineering logo&quot; /&gt;&lt;/span&gt;&lt;/p&gt;\n&lt;p&gt;&amp;nbsp\;&lt;/p&gt;\n&lt;p&gt;&amp;n
 bsp\;&lt;/p&gt;\n&lt;p&gt;&lt;img src=&quot;http://www.emcsociety.org/big_iee.jpg&quot; alt=&quot;&quot; /&gt;&lt;i
 mg src=&quot;http://www.emcsociety.org/emcsociety.jpg&quot; alt=&quot;&quot; /&gt;&lt;/p&gt;
END:VEVENT
END:VCALENDAR

