BEGIN:VCALENDAR
VERSION:2.0
PRODID:IEEE vTools.Events//EN
CALSCALE:GREGORIAN
BEGIN:VTIMEZONE
TZID:US/Eastern
BEGIN:DAYLIGHT
DTSTART:20190310T030000
TZOFFSETFROM:-0500
TZOFFSETTO:-0400
RRULE:FREQ=YEARLY;BYDAY=2SU;BYMONTH=3
TZNAME:EDT
END:DAYLIGHT
BEGIN:STANDARD
DTSTART:20181104T010000
TZOFFSETFROM:-0400
TZOFFSETTO:-0500
RRULE:FREQ=YEARLY;BYDAY=1SU;BYMONTH=11
TZNAME:EST
END:STANDARD
END:VTIMEZONE
BEGIN:VEVENT
DTSTAMP:20181130T213551Z
UID:63484786-1216-45CB-A82D-31195BE2D508
DTSTART;TZID=US/Eastern:20181129T180000
DTEND;TZID=US/Eastern:20181129T200000
DESCRIPTION:*** This event has been rescheduled. Anyone previously register
 ed needs to re-register for the new date***\n\nYuMi® - Creating an automa
 ted future together.\n\nThe new era of robotic co-workers is here. YuMi® 
 is the result of years of research and development\, making collaboration 
 between humans and robots a reality\, but it is also much more.\n\nABB has
  developed a collaborative\, dual arm\, small parts assembly robot solutio
 n that includes flexible hands\, parts feeding systems\, camera-based part
  location and state-of-the-art robot control. YuMi is a vision of the futu
 re. YuMi will change the way we think about assembly automation. YuMi is 
 “you and me”\, working together to create endless possibilities.\n\nWi
 th the creation of collaborative robots—robots that can safely work dire
 ctly with humans due to their inherent safety—we have seen a dramatic sh
 ift in robot usage. Robots now work in many smaller scale laboratories and
  workshops\, instead of being confined to large factories\, and thus are o
 ften constantly reprogrammed to fulfill new tasks. In this setting\, the m
 ethod for programming must be quick and easy-to-use. In this presentation 
 David will introduce a new programming interface for industrial robots tha
 t\, compared to traditional approaches\, is approximately 20% easier-to-us
 e\, 30% easier-to-learn\, and leaves users 35% more satisfied. We will see
 \, via live audience participation demonstrations\, just how easy it can b
 e to program an industrial robot.\n\nPlenty of free parking available at f
 ollowing locations adjacent to EB1 Building.\n[911 Partners Way\, Raleigh 
 NC 27606](https://maps.google.com/?q=911+Partners+Way\,+Raleigh+NC+27606&amp;e
 ntry=gmail&amp;source=g) (EB1 entry)\n[1070 Partners Way\, Raleigh\, NC](https
 ://maps.google.com/?q=1070+Partners+Way\,+Raleigh\,+NC&amp;entry=gmail&amp;source=
 g) 27606 (Hunts library 0.2m away)\n[890 Oval Drive\, Raleigh\, NC 27606](
 https://maps.google.com/?q=890+Oval+Drive\,+Raleigh\,+NC+27606&amp;entry=gmail
 &amp;source=g) (EB2 entry)\n\nSpeaker(s): David Shepherd\, \n\nAgenda: \n6:00 
 - 6:30 Food and networking\n6:30 - 7:30 YuMi lecture and Demo\n7:30 - 8:00
  Q&amp;A\n\nRoom: 1005\, Bldg: Engineering Building 1 (EB1)\, 911 Partners Way
 \, Raleigh\, North Carolina\, United States
LOCATION:Room: 1005\, Bldg: Engineering Building 1 (EB1)\, 911 Partners Way
 \, Raleigh\, North Carolina\, United States
ORGANIZER:rodriguesrostan@ieee.org
SEQUENCE:32
SUMMARY:IEEE ENCS LECTURE (PELS+R&amp;A) – Programming Collaborative Robots\,
  Including a Tutorial and Hands-on Demo of ABB’s YuMi Robot
URL;VALUE=URI:https://events.vtools.ieee.org/m/176086
X-ALT-DESC:Description: &lt;br /&gt;&lt;p&gt;&lt;span style=&quot;color: #ff6600\;&quot;&gt;&lt;strong&gt;***
  This event has been rescheduled. Anyone previously registered needs to re
 -register for the new date***&lt;/strong&gt;&lt;/span&gt;&lt;/p&gt;\n&lt;p&gt;&lt;strong&gt;YuMi&amp;reg\; -
  Creating an automated future together.&lt;/strong&gt;&lt;/p&gt;\n&lt;p&gt;&amp;nbsp\;&lt;/p&gt;\n&lt;p&gt;T
 he new era of robotic co-workers is here. YuMi&amp;reg\; is the result of year
 s of research and development\, making collaboration between humans and ro
 bots a reality\, but it is also much more.&lt;/p&gt;\n&lt;p&gt;&amp;nbsp\;&lt;/p&gt;\n&lt;p&gt;ABB has
  developed a collaborative\, dual arm\, small parts assembly robot solutio
 n that includes flexible hands\, parts feeding systems\, camera-based part
  location and state-of-the-art robot control. YuMi is a vision of the futu
 re. YuMi will change the way we think about assembly automation. YuMi is &amp;
 ldquo\;you and me&amp;rdquo\;\, working together to create endless possibiliti
 es.&amp;nbsp\;&amp;nbsp\;&lt;/p&gt;\n&lt;p&gt;&amp;nbsp\;&lt;/p&gt;\n&lt;p&gt;With the creation of collaborati
 ve robots&amp;mdash\;robots that can safely work directly with humans due to t
 heir inherent safety&amp;mdash\;we have seen a dramatic shift in robot usage. 
 Robots now work in many smaller scale laboratories and workshops\, instead
  of being confined to large factories\, and thus are often constantly repr
 ogrammed to fulfill new tasks. In this setting\, the method for programmin
 g &lt;em&gt;must&lt;/em&gt; be quick and easy-to-use. In this presentation David will 
 introduce a new programming interface for industrial robots that\, compare
 d to traditional approaches\, is approximately 20% easier-to-use\, 30% eas
 ier-to-learn\, and leaves users 35% more satisfied. We will see\, &lt;strong&gt;
 &lt;em&gt;via live audience participation demonstrations&lt;/em&gt;&lt;/strong&gt;\, just ho
 w easy it can be to program an industrial robot.&lt;/p&gt;\n&lt;p&gt;&amp;nbsp\;&lt;/p&gt;\n&lt;div
 &gt;&amp;nbsp\;&lt;/div&gt;\n&lt;div&gt;Plenty of free parking available at following locatio
 ns adjacent to EB1 Building.&amp;nbsp\;&lt;/div&gt;\n&lt;div&gt;&lt;a href=&quot;https://maps.goog
 le.com/?q=911+Partners+Way\,+Raleigh+NC+27606&amp;amp\;entry=gmail&amp;amp\;source
 =g&quot;&gt;911 Partners Way\, Raleigh NC 27606&lt;/a&gt;&amp;nbsp\;(EB1 entry)&lt;/div&gt;\n&lt;div&gt;
 &lt;a href=&quot;https://maps.google.com/?q=1070+Partners+Way\,+Raleigh\,+NC&amp;amp\;
 entry=gmail&amp;amp\;source=g&quot;&gt;1070 Partners Way\, Raleigh\, NC&lt;/a&gt;&amp;nbsp\;2760
 6 (Hunts library 0.2m away)&lt;/div&gt;\n&lt;div&gt;&lt;a href=&quot;https://maps.google.com/?
 q=890+Oval+Drive\,+Raleigh\,+NC+27606&amp;amp\;entry=gmail&amp;amp\;source=g&quot;&gt;890 
 Oval Drive\, Raleigh\, NC 27606&lt;/a&gt;&amp;nbsp\; &amp;nbsp\;(EB2 entry)&lt;/div&gt;&lt;br /&gt;&lt;
 br /&gt;Agenda: &lt;br /&gt;&lt;div&gt;6:00 - 6:30&amp;nbsp\; Food and networking&lt;/div&gt;\n&lt;div
 &gt;6:30 - 7:30&amp;nbsp\; YuMi lecture and Demo&lt;/div&gt;\n&lt;div&gt;7:30 - 8:00&amp;nbsp\; Q
 &amp;amp\;A&lt;/div&gt;\n&lt;div&gt;&amp;nbsp\;&lt;/div&gt;
END:VEVENT
END:VCALENDAR

