BEGIN:VCALENDAR
VERSION:2.0
PRODID:IEEE vTools.Events//EN
CALSCALE:GREGORIAN
BEGIN:VTIMEZONE
TZID:America/New_York
BEGIN:DAYLIGHT
DTSTART:20180311T030000
TZOFFSETFROM:-0500
TZOFFSETTO:-0400
RRULE:FREQ=YEARLY;BYDAY=2SU;BYMONTH=3
TZNAME:EDT
END:DAYLIGHT
BEGIN:STANDARD
DTSTART:20181104T010000
TZOFFSETFROM:-0400
TZOFFSETTO:-0500
RRULE:FREQ=YEARLY;BYDAY=1SU;BYMONTH=11
TZNAME:EST
END:STANDARD
END:VTIMEZONE
BEGIN:VEVENT
DTSTAMP:20190206T003610Z
UID:422E799E-E2A1-4FE6-A53A-F5D963DB8117
DTSTART;TZID=America/New_York:20180911T120000
DTEND;TZID=America/New_York:20180911T130000
DESCRIPTION:http://tandoorofindia.com/\n\nThe meeting will be at Tandoor of
  India\n\nThe monthly Rochester IEEE Executive Committee meeting brings to
 gether all of the leaders of the Section\, Chapters\, and Groups.\n\nWe re
 view plans for upcoming Rochester meetings within our Section\, Chapters\,
  and groups at this meeting. If you are looking to become more engaged in 
 IEEE in the Rochester Section\, please plan on attending an Excom meeting!
  These meetings are open to the general public and serve as a great platfo
 rm for networking with fellow engineers over lunch.\n\nWe even pick up par
 t of the tab for lunch!!!! A full buffet lunch for just $5 for all attende
 es (members and students)!!\n\nWe typically have about 30-35 people attend
  this meeting! These meetings typically occur on the first Tuesday of ever
 y month. However\, because of Labor Day\, this one has been delayed one we
 ek!\n\nAgenda: \n[Ram][Cristian][Bill][Eric]\n\nRam Dhurjaty (Chair)\, Cri
 stian Linte (Vice Chair)\, Bill Fowlkes (Treasurer)\, and Eric Brown (Secr
 etary).\n\nA. Section Officer Reports\n\n- Section Chair Report: [Ram Dhur
 jaty](mailto:sreeram.dhurjaty@gmail.com)\n- Section Vice-Chair Report: [Cr
 istian Linte](mailto:calbme@rit.edu)\n- Section Treasurer Report: [Bill Fo
 wlkes](mailto:wmyfowlkes@ieee.org)\n- Section Secretary Report: [Eric Brow
 n](mailto:eric.t.brown@gmail.com)\n\nB. Chapter Society and Group Reports\
 n\n- Aerospace and Electronic Systems Society and Communications Society (
 AES10/COMM19): [Cristiano Tapparello](mailto:cristiano.tapparello@rocheste
 r.edu)\n- Computer Society and Computational Intelligence Society (C16/CIS
 11): [Bo Yuan](mailto:Bo.yuan@rit.edu)Electron Devices and Circuits and Sy
 stems: [Sean Rommel](mailto:slremc@rit.edu)\n- Engineering in Medicine and
  Biology Society (EMB18): [Cristian Linte](mailto:christian.linte@ieee.org
 )\n- Rochester/Binghamton/Buffalo/Ithaca/Syracuse Geoscience and Remote Se
 nsing Society (GRS29): [Emmett Ientilucci](mailto:emmett@cis.rit.edu)\n- L
 ife Members Group: [Mark Schrader](mailto:m.schrader@ieee.org)\n- Microwav
 e Theory and Techniques Society / Antennas and Propagation Society (MTT17/
 AP03): [Joseph Majkowski](mailto:jmajkowski10@gmail.com)\n- Photonics Soci
 ety (PHO36): [Bruce Smith and](mailto:bwsemc@rit.edu)[Parsian K. Mohseni](
 mailto:pkmohseni@rit.edu)\n- Power Engineering Society / Industry Applicat
 ions Society (PE31/IA34): [Jean Kendrick](mailto:jeankendrick@ieee.org)\n-
  Signal Processing Society (SP01): [Ray Ptucha](mailto:rwpeec@rit.edu)\n- 
 Technology Managment Council (TM14): [Paul Lee](mailto:ppklee@ieee.org)\n-
  Young Professionals:[Eric Brown](mailto:eric.t.brown@gmail.com)\n\nC. Stu
 dent Chapter Reports\n\n- Rochester Institute Of Technology: [Gill Tsouri]
 (mailto:grteee@rit.edu)\n- University of Rochester: [Tom Howard](mailto:th
 oward@ece.rochester.edu)\n\nD. Committee Reports\n\n- Membership Report: [
 Howard Bussey](mailto:howard@tixlers.com)\n- Awards Report: [Jean Kendrick
 ](mailto:jeankendrick@ieee.org)\n- Electronic Communications Coordinator: 
 [Greg Gdowski](mailto:greg.gdowski@gmail.com)\n- Newsletter Report: [Howar
 d Bussey](mailto:howard@tixlers.com)\n- PACE Report: [Alex Loui](mailto:a.
 loui@ieee.org) and [Bruce Rubin](mailto:bruceieeerubin@yahoo.com)\n\nE. Li
 aison Reports\n\n- R1 Western Area Chair: [Greg Gdowski](mailto:greg.gdows
 ki@gmail.com)\n- Rochester Engineering Society (RES) Report: [Greg Gdowski
 ](mailto:greg.gdowski@gmail.com)\n- Rochester Council of Scientific Societ
 ies (RCSS) Report: [William A. Brewer](mailto:wabrewer@ieee.org)\n\nF. Old
  Business\n\nG. New Business\n\nH. Open Discussion\n\nI. Adjournment\n\nBl
 dg: Tandoor of India\, 376 Jefferson Rd\, Henrietta\, New York\, United St
 ates\, 14623
LOCATION:Bldg: Tandoor of India\, 376 Jefferson Rd\, Henrietta\, New York\,
  United States\, 14623
ORGANIZER:eric.t.brown@gmail.com
SEQUENCE:17
SUMMARY:Rochester Section EXCOM meeting
URL;VALUE=URI:https://events.vtools.ieee.org/m/176180
X-ALT-DESC:Description: &lt;br /&gt;&lt;p&gt;&lt;a href=&quot;http://tandoorofindia.com/&quot; targe
 t=&quot;_blank&quot; rel=&quot;noopener&quot;&gt;&lt;img style=&quot;float: right\;&quot; src=&quot;http://tandooro
 findia.com/wp-content/uploads/2017/07/indian-tandoor.png&quot; width=&quot;96&quot; heigh
 t=&quot;76&quot; /&gt;&lt;/a&gt;&lt;/p&gt;\n&lt;p&gt;&lt;span style=&quot;color: #ff0000\; font-size: 14pt\;&quot;&gt;&lt;st
 rong&gt;&lt;span style=&quot;color: #339966\;&quot;&gt;&amp;nbsp\;The meeting will be at Tandoor 
 of India&lt;/span&gt;&lt;/strong&gt;&lt;/span&gt;&lt;/p&gt;\n&lt;p&gt;&lt;span style=&quot;font-size: 10pt\;&quot;&gt;&lt;e
 m&gt;&lt;strong&gt;The monthly Rochester IEEE Executive Committee meeting brings to
 gether all of the leaders of the Section\, Chapters\, and Groups. &lt;/strong
 &gt;&lt;/em&gt;&lt;/span&gt;&amp;nbsp\;&lt;/p&gt;\n&lt;p&gt;We review plans for upcoming Rochester meetin
 gs within our&amp;nbsp\;Section\, Chapters\, and groups at this meeting. &amp;nbsp
 \;If you are looking to become more engaged in IEEE in the Rochester Secti
 on\, please plan on attending an Excom meeting! &amp;nbsp\;These meetings are 
 open to the general public and serve as a great platform for networking wi
 th fellow engineers over lunch.&lt;/p&gt;\n&lt;p&gt;We even pick up part of the tab fo
 r lunch!!!! &amp;nbsp\; A full buffet lunch for just $5 for all attendees (mem
 bers and students)!!&amp;nbsp\; &amp;nbsp\;&lt;/p&gt;\n&lt;p&gt;We typically have about 30-35 
 people attend this meeting! &amp;nbsp\;These meetings typically occur on the f
 irst Tuesday of every month.&amp;nbsp\; However\, because of Labor Day\, this 
 one has been delayed one week!&lt;/p&gt;&lt;br /&gt;&lt;br /&gt;Agenda: &lt;br /&gt;&lt;p&gt;&lt;img src=&quot;h
 ttp://sites.ieee.org/rochester/files/2017/12/Dhurjaty_web.jpg&quot; alt=&quot;Ram&quot; w
 idth=&quot;130&quot; /&gt;&lt;img src=&quot;http://sites.ieee.org/rochester/files/2017/12/Linte
 _web.jpg&quot; alt=&quot;Cristian&quot; width=&quot;130&quot; /&gt;&lt;img src=&quot;http://sites.ieee.org/roc
 hester/files/2015/06/billfowlkes_web-e1534785324435.jpg&quot; alt=&quot;Bill&quot; width=
 &quot;130&quot; /&gt;&lt;img src=&quot;http://sites.ieee.org/rochester/files/2017/12/ETBrown_we
 b.jpg&quot; alt=&quot;Eric&quot; width=&quot;130&quot; /&gt;&lt;/p&gt;\n&lt;p&gt;Ram Dhurjaty (Chair)\, Cristian L
 inte (Vice Chair)\, Bill Fowlkes (Treasurer)\, and Eric Brown (Secretary).
 &lt;/p&gt;\n&lt;p&gt;A. Section Officer Reports&lt;/p&gt;\n&lt;ul&gt;\n&lt;li&gt;Section Chair Report:&amp;n
 bsp\;&lt;a href=&quot;mailto:sreeram.dhurjaty@gmail.com&quot;&gt;Ram Dhurjaty&lt;/a&gt;&lt;/li&gt;\n&lt;l
 i&gt;Section Vice-Chair Report: &amp;nbsp\;&lt;a href=&quot;mailto:calbme@rit.edu&quot;&gt;Cristi
 an Linte&lt;/a&gt;&lt;/li&gt;\n&lt;li&gt;Section Treasurer Report:&amp;nbsp\;&lt;a href=&quot;mailto:wmy
 fowlkes@ieee.org&quot;&gt;Bill Fowlkes&lt;/a&gt;&lt;/li&gt;\n&lt;li&gt;Section Secretary Report:&amp;nbs
 p\;&lt;a href=&quot;mailto:eric.t.brown@gmail.com&quot;&gt;Eric Brown&lt;/a&gt;&lt;/li&gt;\n&lt;/ul&gt;\n&lt;p&gt;
 B. Chapter Society and Group Reports&lt;/p&gt;\n&lt;ul&gt;\n&lt;li&gt;Aerospace and Electron
 ic Systems Society and Communications Society (AES10/COMM19):&amp;nbsp\;&lt;a hre
 f=&quot;mailto:cristiano.tapparello@rochester.edu&quot;&gt;Cristiano Tapparello&lt;/a&gt;&lt;/li
 &gt;\n&lt;li&gt;Computer Society and Computational Intelligence Society (C16/CIS11)
 :&amp;nbsp\;&lt;a href=&quot;mailto:Bo.yuan@rit.edu&quot;&gt;Bo Yuan&lt;/a&gt;Electron Devices and C
 ircuits and Systems:&amp;nbsp\;&lt;a href=&quot;mailto:slremc@rit.edu&quot;&gt;Sean Rommel&lt;/a&gt;
 &lt;/li&gt;\n&lt;li&gt;Engineering in Medicine and Biology Society (EMB18):&amp;nbsp\;&lt;a h
 ref=&quot;mailto:christian.linte@ieee.org&quot;&gt;Cristian Linte&lt;/a&gt;&lt;/li&gt;\n&lt;li&gt;Rochest
 er/Binghamton/Buffalo/Ithaca/Syracuse Geoscience and Remote Sensing Societ
 y (GRS29):&amp;nbsp\;&lt;a href=&quot;mailto:emmett@cis.rit.edu&quot;&gt;Emmett Ientilucci&lt;/a&gt;
 &amp;nbsp\;&amp;nbsp\;&amp;nbsp\;&amp;nbsp\;&amp;nbsp\;&amp;nbsp\;&amp;nbsp\;&amp;nbsp\;&amp;nbsp\;&amp;nbsp\;&amp;nbs
 p\;&amp;nbsp\;&amp;nbsp\;&amp;nbsp\;&amp;nbsp\;&amp;nbsp\;&amp;nbsp\;&lt;/li&gt;\n&lt;li&gt;Life Members Group
 :&amp;nbsp\;&lt;a href=&quot;mailto:m.schrader@ieee.org&quot;&gt;Mark Schrader&lt;/a&gt;&lt;/li&gt;\n&lt;li&gt;M
 icrowave Theory and Techniques Society / Antennas and Propagation Society 
 (MTT17/AP03):&amp;nbsp\;&lt;a href=&quot;mailto:jmajkowski10@gmail.com&quot;&gt;Joseph Majkows
 ki&lt;/a&gt;&lt;/li&gt;\n&lt;li&gt;Photonics Society (PHO36):&amp;nbsp\;&lt;a href=&quot;mailto:bwsemc@r
 it.edu&quot;&gt;Bruce Smith and&amp;nbsp\;&lt;/a&gt;&lt;a href=&quot;mailto:pkmohseni@rit.edu&quot; targe
 t=&quot;_blank&quot; rel=&quot;noopener&quot;&gt;Parsian K. Mohseni&lt;/a&gt;&lt;/li&gt;\n&lt;li&gt;Power Engineeri
 ng Society / Industry Applications Society (PE31/IA34):&amp;nbsp\;&lt;a href=&quot;mai
 lto:jeankendrick@ieee.org&quot;&gt;Jean Kendrick&lt;/a&gt;&lt;/li&gt;\n&lt;li&gt;Signal Processing S
 ociety (SP01):&amp;nbsp\;&lt;a href=&quot;mailto:rwpeec@rit.edu&quot;&gt;Ray Ptucha&lt;/a&gt;&lt;/li&gt;\n
 &lt;li&gt;Technology Managment Council (TM14):&amp;nbsp\;&lt;a href=&quot;mailto:ppklee@ieee
 .org&quot;&gt;Paul Lee&lt;/a&gt;&lt;/li&gt;\n&lt;li&gt;Young Professionals:&lt;a href=&quot;mailto:eric.t.br
 own@gmail.com&quot;&gt;Eric Brown&lt;/a&gt;&lt;/li&gt;\n&lt;/ul&gt;\n&lt;p&gt;C. Student Chapter Reports&lt;/
 p&gt;\n&lt;ul&gt;\n&lt;li&gt;Rochester Institute Of Technology:&amp;nbsp\;&lt;a href=&quot;mailto:grt
 eee@rit.edu&quot;&gt;Gill Tsouri&lt;/a&gt;&lt;/li&gt;\n&lt;li&gt;University of Rochester:&amp;nbsp\;&lt;a h
 ref=&quot;mailto:thoward@ece.rochester.edu&quot;&gt;Tom Howard&lt;/a&gt;&lt;/li&gt;\n&lt;/ul&gt;\n&lt;p&gt;D. C
 ommittee Reports&amp;nbsp\;&lt;/p&gt;\n&lt;ul&gt;\n&lt;li&gt;Membership Report:&amp;nbsp\;&lt;a href=&quot;m
 ailto:howard@tixlers.com&quot;&gt;Howard Bussey&lt;/a&gt;&lt;/li&gt;\n&lt;li&gt;Awards Report:&amp;nbsp\
 ;&lt;a href=&quot;mailto:jeankendrick@ieee.org&quot;&gt;Jean Kendrick&lt;/a&gt;&lt;/li&gt;\n&lt;li&gt;Electr
 onic Communications Coordinator:&amp;nbsp\;&lt;a href=&quot;mailto:greg.gdowski@gmail.
 com&quot;&gt;Greg Gdowski&lt;/a&gt;&lt;/li&gt;\n&lt;li&gt;Newsletter Report:&amp;nbsp\;&lt;a href=&quot;mailto:h
 oward@tixlers.com&quot;&gt;Howard Bussey&lt;/a&gt;&lt;/li&gt;\n&lt;li&gt;PACE Report:&amp;nbsp\;&lt;a href=
 &quot;mailto:a.loui@ieee.org&quot;&gt;Alex Loui&lt;/a&gt;&amp;nbsp\;and &lt;a href=&quot;mailto:bruceieee
 rubin@yahoo.com&quot; target=&quot;_blank&quot; rel=&quot;noopener&quot;&gt;Bruce Rubin&lt;/a&gt;&lt;/li&gt;\n&lt;/ul
 &gt;\n&lt;p&gt;E. Liaison Reports&lt;/p&gt;\n&lt;ul&gt;\n&lt;li&gt;R1 Western Area Chair: &lt;a href=&quot;ma
 ilto:greg.gdowski@gmail.com&quot;&gt;Greg Gdowski&lt;/a&gt;&lt;/li&gt;\n&lt;li&gt;Rochester Engineer
 ing Society (RES) Report:&amp;nbsp\;&lt;a href=&quot;mailto:greg.gdowski@gmail.com&quot;&gt;Gr
 eg Gdowski&lt;/a&gt;&lt;/li&gt;\n&lt;li&gt;Rochester Council of Scientific Societies (RCSS) 
 Report:&amp;nbsp\;&lt;a href=&quot;mailto:wabrewer@ieee.org&quot;&gt;William A. Brewer&lt;/a&gt;&lt;/li
 &gt;\n&lt;/ul&gt;\n&lt;p&gt;F. Old Business&lt;/p&gt;\n&lt;p&gt;G. New Business&lt;/p&gt;\n&lt;p&gt;H. Open Discu
 ssion&lt;/p&gt;\n&lt;p&gt;I.&amp;nbsp\;Adjournment&lt;/p&gt;
END:VEVENT
END:VCALENDAR

