BEGIN:VCALENDAR
VERSION:2.0
PRODID:IEEE vTools.Events//EN
CALSCALE:GREGORIAN
BEGIN:VTIMEZONE
TZID:Asia/Calcutta
BEGIN:STANDARD
DTSTART:19451014T230000
TZOFFSETFROM:+0630
TZOFFSETTO:+0530
TZNAME:IST
END:STANDARD
END:VTIMEZONE
BEGIN:VEVENT
DTSTAMP:20180903T085414Z
UID:5EB8A2D9-1A43-4FA1-8FB2-A60304724A9B
DTSTART;TZID=Asia/Calcutta:20170105T100000
DTEND;TZID=Asia/Calcutta:20170107T170000
DESCRIPTION:Why Arduino?\n\nThanks to its simple and accessible user experi
 ence\, Arduino has been used in thousands of different projects and applic
 ations. The Arduino software is easy-to-use for beginners\, yet flexible e
 nough for advanced users. It runs on Mac\, Windows\, and Linux. Teachers a
 nd students use it to build low cost scientific instruments\, to prove che
 mistry and physics principles\, or to get started with programming and rob
 otics. Designers and architects build interactive prototypes\, musicians a
 nd artists use it for installations and to experiment with new musical ins
 truments. Makers\, of course\, use it to build many of the projects exhibi
 ted at the Maker Faire\, for example. Arduino is a key tool to learn new t
 hings. Anyone - children\, hobbyists\, artists\, programmers - can start t
 inkering just following the step by step instructions of a kit\, or sharin
 g ideas online with other members of the Arduino community.\n\nThere are m
 any other microcontrollers and microcontroller platforms available for phy
 sical computing. Parallax Basic Stamp\, Netmedia&#39;s BX-24\, Phidgets\, MIT&#39;
 s Handyboard\, and many others offer similar functionality. All of these t
 ools take the messy details of microcontroller programming and wrap it up 
 in an easy-to-use package. Arduino also simplifies the process of working 
 with microcontrollers\, but it offers some advantage for teachers\, studen
 ts\, and interested amateurs over other systems:\n\n- Inexpensive - Arduin
 o boards are relatively inexpensive compared to other microcontroller plat
 forms. The least expensive version of the Arduino module can be assembled 
 by hand\, and even the pre-assembled Arduino modules cost less than $50\n-
  Cross-platform - The Arduino Software (IDE) runs on Windows\, Macintosh O
 SX\, and Linux operating systems. Most microcontroller systems are limited
  to Windows.\n- Simple\, clear programming environment - The Arduino Softw
 are (IDE) is easy-to-use for beginners\, yet flexible enough for advanced 
 users to take advantage of as well. For teachers\, it&#39;s conveniently based
  on the Processing programming environment\, so students learning to progr
 am in that environment will be familiar with how the Arduino IDE works.\n-
  Open source and extensible software - The Arduino software is published a
 s open source tools\, available for extension by experienced programmers. 
 The language can be expanded through C++ libraries\, and people wanting to
  understand the technical details can make the leap from Arduino to the AV
 R C programming language on which it&#39;s based. Similarly\, you can add AVR-
 C code directly into your Arduino programs if you want to.\n- Open source 
 and extensible hardware - The plans of the Arduino boards are published un
 der a Creative Commons license\, so experienced circuit designers can make
  their own version of the module\, extending it and improving it. Even rel
 atively inexperienced users can build the [breadboard version of the modul
 e](https://www.arduino.cc/en/Main/Standalone) in order to understand how i
 t works and save money.\n\nIEEE Member: 500\nNon IEEE Student Member: 750\
 nOthers: 1000\n\nCo-sponsored by: STB18301 - PSCMR College of Engineering 
 and Technology\n\nSpeaker(s): Dr.M.R.Rao\, Mr.S.Pradeep Kumar\n\nAgenda: \
 nIEEE Member: 500\nNon IEEE Student Member: 750\nOthers: 1000\n\nBldg: Dep
 artment of ECE\, PSCMR College of Engineering and Technology\, 7-3-6/1\, R
 aghavareddy Street\, Vijayawada\, Andhra Pradesh\, India\, 520001
LOCATION:Bldg: Department of ECE\, PSCMR College of Engineering and Technol
 ogy\, 7-3-6/1\, Raghavareddy Street\, Vijayawada\, Andhra Pradesh\, India\
 , 520001
ORGANIZER:profmrrao@gmail.com
SEQUENCE:0
SUMMARY:An IEEE National levevl Workshop on Arduino and Its Applications
URL;VALUE=URI:https://events.vtools.ieee.org/m/176682
X-ALT-DESC:Description: &lt;br /&gt;&lt;h3&gt;Why Arduino?&lt;/h3&gt;\n&lt;p&gt;Thanks to its simpl
 e and accessible user experience\, Arduino has been used in thousands of d
 ifferent projects and applications. The Arduino software is easy-to-use fo
 r beginners\, yet flexible enough for advanced users. It runs on Mac\, Win
 dows\, and Linux. Teachers and students use it to build low cost scientifi
 c instruments\, to prove chemistry and physics principles\, or to get star
 ted with programming and robotics. Designers and architects build interact
 ive prototypes\, musicians and artists use it for installations and to exp
 eriment with new musical instruments. Makers\, of course\, use it to build
  many of the projects exhibited at the Maker Faire\, for example. Arduino 
 is a key tool to learn new things. Anyone - children\, hobbyists\, artists
 \, programmers - can start tinkering just following the step by step instr
 uctions of a kit\, or sharing ideas online with other members of the Ardui
 no community.&lt;/p&gt;\n&lt;p&gt;There are many other microcontrollers and microcontr
 oller platforms available for physical computing. Parallax Basic Stamp\, N
 etmedia&#39;s BX-24\, Phidgets\, MIT&#39;s Handyboard\, and many others offer simi
 lar functionality. All of these tools take the messy details of microcontr
 oller programming and wrap it up in an easy-to-use package. Arduino also s
 implifies the process of working with microcontrollers\, but it offers som
 e advantage for teachers\, students\, and interested amateurs over other s
 ystems:&lt;/p&gt;\n&lt;ul&gt;\n&lt;li&gt;&lt;strong&gt;Inexpensive&lt;/strong&gt; - Arduino boards are r
 elatively inexpensive compared to other microcontroller platforms. The lea
 st expensive version of the Arduino module can be assembled by hand\, and 
 even the pre-assembled Arduino modules cost less than $50&lt;/li&gt;\n&lt;li&gt;&lt;stron
 g&gt;Cross-platform&lt;/strong&gt; - The Arduino Software (IDE) runs on Windows\, M
 acintosh OSX\, and Linux operating systems. Most microcontroller systems a
 re limited to Windows.&lt;/li&gt;\n&lt;li&gt;&lt;strong&gt;Simple\, clear programming enviro
 nment&lt;/strong&gt; - The Arduino Software (IDE) is easy-to-use for beginners\,
  yet flexible enough for advanced users to take advantage of as well. For 
 teachers\, it&#39;s conveniently based on the Processing programming environme
 nt\, so students learning to program in that environment will be familiar 
 with how the Arduino IDE works.&lt;/li&gt;\n&lt;li&gt;&lt;strong&gt;Open source and extensib
 le software&lt;/strong&gt; - The Arduino software is published as open source to
 ols\, available for extension by experienced programmers. The language can
  be expanded through C++ libraries\, and people wanting to understand the 
 technical details can make the leap from Arduino to the AVR C programming 
 language on which it&#39;s based. Similarly\, you can add AVR-C code directly 
 into your Arduino programs if you want to.&lt;/li&gt;\n&lt;li&gt;&lt;strong&gt;Open source a
 nd extensible hardware&lt;/strong&gt; - The plans of the Arduino boards are publ
 ished under a Creative Commons license\, so experienced circuit designers 
 can make their own version of the module\, extending it and improving it. 
 Even relatively inexperienced users can build the &lt;a class=&quot;wikilink&quot; href
 =&quot;https://www.arduino.cc/en/Main/Standalone&quot;&gt;breadboard version of the mod
 ule&lt;/a&gt; in order to understand how it works and save money.&lt;/li&gt;\n&lt;/ul&gt;\n&lt;
 p&gt;IEEE Member: 500&lt;br /&gt;Non IEEE Student Member: 750&lt;br /&gt;Others: 1000&lt;/p&gt;
 &lt;br /&gt;&lt;br /&gt;Agenda: &lt;br /&gt;&lt;p&gt;IEEE Member: 500&lt;br /&gt;Non IEEE Student Member
 : 750&lt;br /&gt;Others: 1000&lt;/p&gt;
END:VEVENT
END:VCALENDAR

