BEGIN:VCALENDAR
VERSION:2.0
PRODID:IEEE vTools.Events//EN
CALSCALE:GREGORIAN
BEGIN:VTIMEZONE
TZID:America/New_York
BEGIN:DAYLIGHT
DTSTART:20180311T030000
TZOFFSETFROM:-0500
TZOFFSETTO:-0400
RRULE:FREQ=YEARLY;BYDAY=2SU;BYMONTH=3
TZNAME:EDT
END:DAYLIGHT
BEGIN:STANDARD
DTSTART:20181104T010000
TZOFFSETFROM:-0400
TZOFFSETTO:-0500
RRULE:FREQ=YEARLY;BYDAY=1SU;BYMONTH=11
TZNAME:EST
END:STANDARD
END:VTIMEZONE
BEGIN:VEVENT
DTSTAMP:20181008T222158Z
UID:DFFEFF98-0366-47A2-8043-001D3ED103DA
DTSTART;TZID=America/New_York:20181004T181500
DTEND;TZID=America/New_York:20181004T200000
DESCRIPTION:6:15 - Pizza and Networking\n\n6:30 - Presentation\n\nSimulatio
 ns are a crucial tool for systems engineers\, and I have coded\, developed
 \, analyzed\, tested\, debugged and debunked many such simulations. Howeve
 r\, they cannot be trusted. All too often system engineers come a cropper 
 due to believing the results of simulations without making sure that the r
 esults are correct and relevant. Significant errors can occur for many rea
 sons: bugs\, bugs\, bugs\, incorrect parameters\, incorrect physical model
 s\, incorrect application of perfectly fine code\, incorrect interpretatio
 n of accurate results\, etc. I was deeply shaped by a system\nengineering 
 culture that valued simple back-of-the-envelope calculations to provide in
 sight into what was going on. Moreover\, I am appalled when I see system e
 ngineers blindly believe the\nresults of simulations. My talk will give fi
 ve or ten examples of system engineering blunders caused by faulty simulat
 ions or erroneous physical experiments\, as well as two surprising twists.
 \n\nBio\n\n——\n\nFred Daum is an IEEE Fellow\, a senior principal Fell
 ow at Raytheon\, and a graduate of Harvard University. Fred was awarded th
 e Tom Phillips prize for technical excellence\, in recognition of his abil
 ity to make complex radar systems work in the real world.\n\nHe developed\
 , analyzed and tested the real time algorithms for essentially all the lar
 ge long range phased array radars built by the USA in the last four decade
 s\, including: Cobra Dane\, PAVE PAWS\, Cobra Judy\, BMEWS\, THAAD\, ROTHR
 \, UEWR\, and SBX\, as well as several shipboard firecontrol systems and a
 ir traffic control systems. These real time algorithms include: extended K
 alman filters\, radar waveform scheduling\, Bayesian discrimination\, data
  association\, discrimination of satellites from missiles\, calibration of
  tropospheric and ionospheric refraction\, and target object mapping. Fred
 &#39;s exact fixed finite dimensional nonlinear filter theory generalizes the 
 Kalman and Beneš filters.\n\nHe has published nearly one hundred technica
 l papers\, and he has given invited lectures at MIT\, Harvard\, Yale\, Cal
 tech\, Brown\, Georgia Tech.\, Univ. of Connecticut\, Univ. of Minnesota\,
  Melbourne Univ.\, Univ. of New South Wales\, Univ. of Canterbury\, Univ. 
 of Illinois at Chicago\, Washington Univ. at St Louis\, McMaster Univ. and
  Northeastern University.\n\nCo-sponsored by: Bob Beck\n\nRoom: 102\, Bldg
 : Skurla Hall\, Florida Institute of Technology\, 150 West University Blvd
 \, Melbourne\, Florida\, United States\, 32901
LOCATION:Room: 102\, Bldg: Skurla Hall\, Florida Institute of Technology\, 
 150 West University Blvd\, Melbourne\, Florida\, United States\, 32901
ORGANIZER:bob.beck@ieee.org
SEQUENCE:5
SUMMARY:IEEE Melbourne Aerospace - Verifying a Simulation with Back of the 
 Envelope Calculation 
URL;VALUE=URI:https://events.vtools.ieee.org/m/176721
X-ALT-DESC:Description: &lt;br /&gt;&lt;p&gt;6:15 - Pizza and Networking&lt;/p&gt;\n&lt;p&gt;6:30 -
  Presentation&lt;/p&gt;\n&lt;p&gt;&amp;nbsp\;&lt;/p&gt;\n&lt;p&gt;Simulations are a crucial tool for s
 ystems engineers\, and I have coded\, developed\, analyzed\, tested\, debu
 gged and debunked many such simulations. However\, they cannot be trusted.
  All too often system engineers come a cropper due to believing the result
 s of simulations without making sure that the results are correct and rele
 vant. Significant errors can occur for many reasons: bugs\, bugs\, bugs\, 
 incorrect parameters\, incorrect physical models\, incorrect application o
 f perfectly fine code\, incorrect interpretation of accurate results\, etc
 . I was deeply shaped by a system&lt;br /&gt;engineering culture that valued sim
 ple back-of-the-envelope calculations to provide insight into what was goi
 ng on. Moreover\, I am appalled when I see system engineers blindly believ
 e the&lt;br /&gt;results of simulations. My talk will give five or ten examples 
 of system engineering blunders caused by faulty simulations or erroneous p
 hysical experiments\, as well as two surprising twists.&lt;/p&gt;\n&lt;p&gt;&amp;nbsp\;&lt;/p
 &gt;\n&lt;p&gt;Bio&lt;/p&gt;\n&lt;p&gt;&amp;mdash\;&amp;mdash\;&lt;/p&gt;\n&lt;p&gt;Fred Daum is an IEEE Fellow\, a
  senior principal Fellow at Raytheon\, and a graduate of Harvard Universit
 y.&amp;nbsp\; Fred was awarded the Tom Phillips prize for technical excellence
 \, in recognition of his ability to make complex radar systems work in the
  real world.&lt;/p&gt;\n&lt;p&gt;He developed\, analyzed and tested the real time algo
 rithms for essentially all the large long range phased array radars built 
 by the USA in the last four decades\, including: Cobra Dane\, PAVE PAWS\, 
 Cobra Judy\, BMEWS\, THAAD\, ROTHR\, UEWR\, and SBX\, as well as several s
 hipboard firecontrol systems and air traffic control systems.&amp;nbsp\; These
  real time algorithms include: extended Kalman filters\, radar waveform sc
 heduling\, Bayesian discrimination\, data association\, discrimination of 
 satellites from missiles\, calibration of tropospheric and ionospheric ref
 raction\, and target object mapping. Fred&#39;s exact fixed finite dimensional
  nonlinear filter theory generalizes the Kalman and Bene&amp;scaron\; filters.
 &lt;/p&gt;\n&lt;p&gt;He has published nearly one hundred technical papers\, and he has
  given invited lectures at MIT\, Harvard\, Yale\, Caltech\, Brown\, Georgi
 a Tech.\, Univ. of Connecticut\, Univ. of Minnesota\, Melbourne Univ.\, Un
 iv. of New South Wales\, Univ. of Canterbury\, Univ. of Illinois at Chicag
 o\, Washington Univ. at St Louis\, McMaster Univ. and Northeastern Univers
 ity.&lt;/p&gt;
END:VEVENT
END:VCALENDAR

