BEGIN:VCALENDAR
VERSION:2.0
PRODID:IEEE vTools.Events//EN
CALSCALE:GREGORIAN
BEGIN:VTIMEZONE
TZID:US/Eastern
BEGIN:DAYLIGHT
DTSTART:20180311T030000
TZOFFSETFROM:-0500
TZOFFSETTO:-0400
RRULE:FREQ=YEARLY;BYDAY=2SU;BYMONTH=3
TZNAME:EDT
END:DAYLIGHT
BEGIN:STANDARD
DTSTART:20181104T010000
TZOFFSETFROM:-0400
TZOFFSETTO:-0500
RRULE:FREQ=YEARLY;BYDAY=1SU;BYMONTH=11
TZNAME:EST
END:STANDARD
END:VTIMEZONE
BEGIN:VEVENT
DTSTAMP:20181025T025008Z
UID:AA222D27-CB35-4C4B-85B8-EC286886A3E2
DTSTART;TZID=US/Eastern:20181011T113000
DTEND;TZID=US/Eastern:20181011T130000
DESCRIPTION:IEEE Atlanta Communications Society Chapter presents:\n\nDr. Jo
 hn Shields of GTRI who will be giving a brief talk on Chaotic Detectors. P
 lease register at https://events.vtools.ieee.org/m/177203.\n\nBrief Summar
 y of the talk:\n\nThe detection of very weak signals in the presence of ba
 ckground noise is a challenge of significant\ninterest for many radar\, so
 nar\, and communications applications. Standard tools such as the Matched\
 nFilter perform poorly when the signal-to-noise ratio (SNR) is less than a
 bout -10 or -20 dB. Therefore\,\nthe detection of these low SNR signals re
 quires the development of more sophisticated signal processing\ntechniques
 .\n\nThe chaotic detector is a non-linear detector that is designed to cou
 ple to a weak signal of a given\nfrequency\, while (in principle) remainin
 g immune to the background noise. In particular\, the non-linear\nDuffing 
 Equation\, which describes the motion of a damped\, driven harmonic oscill
 ator\, has proven to be\nexceptionally well-suited to the detection of wea
 k sinusoidal signals with SNR less than -30 dB.\n\nThis presentation will 
 discuss the design\, performance\, and limitations of multiple implementat
 ions\nof Duffing detectors.\n\nPlease email syed.tamseel@ieee.org with fur
 ther questions and see below for the event day instructions:\n\nOn the day
  of the event:\n\n1. Lunch is served.\n\n2. Parking is available in the pa
 rking deck next to the GTRI conference center building. Simply pull up in 
 front of the gate and it should lift up. Please park in the visitor spaces
  available on the 2nd floor of the parking deck. For further assistance wi
 th parking\, please email Reggie Ratcliff at Reggie.Ratcliff@gtri.gatech.e
 du.\n\nSpeaker(s): Dr. John Shields\, \n\n250 14th St NW\, Atlanta\, Georg
 ia\, United States\, 30318
LOCATION:250 14th St NW\, Atlanta\, Georgia\, United States\, 30318
ORGANIZER:syed.tamseel@ieee.org
SEQUENCE:3
SUMMARY:Chaotic Detector to Identify Weak Signals in the Presence of Gaussi
 an Noise
URL;VALUE=URI:https://events.vtools.ieee.org/m/177203
X-ALT-DESC:Description: &lt;br /&gt;&lt;p&gt;IEEE Atlanta&amp;nbsp\;Communications Society 
 Chapter presents:&lt;/p&gt;\n&lt;p&gt;Dr. John Shields of GTRI who will be&amp;nbsp\;givin
 g a brief talk on Chaotic Detectors. Please register at https://events.vto
 ols.ieee.org/m/177203.&lt;/p&gt;\n&lt;p&gt;&amp;nbsp\;&lt;/p&gt;\n&lt;p&gt;Brief Summary of the talk:&lt;
 /p&gt;\n&lt;p&gt;The detection of very weak signals in the presence of background n
 oise is a challenge of significant&lt;br /&gt;interest for many radar\, sonar\, 
 and communications applications. Standard tools such as the Matched&lt;br /&gt;F
 ilter perform poorly when the signal-to-noise ratio (SNR) is less than abo
 ut -10 or -20 dB. Therefore\,&lt;br /&gt;the detection of these low SNR signals 
 requires the development of more sophisticated signal processing&lt;br /&gt;tech
 niques.&lt;/p&gt;\n&lt;p&gt;&lt;br /&gt;The chaotic detector is a non-linear detector that i
 s designed to couple to a weak signal of a given&lt;br /&gt;frequency\, while (i
 n principle) remaining immune to the background noise. In particular\, the
  non-linear&lt;br /&gt;Duffing Equation\, which describes the motion of a damped
 \, driven harmonic oscillator\, has proven to be&lt;br /&gt;exceptionally well-s
 uited to the detection of weak sinusoidal signals with SNR less than -30 d
 B.&lt;/p&gt;\n&lt;p&gt;&lt;br /&gt;This presentation will discuss the design\, performance\,
  and limitations of multiple implementations&lt;br /&gt;of Duffing detectors.&lt;/p
 &gt;\n&lt;p&gt;&amp;nbsp\;&lt;/p&gt;\n&lt;p&gt;Please email syed.tamseel@ieee.org with further ques
 tions and see below for the event day instructions:&lt;/p&gt;\n&lt;p&gt;&amp;nbsp\;&lt;/p&gt;\n&lt;
 p&gt;On the day of the event:&lt;/p&gt;\n&lt;p&gt;1. Lunch is served.&lt;/p&gt;\n&lt;p&gt;2. Parking 
 is available in the parking deck next to the GTRI conference center buildi
 ng. Simply pull up in front of the gate and it should lift up. Please park
  in the visitor spaces available on the 2nd floor of the parking deck. For
  further assistance with parking\, please email Reggie Ratcliff at &lt;span s
 tyle=&quot;color: #555555\; text-transform: none\; text-indent: 0px\; letter-sp
 acing: normal\; font-family: Roboto\, RobotoDraft\, Helvetica\, Arial\, sa
 ns-serif\; font-size: 12.8px\; font-style: normal\; font-weight: 400\; wor
 d-spacing: 0px\; float: none\; display: inline !important\; white-space: n
 ormal\; orphans: 2\; widows: 2\; background-color: #ffffff\; font-variant-
 ligatures: normal\; font-variant-caps: normal\; -webkit-text-stroke-width:
  0px\; text-decoration-style: initial\; text-decoration-color: initial\;&quot;&gt;
 Reggie.Ratcliff@gtri.gatech.edu.&lt;/span&gt;&lt;/p&gt;\n&lt;p&gt;&amp;nbsp\;&lt;/p&gt;
END:VEVENT
END:VCALENDAR

