BEGIN:VCALENDAR
VERSION:2.0
PRODID:IEEE vTools.Events//EN
CALSCALE:GREGORIAN
BEGIN:VTIMEZONE
TZID:US/Central
BEGIN:DAYLIGHT
DTSTART:20180311T030000
TZOFFSETFROM:-0600
TZOFFSETTO:-0500
RRULE:FREQ=YEARLY;BYDAY=2SU;BYMONTH=3
TZNAME:CDT
END:DAYLIGHT
BEGIN:STANDARD
DTSTART:20181104T010000
TZOFFSETFROM:-0500
TZOFFSETTO:-0600
RRULE:FREQ=YEARLY;BYDAY=1SU;BYMONTH=11
TZNAME:CST
END:STANDARD
END:VTIMEZONE
BEGIN:VEVENT
DTSTAMP:20190118T002401Z
UID:721E6374-CDEA-415B-98AD-835AF96AD35A
DTSTART;TZID=US/Central:20180925T174500
DTEND;TZID=US/Central:20180925T200000
DESCRIPTION:The IDEA Lab provides space and technology for collaboration\, 
 innovation\, and entrepreneurship and supports a wide range of digital sch
 olarship activities. The lab functions as a demonstration and prototyping 
 site for exploring the interface between design learning\, informatics\, v
 isualization\, and data analytics. It features the informatics innovations
  and pioneering technologies that make the Grainger Engineering Library In
 formation Center unique.\n\nAgenda: \n5:45-6:00 PM: Meet\, sign-in\, netwo
 rking time\n6:00-6:30 PM: Word from the Chair and dinner\n6:30-7:30 PM: To
 ur of the IDEA Lab\n7:30-8:00 PM: Clean-up\, wrap up.\n\nBldg: Grainger En
 gineering Library\, 1301 W Springfield Ave\, Urbana\, Illinois\, United St
 ates\, 61801
LOCATION:Bldg: Grainger Engineering Library\, 1301 W Springfield Ave\, Urba
 na\, Illinois\, United States\, 61801
ORGANIZER:jjmarck@gmail.com
SEQUENCE:3
SUMMARY:IDEA Lab Tour at Grainger Engineering Library
URL;VALUE=URI:https://events.vtools.ieee.org/m/177312
X-ALT-DESC:Description: &lt;br /&gt;&lt;p&gt;The IDEA Lab provides space and technology
  for collaboration\, innovation\, and entrepreneurship and supports a wide
  range of digital scholarship activities. The lab functions as a demonstra
 tion and prototyping site for exploring the interface between design learn
 ing\, informatics\, visualization\, and data analytics. It features the in
 formatics innovations and pioneering technologies that make the Grainger E
 ngineering Library Information Center unique.&lt;/p&gt;&lt;br /&gt;&lt;br /&gt;Agenda: &lt;br /
 &gt;&lt;div&gt;5:45-6:00 PM: Meet\, sign-in\, networking time&lt;/div&gt;\n&lt;div&gt;6:00-6:30
  PM: Word from the Chair and dinner&amp;nbsp\;&lt;/div&gt;\n&lt;div&gt;6:30-7:30 PM: Tour 
 of the IDEA Lab&lt;/div&gt;\n&lt;div&gt;7:30-8:00 PM: Clean-up\, wrap up.&lt;/div&gt;
END:VEVENT
END:VCALENDAR

