BEGIN:VCALENDAR
VERSION:2.0
PRODID:IEEE vTools.Events//EN
CALSCALE:GREGORIAN
BEGIN:VTIMEZONE
TZID:US/Eastern
BEGIN:DAYLIGHT
DTSTART:20180311T030000
TZOFFSETFROM:-0500
TZOFFSETTO:-0400
RRULE:FREQ=YEARLY;BYDAY=2SU;BYMONTH=3
TZNAME:EDT
END:DAYLIGHT
BEGIN:STANDARD
DTSTART:20181104T010000
TZOFFSETFROM:-0400
TZOFFSETTO:-0500
RRULE:FREQ=YEARLY;BYDAY=1SU;BYMONTH=11
TZNAME:EST
END:STANDARD
END:VTIMEZONE
BEGIN:VEVENT
DTSTAMP:20181028T140845Z
UID:302EC1B9-B1E9-4C8C-AD0D-F830D1A19644
DTSTART;TZID=US/Eastern:20181011T170000
DTEND;TZID=US/Eastern:20181011T200000
DESCRIPTION:Join us for dinner and learn more about the benefits of IEEE\, 
 Active Chapters\, Societies and Events within the Dayton Section.\n\nHelp 
 us celebrate IEEE Day during the month of October!\n\nCost (includes dinne
 r buffet\, dessert and beverages):\n\nIEEE Members: FREE\; Guests/Non-Memb
 ers: $10\n\nAgenda: \nRegistration &amp; Social: 5:00-5:30 PM\n\nDinner Buffet
 : 5:30-6:30 PM\n\nPresentation by Dayton Section Chair\, Dr. Charles Cerny
 : 6:00-6:45 PM\n\nIntroduction of Active Chapters &amp; Student Sections: 6:45
 -7:15 PM\n\nOpen Discussion and Door Prizes: 7:15-7:45 PM\n\nBldg: America
 n Czechoslovakian Club\, 922 Valley St\, Dayton\, Ohio\, United States
LOCATION:Bldg: American Czechoslovakian Club\, 922 Valley St\, Dayton\, Ohi
 o\, United States
ORGANIZER:fharlow@ieee.org
SEQUENCE:8
SUMMARY:IEEE Dayton Section Membership Orientation
URL;VALUE=URI:https://events.vtools.ieee.org/m/177765
X-ALT-DESC:Description: &lt;br /&gt;&lt;p&gt;Join us for dinner and learn more about th
 e benefits of IEEE\, Active Chapters\, Societies and Events within the Day
 ton Section.&lt;/p&gt;\n&lt;p&gt;Help us celebrate IEEE Day during the month of Octobe
 r!&lt;/p&gt;\n&lt;p&gt;&lt;strong&gt;Cost (includes dinner buffet\, dessert and beverages): 
 &lt;/strong&gt;&lt;/p&gt;\n&lt;p&gt;&lt;strong&gt;IEEE Members: FREE\; Guests/Non-Members:&amp;nbsp\;&lt;
 /strong&gt;&lt;strong&gt;$10&amp;nbsp\;&lt;/strong&gt;&lt;/p&gt;&lt;br /&gt;&lt;br /&gt;Agenda: &lt;br /&gt;&lt;p&gt;&lt;stron
 g&gt;Registration &amp;amp\; Social: &lt;/strong&gt;5:00-5:30 PM&lt;/p&gt;\n&lt;p&gt;&lt;strong&gt;Dinner
  Buffet:&amp;nbsp\;&lt;/strong&gt;5:30-6:30 PM&lt;/p&gt;\n&lt;p&gt;&lt;strong&gt;Presentation by Dayto
 n Section Chair\, Dr. Charles Cerny&lt;/strong&gt;: 6:00-6:45 PM&lt;/p&gt;\n&lt;p&gt;&lt;strong
 &gt;Introduction of&amp;nbsp\; Active Chapters &amp;amp\; Student Sections: &lt;/strong&gt;
 6:45-7:15 PM&lt;/p&gt;\n&lt;p&gt;&lt;strong&gt;Open Discussion and Door Prizes: &lt;/strong&gt;7:1
 5-7:45 PM&lt;/p&gt;
END:VEVENT
END:VCALENDAR

