BEGIN:VCALENDAR
VERSION:2.0
PRODID:IEEE vTools.Events//EN
CALSCALE:GREGORIAN
BEGIN:VTIMEZONE
TZID:America/Los_Angeles
BEGIN:DAYLIGHT
DTSTART:20180311T030000
TZOFFSETFROM:-0800
TZOFFSETTO:-0700
RRULE:FREQ=YEARLY;BYDAY=2SU;BYMONTH=3
TZNAME:PDT
END:DAYLIGHT
BEGIN:STANDARD
DTSTART:20181104T010000
TZOFFSETFROM:-0700
TZOFFSETTO:-0800
RRULE:FREQ=YEARLY;BYDAY=1SU;BYMONTH=11
TZNAME:PST
END:STANDARD
END:VTIMEZONE
BEGIN:VEVENT
DTSTAMP:20180925T184301Z
UID:154503AC-8A43-463A-8542-49D4268AAF6E
DTSTART;TZID=America/Los_Angeles:20181001T130000
DTEND;TZID=America/Los_Angeles:20181001T150000
DESCRIPTION:We will holding our 2nd soldering workshop of the semester! Due
  to popular demand on our first soldering workshop\, we are opening anothe
 r opportunity for those who did not get a chance to register. Like before 
 this event is a hands on learning workshop where you get the opportunity t
 o solder your own traffic light kit that you get to take home at the end!\
 n\nPrice: $15\n\nRoom: 164\, Bldg: Science\, 1600 Holloway Ave\, San Franc
 isco\, California\, United States
LOCATION:Room: 164\, Bldg: Science\, 1600 Holloway Ave\, San Francisco\, Ca
 lifornia\, United States
ORGANIZER:sfsu.ieee@gmail.com
SEQUENCE:0
SUMMARY:2nd Soldering Workshop - IEEE @ SFSU
URL;VALUE=URI:https://events.vtools.ieee.org/m/178024
X-ALT-DESC:Description: &lt;br /&gt;&lt;p&gt;We will holding our 2nd soldering workshop
  of the semester! Due to popular demand on our first soldering workshop\, 
 we are opening another opportunity for those who did not get a chance to r
 egister. Like before this event is a hands on learning workshop where you 
 get the opportunity to solder your own traffic light kit that you get to t
 ake home at the end!&lt;/p&gt;\n&lt;p&gt;Price: $15&lt;/p&gt;
END:VEVENT
END:VCALENDAR

