BEGIN:VCALENDAR
VERSION:2.0
PRODID:IEEE vTools.Events//EN
CALSCALE:GREGORIAN
BEGIN:VTIMEZONE
TZID:US/Eastern
BEGIN:DAYLIGHT
DTSTART:20190310T030000
TZOFFSETFROM:-0500
TZOFFSETTO:-0400
RRULE:FREQ=YEARLY;BYDAY=2SU;BYMONTH=3
TZNAME:EDT
END:DAYLIGHT
BEGIN:STANDARD
DTSTART:20181104T010000
TZOFFSETFROM:-0400
TZOFFSETTO:-0500
RRULE:FREQ=YEARLY;BYDAY=1SU;BYMONTH=11
TZNAME:EST
END:STANDARD
END:VTIMEZONE
BEGIN:VEVENT
DTSTAMP:20190122T221002Z
UID:685216AF-4A4D-41D8-8457-4DD6DA04EBE7
DTSTART;TZID=US/Eastern:20181112T114500
DTEND;TZID=US/Eastern:20181112T133000
DESCRIPTION:The Atlanta Signal Processing Chapter is honored to host Distin
 guished Industry Speaker Dr. Alfonso Farina for a Seminar on Radar technol
 ogies at GTRI.\n\nThis event is co-sponsored with the Atlanta AESS Chapter
 .\n\nDr. Farina will provide an in-depth look into the history of radar sy
 stems and radar signal processing\, from the beginning of radar to adaptiv
 e antenna arrays\, including examples such as ground based radar systems\,
  STAP for airborne radars\, knowledge-based STAP\, and Over the Horizon ra
 dar systems.\n\nThe IEEE SP Distinguished Industry Speaker (DIS) Program p
 rovides means for chapters to have access to individuals who are recognize
 d experts with a background in industrial applications in the signal proce
 ssing area and are well versed in the ongoing issues and activities in ind
 ustry.\n\nDr. Farina has more than 30 years of experience in radar systems
  and radar signal processing in both industry and academia. His achievemen
 ts are recognized internationally with more than 700 peer reviewed publica
 tions and some very prestigious awards\, including the IEEE Dennis J. Pica
 rd Medal for Radar Technologies and Application in 2010 and the appointmen
 t to International Fellow of the Royal Academy of Engineering\, U.K. in 20
 05.\n\nhttps://en.wikipedia.org/wiki/Alfonso_Farina\n\nParking at the CCRF
  GTRI Research Facility is limited but available without charge.\n\nIEEE S
 PS ATLANTA Facebook page: https://www.facebook.com/IEEESPSATL/\n\nCo-spons
 ored by: Atlanta AESS Chapter\n\nAgenda: \n11:45 AM - 12:00 PM - Lunch\n\n
 12:00 PM - 1:00 PM - Lectrue: Radar Adaptivity: Antenna Based Signal Proce
 ssing (Introduction by Dr. Bill Melvin)\n\n1:00 PM - 1:30 PM - Q&amp;A and Rec
 eption to Follow\n\nRoom: Bldg 1 - 107\, Bldg: GTRI Cobb County Research F
 acility\, 7220 Richardson Rd\, Smyrna\, Georgia\, United States\, 30080
LOCATION:Room: Bldg 1 - 107\, Bldg: GTRI Cobb County Research Facility\, 72
 20 Richardson Rd\, Smyrna\, Georgia\, United States\, 30080
ORGANIZER:alessio.medda@gtri.gatech.edu
SEQUENCE:8
SUMMARY:SPS Atlanta Distinguished Industry Lecture @ GTRI - Radar Adaptivit
 y: Antenna Based Signal Processing
URL;VALUE=URI:https://events.vtools.ieee.org/m/178883
X-ALT-DESC:Description: &lt;br /&gt;&lt;p&gt;&lt;strong&gt;The Atlanta Signal Processing Chap
 ter is honored to host Distinguished Industry Speaker Dr. Alfonso Farina f
 or a Seminar on Radar technologies at GTRI.&amp;nbsp\;&lt;/strong&gt;&lt;/p&gt;\n&lt;p&gt;&lt;stron
 g&gt;This event is co-sponsored with the Atlanta AESS Chapter.&lt;/strong&gt;&lt;/p&gt;\n
 &lt;p&gt;Dr. Farina will provide an in-depth look into the history of radar syst
 ems and radar signal processing\, from the beginning of radar to adaptive 
 antenna arrays\, including examples such as ground based radar systems\, S
 TAP for airborne radars\, knowledge-based STAP\, and Over the Horizon rada
 r systems.&lt;/p&gt;\n&lt;p&gt;The IEEE SP Distinguished Industry Speaker (DIS) Progra
 m provides means for chapters to have access to individuals who are recogn
 ized experts with a background in industrial applications in the signal pr
 ocessing area and are well versed in the ongoing issues and activities in 
 industry.&amp;nbsp\;&lt;/p&gt;\n&lt;p&gt;Dr. Farina has more than 30 years of experience i
 n radar systems and radar signal processing in both industry and academia.
  His achievements are recognized internationally with more than 700 peer r
 eviewed publications and some very prestigious awards\, including the&amp;nbsp
 \;IEEE Dennis J. Picard Medal for Radar Technologies and Application in 20
 10 and the appointment to International Fellow of the Royal Academy of Eng
 ineering\, U.K. in 2005.&lt;/p&gt;\n&lt;p&gt;&lt;a href=&quot;https://en.wikipedia.org/wiki/Al
 fonso_Farina&quot; target=&quot;_blank&quot; rel=&quot;noopener&quot;&gt;https://en.wikipedia.org/wiki
 /Alfonso_Farina&lt;/a&gt;&lt;/p&gt;\n&lt;p&gt;&lt;strong&gt;Parking&lt;/strong&gt; at the CCRF GTRI Rese
 arch Facility is limited but available without charge.&lt;/p&gt;\n&lt;p&gt;&amp;nbsp\;&lt;/p&gt;
 \n&lt;p&gt;&lt;strong&gt;IEEE SPS ATLANTA Facebook page&lt;/strong&gt;: &lt;a href=&quot;https://www
 .facebook.com/IEEESPSATL/&quot; target=&quot;_blank&quot; rel=&quot;noopener&quot;&gt;https://www.face
 book.com/IEEESPSATL/&lt;/a&gt;&lt;/p&gt;&lt;br /&gt;&lt;br /&gt;Agenda: &lt;br /&gt;&lt;p&gt;11:45 AM - 12:00 
 PM - Lunch&amp;nbsp\;&lt;/p&gt;\n&lt;p&gt;12:00 PM -&amp;nbsp\; &amp;nbsp\;1:00 PM - &lt;strong&gt;Lectr
 ue:&amp;nbsp\; Radar Adaptivity: Antenna Based Signal Processing (Introduction
  by Dr. Bill Melvin)&lt;/strong&gt;&lt;/p&gt;\n&lt;p&gt;&amp;nbsp\; 1:00 PM -&amp;nbsp\; &amp;nbsp\;1:30
  PM - Q&amp;amp\;A and Reception to Follow&lt;/p&gt;
END:VEVENT
END:VCALENDAR

