BEGIN:VCALENDAR
VERSION:2.0
PRODID:IEEE vTools.Events//EN
CALSCALE:GREGORIAN
BEGIN:VTIMEZONE
TZID:America/New_York
BEGIN:DAYLIGHT
DTSTART:20190310T030000
TZOFFSETFROM:-0500
TZOFFSETTO:-0400
RRULE:FREQ=YEARLY;BYDAY=2SU;BYMONTH=3
TZNAME:EDT
END:DAYLIGHT
BEGIN:STANDARD
DTSTART:20181104T010000
TZOFFSETFROM:-0400
TZOFFSETTO:-0500
RRULE:FREQ=YEARLY;BYDAY=1SU;BYMONTH=11
TZNAME:EST
END:STANDARD
END:VTIMEZONE
BEGIN:VEVENT
DTSTAMP:20190426T132057Z
UID:4DD5E30B-99AE-412E-9D7D-EFD248C833AC
DTSTART;TZID=America/New_York:20181204T180000
DTEND;TZID=America/New_York:20181204T203000
DESCRIPTION:Feed your body\, feed your mind! Join us for a distinguished le
 cture sponsored by the Circuits and Systems Society.\n\nCome at 6pm for fo
 od and networking. The lecture will start at 7pm.\n\nThe lecture is in Roo
 m 2460 of the A.V. Williams Building at the University of Maryland. Unrest
 ricted parking is available after 4pm in Lot H nearby (see map). There is 
 also handicapped parking available in Lot GG2 in front of the building.\n\
 nSpeaker(s): Hai &quot;Helen&quot; Li\, \n\nAgenda: \n6pm: Dinner and Networking\n\n
 7pm: Lecture\n\nRoom: 2460\, Bldg: A. V. Williams Building (Building 115)\
 , 8223 Paint Branch Drive\, College Park\, Maryland\, United States\, 2074
 2
LOCATION:Room: 2460\, Bldg: A. V. Williams Building (Building 115)\, 8223 P
 aint Branch Drive\, College Park\, Maryland\, United States\, 20742
ORGANIZER:pabshire@umd.edu
SEQUENCE:9
SUMMARY:Circuits and Systems Distinguished Lecture
URL;VALUE=URI:https://events.vtools.ieee.org/m/182898
X-ALT-DESC:Description: &lt;br /&gt;&lt;p&gt;Feed your body\, feed your mind! Join us f
 or a distinguished lecture sponsored by the Circuits and Systems Society.&lt;
 /p&gt;\n&lt;p&gt;Come at 6pm for food and networking.&amp;nbsp\; The lecture will start
  at 7pm.&amp;nbsp\;&amp;nbsp\;&lt;/p&gt;\n&lt;p&gt;The lecture is in Room 2460 of the A.V. Wil
 liams Building at the University of Maryland. Unrestricted parking is avai
 lable after 4pm in Lot H nearby&amp;nbsp\; (see map).&amp;nbsp\; There is also han
 dicapped parking available in Lot GG2 in front of the building.&lt;/p&gt;&lt;br /&gt;&lt;
 br /&gt;Agenda: &lt;br /&gt;&lt;p&gt;6pm: Dinner and Networking&lt;/p&gt;\n&lt;p&gt;7pm: Lecture&lt;/p&gt;
END:VEVENT
END:VCALENDAR

