BEGIN:VCALENDAR
VERSION:2.0
PRODID:IEEE vTools.Events//EN
CALSCALE:GREGORIAN
BEGIN:VTIMEZONE
TZID:Indian/Christmas
BEGIN:DAYLIGHT
DTSTART:20380119T101407
TZOFFSETFROM:+0700
TZOFFSETTO:+0700
RRULE:FREQ=YEARLY;BYDAY=3TU;BYMONTH=1
TZNAME:+07
END:DAYLIGHT
BEGIN:STANDARD
DTSTART:19200401T001756
TZOFFSETFROM:+0642
TZOFFSETTO:+0700
RRULE:FREQ=YEARLY;BYDAY=1TH;BYMONTH=4
TZNAME:+07
END:STANDARD
END:VTIMEZONE
BEGIN:VEVENT
DTSTAMP:20181207T175058Z
UID:DFF5D054-3B5D-4E7F-A61C-BF6D6BC34288
DTSTART;TZID=Indian/Christmas:20181112T111500
DTEND;TZID=Indian/Christmas:20181112T160000
DESCRIPTION:A one day industrial visit to Infosys Nethra Campus located at 
 Mudipu\, Mangaluru was jointly organized by IEEE Student Branch and ISTE S
 tudent Chapter for the final year CSE students on 12 November 2018. Totall
 y 83 CSE students visited the campus accompanied by three faculty members 
 Mr.Venugopal Rao A S\, Mr.Manoj T and Ms. Swathi Prabhu.\n\nAs a part of t
 his visit\, students were initially taken through the introductory session
  by Ms. Veena Amrith\, Senior Member\, Education Training and Assessment \
 , Infosys which involved overview about the wide range of products as well
  as services\, work culture and CSR activities carried out by Infosys. Thi
 s was followed by the technical sessions by Mr.Suryanarayana and Mr.Vipin 
 Sai\, Lead Trainers\, Infosys where they emphasized need for continuous le
 arning and upskilling oneselves with niche technologies such as Robotic Pr
 ocess Automation\, Blockchain Technology\, Devops and Cloud storage.\n\nTh
 e campus tour followed soon after the technical sessions where students we
 re apprised regarding the functioning of a software industry.\n\nMudipu\, 
 Karnataka\, India
LOCATION:Mudipu\, Karnataka\, India
ORGANIZER:vasudeva.cs.smvitm@ieee.org
SEQUENCE:0
SUMMARY:Industrial Visit to Infosys Nethra Campus\, Mudipu\, Mangalore
URL;VALUE=URI:https://events.vtools.ieee.org/m/183762
X-ALT-DESC:Description: &lt;br /&gt;&lt;p&gt;&lt;span style=&quot;font-weight: 400\;&quot;&gt;A one day
  industrial visit to Infosys Nethra Campus located at Mudipu\, Mangaluru w
 as jointly organized by IEEE Student Branch and ISTE Student Chapter for t
 he final year CSE students on 12 November 2018. Totally 83 CSE students vi
 sited the campus accompanied by three faculty members Mr.Venugopal Rao A S
 \, Mr.Manoj T and Ms. Swathi Prabhu.&lt;/span&gt;&lt;/p&gt;\n&lt;p&gt;&lt;span style=&quot;font-weig
 ht: 400\;&quot;&gt;As a part of this visit\, students were initially taken through
  the introductory session by Ms. Veena Amrith\, Senior Member\, Education 
 Training and Assessment \, Infosys which involved overview about the wide 
 range of products as well as services\, work culture and CSR activities ca
 rried out by Infosys. This was followed by the technical sessions by Mr.Su
 ryanarayana and Mr.Vipin Sai\, Lead Trainers\, Infosys where they emphasiz
 ed need for continuous learning and upskilling oneselves with niche techno
 logies such as Robotic Process Automation\, Blockchain Technology\, Devops
  and Cloud storage.&lt;/span&gt;&lt;/p&gt;\n&lt;p&gt;&lt;span style=&quot;font-weight: 400\;&quot;&gt;The ca
 mpus tour followed soon after the technical sessions where students were a
 pprised regarding the functioning of a software industry.&lt;/span&gt;&lt;/p&gt;\n&lt;p&gt;&amp;
 nbsp\;&lt;/p&gt;
END:VEVENT
END:VCALENDAR

